BEGIN:VCALENDAR
PRODID:-//nuDatenautomaten//framework iCal4j //DE
VERSION:2.0
CALSCALE:GREGORIAN
BEGIN:VTIMEZONE
TZID:Europe/Berlin
LAST-MODIFIED:20260306T231828Z
TZURL:https://www.tzurl.org/zoneinfo/Europe/Berlin
X-LIC-LOCATION:Europe/Berlin
X-PROLEPTIC-TZNAME:LMT
BEGIN:STANDARD
TZNAME:CET
TZOFFSETFROM:+005328
TZOFFSETTO:+0100
DTSTART:18930401T000000
END:STANDARD
BEGIN:DAYLIGHT
TZNAME:CEST
TZOFFSETFROM:+0100
TZOFFSETTO:+0200
DTSTART:19160430T230000
RDATE:19400401T020000
RDATE:19430329T020000
RDATE:19460414T020000
RDATE:19470406T030000
RDATE:19480418T020000
RDATE:19490410T020000
RDATE:19800406T020000
END:DAYLIGHT
BEGIN:STANDARD
TZNAME:CET
TZOFFSETFROM:+0200
TZOFFSETTO:+0100
DTSTART:19161001T010000
RDATE:19421102T030000
RDATE:19431004T030000
RDATE:19441002T030000
RDATE:19451118T030000
RDATE:19461007T030000
END:STANDARD
BEGIN:DAYLIGHT
TZNAME:CEST
TZOFFSETFROM:+0100
TZOFFSETTO:+0200
DTSTART:19170416T020000
RRULE:FREQ=YEARLY;UNTIL=19180415T010000Z;BYMONTH=4;BYDAY=3MO
END:DAYLIGHT
BEGIN:STANDARD
TZNAME:CET
TZOFFSETFROM:+0200
TZOFFSETTO:+0100
DTSTART:19170917T030000
RRULE:FREQ=YEARLY;UNTIL=19180916T010000Z;BYMONTH=9;BYDAY=3MO
END:STANDARD
BEGIN:DAYLIGHT
TZNAME:CEST
TZOFFSETFROM:+0100
TZOFFSETTO:+0200
DTSTART:19440403T020000
RRULE:FREQ=YEARLY;UNTIL=19450402T010000Z;BYMONTH=4;BYDAY=1MO
END:DAYLIGHT
BEGIN:DAYLIGHT
TZNAME:CEMT
TZOFFSETFROM:+0200
TZOFFSETTO:+0300
DTSTART:19450524T020000
RDATE:19470511T030000
END:DAYLIGHT
BEGIN:DAYLIGHT
TZNAME:CEST
TZOFFSETFROM:+0300
TZOFFSETTO:+0200
DTSTART:19450924T030000
RDATE:19470629T030000
END:DAYLIGHT
BEGIN:STANDARD
TZNAME:CET
TZOFFSETFROM:+0100
TZOFFSETTO:+0100
DTSTART:19460101T000000
RDATE:19800101T000000
END:STANDARD
BEGIN:STANDARD
TZNAME:CET
TZOFFSETFROM:+0200
TZOFFSETTO:+0100
DTSTART:19471005T030000
RRULE:FREQ=YEARLY;UNTIL=19491002T010000Z;BYMONTH=10;BYDAY=1SU
END:STANDARD
BEGIN:STANDARD
TZNAME:CET
TZOFFSETFROM:+0200
TZOFFSETTO:+0100
DTSTART:19800928T030000
RRULE:FREQ=YEARLY;UNTIL=19950924T010000Z;BYMONTH=9;BYDAY=-1SU
END:STANDARD
BEGIN:DAYLIGHT
TZNAME:CEST
TZOFFSETFROM:+0100
TZOFFSETTO:+0200
DTSTART:19810329T020000
RRULE:FREQ=YEARLY;BYMONTH=3;BYDAY=-1SU
END:DAYLIGHT
BEGIN:STANDARD
TZNAME:CET
TZOFFSETFROM:+0200
TZOFFSETTO:+0100
DTSTART:19961027T030000
RRULE:FREQ=YEARLY;BYMONTH=10;BYDAY=-1SU
END:STANDARD
END:VTIMEZONE
BEGIN:VEVENT
DTSTAMP:20260424T132034Z
DTSTART;TZID=Europe/Berlin:20251206T150000
DTEND;TZID=Europe/Berlin:20251206T180000
SUMMARY:HE NLC Gr. 2 UGS-Chênois III vs Ostermundigen II (25)
UID:aa467ebe-9f78-4202-9085-29a0823e92dd
STATUS:CONFIRMED
LAST-MODIFIED:20251209T094737Z
DESCRIPTION:Herren Nationalliga C Gruppe 2\nBegegnungs-Nr: 25\nHeim: UGS-Chênois III\nGast: Ostermundigen II\n\nAdresse: Route de Frontenex 68\, 1208 Genève\n
LOCATION:Route de Frontenex 68\, 1208 Genève
CATEGORIES:Saison 2025/26
END:VEVENT
BEGIN:VEVENT
DTSTAMP:20260424T132034Z
DTSTART;TZID=Europe/Berlin:20250921T150000
DTEND;TZID=Europe/Berlin:20250921T180000
SUMMARY:HE NLC Gr. 2 UGS-Chênois III vs Rossens (5)
UID:4465a048-10f5-4b46-9053-3370687a6101
STATUS:CONFIRMED
LAST-MODIFIED:20250922T080659Z
DESCRIPTION:Herren Nationalliga C Gruppe 2\nBegegnungs-Nr: 5\nHeim: UGS-Chênois III\nGast: Rossens\n\nAdresse: Route de Frontenex 68\, 1208 Genève\n
LOCATION:Route de Frontenex 68\, 1208 Genève
CATEGORIES:Saison 2025/26
END:VEVENT
BEGIN:VEVENT
DTSTAMP:20260424T132034Z
DTSTART;TZID=Europe/Berlin:20251123T150000
DTEND;TZID=Europe/Berlin:20251123T180000
SUMMARY:HE NLC Gr. 2 UGS-Chênois III vs Burgdorf II (24)
UID:8ec13e1e-c0a1-4fb0-b3b2-5a295c261565
STATUS:CONFIRMED
LAST-MODIFIED:20251126T101644Z
DESCRIPTION:Herren Nationalliga C Gruppe 2\nBegegnungs-Nr: 24\nHeim: UGS-Chênois III\nGast: Burgdorf II\n\nAdresse: Route de Frontenex 68\, 1208 Genève\n
LOCATION:Route de Frontenex 68\, 1208 Genève
CATEGORIES:Saison 2025/26
END:VEVENT
BEGIN:VEVENT
DTSTAMP:20260424T132034Z
DTSTART;TZID=Europe/Berlin:20251026T150000
DTEND;TZID=Europe/Berlin:20251026T180000
SUMMARY:HE NLC Gr. 2 UGS-Chênois III vs Sierre (16)
UID:63d4e016-6ab9-48a2-a422-657a316596f7
STATUS:CONFIRMED
LAST-MODIFIED:20251029T082420Z
DESCRIPTION:Herren Nationalliga C Gruppe 2\nBegegnungs-Nr: 16\nHeim: UGS-Chênois III\nGast: Sierre\n\nAdresse: Route de Frontenex 68\, 1208 Genève\n
LOCATION:Route de Frontenex 68\, 1208 Genève
CATEGORIES:Saison 2025/26
END:VEVENT
BEGIN:VEVENT
DTSTAMP:20260424T132034Z
DTSTART;TZID=Europe/Berlin:20260111T130000
DTEND;TZID=Europe/Berlin:20260111T160000
SUMMARY:HE NLC Gr. 2 UGS-Chênois III vs Fribourg (1)
UID:6d5cf2b7-4f0a-4df5-99c5-2e178b1e9ee7
STATUS:CONFIRMED
LAST-MODIFIED:20260112T203301Z
DESCRIPTION:Herren Nationalliga C Gruppe 2\nBegegnungs-Nr: 1\nHeim: UGS-Chênois III\nGast: Fribourg\n\nAdresse: Route de Frontenex 68\, 1208 Genève\n
LOCATION:Route de Frontenex 68\, 1208 Genève
CATEGORIES:Saison 2025/26
END:VEVENT
BEGIN:VEVENT
DTSTAMP:20260424T132034Z
DTSTART;TZID=Europe/Berlin:20260221T130000
DTEND;TZID=Europe/Berlin:20260221T160000
SUMMARY:HE NLC Gr. 2 UGS-Chênois III vs Port (11)
UID:df5afec2-7ea7-4657-be18-de1866921fba
STATUS:CONFIRMED
LAST-MODIFIED:20260223T153449Z
DESCRIPTION:Herren Nationalliga C Gruppe 2\nBegegnungs-Nr: 11\nHeim: UGS-Chênois III\nGast: Port\n\nAdresse: Route de Frontenex 68\, 1208 Genève\n
LOCATION:Route de Frontenex 68\, 1208 Genève
CATEGORIES:Saison 2025/26
END:VEVENT
BEGIN:VEVENT
DTSTAMP:20260424T132034Z
DTSTART;TZID=Europe/Berlin:20260329T150000
DTEND;TZID=Europe/Berlin:20260329T180000
SUMMARY:HE NLC Gr. 2 UGS-Chênois III vs La Chaux-de-Fonds (20)
UID:25b48444-0c3d-4bd8-bf93-3300ea6d90a2
STATUS:CONFIRMED
LAST-MODIFIED:20260330T080043Z
DESCRIPTION:Herren Nationalliga C Gruppe 2\nBegegnungs-Nr: 20\nHeim: UGS-Chênois III\nGast: La Chaux-de-Fonds\n\nAdresse: Route de Frontenex 68\, 1208 Genève\n
LOCATION:Route de Frontenex 68\, 1208 Genève
CATEGORIES:Saison 2025/26
END:VEVENT
BEGIN:VEVENT
DTSTAMP:20260424T132034Z
DTSTART;TZID=Europe/Berlin:20251108T181500
DTEND;TZID=Europe/Berlin:20251108T211500
SUMMARY:HE NLC Gr. 2 La Chaux-de-Fonds vs UGS-Chênois III (20)
UID:8809e107-2e7e-487d-b29b-4be0623addbc
STATUS:CONFIRMED
LAST-MODIFIED:20251110T073042Z
DESCRIPTION:Herren Nationalliga C Gruppe 2\nBegegnungs-Nr: 20\nHeim: La Chaux-de-Fonds\nGast: UGS-Chênois III\n\nAdresse: Rue du Docteur-Kern 14\, 2300 La Chaux-de-Fonds\n
LOCATION:Rue du Docteur-Kern 14\, 2300 La Chaux-de-Fonds
CATEGORIES:Saison 2025/26
END:VEVENT
BEGIN:VEVENT
DTSTAMP:20260424T132034Z
DTSTART;TZID=Europe/Berlin:20250914T180000
DTEND;TZID=Europe/Berlin:20250914T210000
SUMMARY:HE NLC Gr. 2 Fribourg vs UGS-Chênois III (1)
UID:94a0f4c4-c3a9-4bc1-a07c-01735da53377
STATUS:CONFIRMED
LAST-MODIFIED:20250918T112345Z
DESCRIPTION:Herren Nationalliga C Gruppe 2\nBegegnungs-Nr: 1\nHeim: Fribourg\nGast: UGS-Chênois III\n\nAdresse: Avenue Général Guisan 61\, 1700 Fribourg\n
LOCATION:Avenue Général Guisan 61\, 1700 Fribourg
CATEGORIES:Saison 2025/26
END:VEVENT
BEGIN:VEVENT
DTSTAMP:20260424T132034Z
DTSTART;TZID=Europe/Berlin:20251011T140000
DTEND;TZID=Europe/Berlin:20251011T170000
SUMMARY:HE NLC Gr. 2 Port vs UGS-Chênois III (11)
UID:bf15dedd-08a2-4577-a820-5df688589697
STATUS:CONFIRMED
LAST-MODIFIED:20251016T145445Z
DESCRIPTION:Herren Nationalliga C Gruppe 2\nBegegnungs-Nr: 11\nHeim: Port\nGast: UGS-Chênois III\n\nAdresse: Allmendstrasse 23\, 2562 Port\n
LOCATION:Allmendstrasse 23\, 2562 Port
CATEGORIES:Saison 2025/26
END:VEVENT
BEGIN:VEVENT
DTSTAMP:20260424T132034Z
DTSTART;TZID=Europe/Berlin:20260131T150000
DTEND;TZID=Europe/Berlin:20260131T180000
SUMMARY:HE NLC Gr. 2 Rossens vs UGS-Chênois III (5)
UID:1160c42d-97a5-4487-8e1b-d3a8e5e73882
STATUS:CONFIRMED
LAST-MODIFIED:20260203T081326Z
DESCRIPTION:Herren Nationalliga C Gruppe 2\nBegegnungs-Nr: 5\nHeim: Rossens\nGast: UGS-Chênois III\n\nAdresse: Route du Jordil 14\, 1728 Rossens\n
LOCATION:Route du Jordil 14\, 1728 Rossens
CATEGORIES:Saison 2025/26
END:VEVENT
BEGIN:VEVENT
DTSTAMP:20260424T132034Z
DTSTART;TZID=Europe/Berlin:20260418T140000
DTEND;TZID=Europe/Berlin:20260418T170000
SUMMARY:HE NLC Gr. 2 Burgdorf II vs UGS-Chênois III (24)
UID:e8b78a58-11f4-4a73-a99a-5e34285e8e82
STATUS:CONFIRMED
LAST-MODIFIED:20260420T082853Z
DESCRIPTION:Herren Nationalliga C Gruppe 2\nBegegnungs-Nr: 24\nHeim: Burgdorf II\nGast: UGS-Chênois III\n\nAdresse: Pestalozzistrasse 69\, 3400 Burgdorf\n
LOCATION:Pestalozzistrasse 69\, 3400 Burgdorf
CATEGORIES:Saison 2025/26
END:VEVENT
BEGIN:VEVENT
DTSTAMP:20260424T132034Z
DTSTART;TZID=Europe/Berlin:20260228T170000
DTEND;TZID=Europe/Berlin:20260228T200000
SUMMARY:HE NLC Gr. 2 Sierre vs UGS-Chênois III (16)
UID:5710ebd2-2c20-453c-890d-631b00ef7eb8
STATUS:CONFIRMED
LAST-MODIFIED:20260302T214830Z
DESCRIPTION:Herren Nationalliga C Gruppe 2\nBegegnungs-Nr: 16\nHeim: Sierre\nGast: UGS-Chênois III\n\nAdresse: Rte des Liddes 6\, 3960 Sierre\n
LOCATION:Rte des Liddes 6\, 3960 Sierre
CATEGORIES:Saison 2025/26
END:VEVENT
BEGIN:VEVENT
DTSTAMP:20260424T132034Z
DTSTART;TZID=Europe/Berlin:20260419T140000
DTEND;TZID=Europe/Berlin:20260419T170000
SUMMARY:HE NLC Gr. 2 Ostermundigen II vs UGS-Chênois III (25)
UID:55e5b7a7-a839-4418-b653-6e30678881c6
STATUS:CONFIRMED
LAST-MODIFIED:20260420T083108Z
DESCRIPTION:Herren Nationalliga C Gruppe 2\nBegegnungs-Nr: 25\nHeim: Ostermundigen II\nGast: UGS-Chênois III\n\nAdresse: Dennigkofenweg 169\, 3072 Ostermundigen\n
LOCATION:Dennigkofenweg 169\, 3072 Ostermundigen
CATEGORIES:Saison 2025/26
END:VEVENT
END:VCALENDAR
