BEGIN:VCALENDAR
PRODID:-//nuDatenautomaten//framework iCal4j //DE
VERSION:2.0
CALSCALE:GREGORIAN
BEGIN:VTIMEZONE
TZID:Europe/Berlin
LAST-MODIFIED:20260306T231828Z
TZURL:https://www.tzurl.org/zoneinfo/Europe/Berlin
X-LIC-LOCATION:Europe/Berlin
X-PROLEPTIC-TZNAME:LMT
BEGIN:STANDARD
TZNAME:CET
TZOFFSETFROM:+005328
TZOFFSETTO:+0100
DTSTART:18930401T000000
END:STANDARD
BEGIN:DAYLIGHT
TZNAME:CEST
TZOFFSETFROM:+0100
TZOFFSETTO:+0200
DTSTART:19160430T230000
RDATE:19400401T020000
RDATE:19430329T020000
RDATE:19460414T020000
RDATE:19470406T030000
RDATE:19480418T020000
RDATE:19490410T020000
RDATE:19800406T020000
END:DAYLIGHT
BEGIN:STANDARD
TZNAME:CET
TZOFFSETFROM:+0200
TZOFFSETTO:+0100
DTSTART:19161001T010000
RDATE:19421102T030000
RDATE:19431004T030000
RDATE:19441002T030000
RDATE:19451118T030000
RDATE:19461007T030000
END:STANDARD
BEGIN:DAYLIGHT
TZNAME:CEST
TZOFFSETFROM:+0100
TZOFFSETTO:+0200
DTSTART:19170416T020000
RRULE:FREQ=YEARLY;UNTIL=19180415T010000Z;BYMONTH=4;BYDAY=3MO
END:DAYLIGHT
BEGIN:STANDARD
TZNAME:CET
TZOFFSETFROM:+0200
TZOFFSETTO:+0100
DTSTART:19170917T030000
RRULE:FREQ=YEARLY;UNTIL=19180916T010000Z;BYMONTH=9;BYDAY=3MO
END:STANDARD
BEGIN:DAYLIGHT
TZNAME:CEST
TZOFFSETFROM:+0100
TZOFFSETTO:+0200
DTSTART:19440403T020000
RRULE:FREQ=YEARLY;UNTIL=19450402T010000Z;BYMONTH=4;BYDAY=1MO
END:DAYLIGHT
BEGIN:DAYLIGHT
TZNAME:CEMT
TZOFFSETFROM:+0200
TZOFFSETTO:+0300
DTSTART:19450524T020000
RDATE:19470511T030000
END:DAYLIGHT
BEGIN:DAYLIGHT
TZNAME:CEST
TZOFFSETFROM:+0300
TZOFFSETTO:+0200
DTSTART:19450924T030000
RDATE:19470629T030000
END:DAYLIGHT
BEGIN:STANDARD
TZNAME:CET
TZOFFSETFROM:+0100
TZOFFSETTO:+0100
DTSTART:19460101T000000
RDATE:19800101T000000
END:STANDARD
BEGIN:STANDARD
TZNAME:CET
TZOFFSETFROM:+0200
TZOFFSETTO:+0100
DTSTART:19471005T030000
RRULE:FREQ=YEARLY;UNTIL=19491002T010000Z;BYMONTH=10;BYDAY=1SU
END:STANDARD
BEGIN:STANDARD
TZNAME:CET
TZOFFSETFROM:+0200
TZOFFSETTO:+0100
DTSTART:19800928T030000
RRULE:FREQ=YEARLY;UNTIL=19950924T010000Z;BYMONTH=9;BYDAY=-1SU
END:STANDARD
BEGIN:DAYLIGHT
TZNAME:CEST
TZOFFSETFROM:+0100
TZOFFSETTO:+0200
DTSTART:19810329T020000
RRULE:FREQ=YEARLY;BYMONTH=3;BYDAY=-1SU
END:DAYLIGHT
BEGIN:STANDARD
TZNAME:CET
TZOFFSETFROM:+0200
TZOFFSETTO:+0100
DTSTART:19961027T030000
RRULE:FREQ=YEARLY;BYMONTH=10;BYDAY=-1SU
END:STANDARD
END:VTIMEZONE
BEGIN:VEVENT
DTSTAMP:20260424T135914Z
DTSTART;TZID=Europe/Berlin:20260213T200000
DTEND;TZID=Europe/Berlin:20260213T230000
SUMMARY:HE 5. Liga Gr. 4 Schöftland V vs Aarau V (0)
UID:b9970972-f6a5-4137-9e99-8e6dd437421c
STATUS:CONFIRMED
LAST-MODIFIED:20260218T071657Z
DESCRIPTION:5. Liga Herren Gruppe 4\nBegegnungs-Nr: 0\nHeim: Schöftland V\nGast: Aarau V\n\nAdresse: Birkenweg\, 5040 Schöftland\n
LOCATION:Birkenweg\, 5040 Schöftland
CATEGORIES:Saison 2025/26
END:VEVENT
BEGIN:VEVENT
DTSTAMP:20260424T135914Z
DTSTART;TZID=Europe/Berlin:20260209T200000
DTEND;TZID=Europe/Berlin:20260209T230000
SUMMARY:HE 5. Liga Gr. 4 Schöftland V vs Menziken II (0)
UID:4759a9a8-aaff-40f9-8c14-8602e1c75cc1
STATUS:CONFIRMED
LAST-MODIFIED:20260211T100220Z
DESCRIPTION:5. Liga Herren Gruppe 4\nBegegnungs-Nr: 0\nHeim: Schöftland V\nGast: Menziken II\n\nAdresse: Birkenweg\, 5040 Schöftland\n
LOCATION:Birkenweg\, 5040 Schöftland
CATEGORIES:Saison 2025/26
END:VEVENT
BEGIN:VEVENT
DTSTAMP:20260424T135914Z
DTSTART;TZID=Europe/Berlin:20260323T200000
DTEND;TZID=Europe/Berlin:20260323T230000
SUMMARY:HE 5. Liga Gr. 4 Schöftland V vs Baden-Wettingen VI (0)
UID:17b5412c-17fa-4019-b109-d5cb3f07d62a
STATUS:CONFIRMED
LAST-MODIFIED:20260416T094157Z
DESCRIPTION:5. Liga Herren Gruppe 4\nBegegnungs-Nr: 0\nHeim: Schöftland V\nGast: Baden-Wettingen VI\n\nAdresse: Birkenweg\, 5040 Schöftland\n
LOCATION:Birkenweg\, 5040 Schöftland
CATEGORIES:Saison 2025/26
END:VEVENT
BEGIN:VEVENT
DTSTAMP:20260424T135914Z
DTSTART;TZID=Europe/Berlin:20250818T200000
DTEND;TZID=Europe/Berlin:20250818T230000
SUMMARY:HE 5. Liga Gr. 4 Schöftland V vs Bremgarten VIII (0)
UID:22df1ddc-0c61-45a3-b6e8-3f54e17d1b81
STATUS:CONFIRMED
LAST-MODIFIED:20250912T170109Z
DESCRIPTION:5. Liga Herren Gruppe 4\nBegegnungs-Nr: 0\nHeim: Schöftland V\nGast: Bremgarten VIII\n\nAdresse: Birkenweg\, 5040 Schöftland\n
LOCATION:Birkenweg\, 5040 Schöftland
CATEGORIES:Saison 2025/26
END:VEVENT
BEGIN:VEVENT
DTSTAMP:20260424T135914Z
DTSTART;TZID=Europe/Berlin:20250908T200000
DTEND;TZID=Europe/Berlin:20250908T230000
SUMMARY:HE 5. Liga Gr. 4 Schöftland V vs Zofingen III (0)
UID:4b48a9c8-1ce1-42b1-9508-80beacfe144f
STATUS:CONFIRMED
LAST-MODIFIED:20250912T144447Z
DESCRIPTION:5. Liga Herren Gruppe 4\nBegegnungs-Nr: 0\nHeim: Schöftland V\nGast: Zofingen III\n\nAdresse: Birkenweg\, 5040 Schöftland\n
LOCATION:Birkenweg\, 5040 Schöftland
CATEGORIES:Saison 2025/26
END:VEVENT
BEGIN:VEVENT
DTSTAMP:20260424T135914Z
DTSTART;TZID=Europe/Berlin:20251103T200000
DTEND;TZID=Europe/Berlin:20251103T230000
SUMMARY:HE 5. Liga Gr. 4 Schöftland V vs Oberrohrdorf II (0)
UID:73630f90-a5ff-4b07-b57a-23bcc3a7f659
STATUS:CONFIRMED
LAST-MODIFIED:20251107T143802Z
DESCRIPTION:5. Liga Herren Gruppe 4\nBegegnungs-Nr: 0\nHeim: Schöftland V\nGast: Oberrohrdorf II\n\nAdresse: Birkenweg\, 5040 Schöftland\n
LOCATION:Birkenweg\, 5040 Schöftland
CATEGORIES:Saison 2025/26
END:VEVENT
BEGIN:VEVENT
DTSTAMP:20260424T135914Z
DTSTART;TZID=Europe/Berlin:20251208T200000
DTEND;TZID=Europe/Berlin:20251208T230000
SUMMARY:HE 5. Liga Gr. 4 Schöftland V vs Mellingen II (0)
UID:3d8df333-73bd-4cf9-8c96-9023123569e6
STATUS:CONFIRMED
LAST-MODIFIED:20251211T112158Z
DESCRIPTION:5. Liga Herren Gruppe 4\nBegegnungs-Nr: 0\nHeim: Schöftland V\nGast: Mellingen II\n\nAdresse: Birkenweg\, 5040 Schöftland\n
LOCATION:Birkenweg\, 5040 Schöftland
CATEGORIES:Saison 2025/26
END:VEVENT
BEGIN:VEVENT
DTSTAMP:20260424T135914Z
DTSTART;TZID=Europe/Berlin:20260127T201500
DTEND;TZID=Europe/Berlin:20260127T231500
SUMMARY:HE 5. Liga Gr. 4 Bremgarten VIII vs Schöftland V (0)
UID:42c16305-c9c4-4c22-aeb3-1590dfc5f66d
STATUS:CONFIRMED
LAST-MODIFIED:20260130T133353Z
DESCRIPTION:5. Liga Herren Gruppe 4\nBegegnungs-Nr: 0\nHeim: Bremgarten VIII\nGast: Schöftland V\n\nAdresse: Badstrasse 3\, 5620 Bremgarten\n
LOCATION:Badstrasse 3\, 5620 Bremgarten
CATEGORIES:Saison 2025/26
END:VEVENT
BEGIN:VEVENT
DTSTAMP:20260424T135914Z
DTSTART;TZID=Europe/Berlin:20260105T194500
DTEND;TZID=Europe/Berlin:20260105T224500
SUMMARY:HE 5. Liga Gr. 4 Zofingen III vs Schöftland V (0)
UID:cbce2f16-35b8-483c-8e6d-cba1c3d5f9ea
STATUS:CONFIRMED
LAST-MODIFIED:20260109T074427Z
DESCRIPTION:5. Liga Herren Gruppe 4\nBegegnungs-Nr: 0\nHeim: Zofingen III\nGast: Schöftland V\n\nAdresse: Kreuzplatz\, 4802 Strengelbach\n
LOCATION:Kreuzplatz\, 4802 Strengelbach
CATEGORIES:Saison 2025/26
END:VEVENT
BEGIN:VEVENT
DTSTAMP:20260424T135914Z
DTSTART;TZID=Europe/Berlin:20260304T200000
DTEND;TZID=Europe/Berlin:20260304T230000
SUMMARY:HE 5. Liga Gr. 4 Oberrohrdorf II vs Schöftland V (0)
UID:570077c4-d6a2-4161-b11f-d7c3fea6a415
STATUS:CONFIRMED
LAST-MODIFIED:20260313T130750Z
DESCRIPTION:5. Liga Herren Gruppe 4\nBegegnungs-Nr: 0\nHeim: Oberrohrdorf II\nGast: Schöftland V\n\nAdresse: Hinterbächlistrasse\, 5452 Oberrohrdorf\n
LOCATION:Hinterbächlistrasse\, 5452 Oberrohrdorf
CATEGORIES:Saison 2025/26
END:VEVENT
BEGIN:VEVENT
DTSTAMP:20260424T135914Z
DTSTART;TZID=Europe/Berlin:20260305T200000
DTEND;TZID=Europe/Berlin:20260305T230000
SUMMARY:HE 5. Liga Gr. 4 Mellingen II vs Schöftland V (0)
UID:e1d0e8a6-f593-4b26-bd2e-23cc583d098c
STATUS:CONFIRMED
LAST-MODIFIED:20260313T125652Z
DESCRIPTION:5. Liga Herren Gruppe 4\nBegegnungs-Nr: 0\nHeim: Mellingen II\nGast: Schöftland V\n\nAdresse: Bahnhofstrasse 22\, 5507 Mellingen\n
LOCATION:Bahnhofstrasse 22\, 5507 Mellingen
CATEGORIES:Saison 2025/26
END:VEVENT
BEGIN:VEVENT
DTSTAMP:20260424T135914Z
DTSTART;TZID=Europe/Berlin:20250903T194500
DTEND;TZID=Europe/Berlin:20250903T224500
SUMMARY:HE 5. Liga Gr. 4 Aarau V vs Schöftland V (0)
UID:bbf37b20-0077-475a-98ec-b90ac8004c24
STATUS:CONFIRMED
LAST-MODIFIED:20250905T121822Z
DESCRIPTION:5. Liga Herren Gruppe 4\nBegegnungs-Nr: 0\nHeim: Aarau V\nGast: Schöftland V\n\nAdresse: Weltistrasse 20\, 5000 Aarau\n
LOCATION:Weltistrasse 20\, 5000 Aarau
CATEGORIES:Saison 2025/26
END:VEVENT
BEGIN:VEVENT
DTSTAMP:20260424T135914Z
DTSTART;TZID=Europe/Berlin:20251015T200000
DTEND;TZID=Europe/Berlin:20251015T230000
SUMMARY:HE 5. Liga Gr. 4 Menziken II vs Schöftland V (0)
UID:b6a45dee-d0ac-49c8-b895-dc2328380ab0
STATUS:CONFIRMED
LAST-MODIFIED:20251016T150004Z
DESCRIPTION:5. Liga Herren Gruppe 4\nBegegnungs-Nr: 0\nHeim: Menziken II\nGast: Schöftland V\n\nAdresse: Turnplatzstrasse\, 5737 Menziken\n
LOCATION:Turnplatzstrasse\, 5737 Menziken
CATEGORIES:Saison 2025/26
END:VEVENT
BEGIN:VEVENT
DTSTAMP:20260424T135914Z
DTSTART;TZID=Europe/Berlin:20251128T193000
DTEND;TZID=Europe/Berlin:20251128T223000
SUMMARY:HE 5. Liga Gr. 4 Baden-Wettingen VI vs Schöftland V (0)
UID:7a0eee90-6ad6-4833-ab89-5e477eae3b0a
STATUS:CONFIRMED
LAST-MODIFIED:20251201T142123Z
DESCRIPTION:5. Liga Herren Gruppe 4\nBegegnungs-Nr: 0\nHeim: Baden-Wettingen VI\nGast: Schöftland V\n\nAdresse: Schulstrasse 14\, 5430 Wettingen\n
LOCATION:Schulstrasse 14\, 5430 Wettingen
CATEGORIES:Saison 2025/26
END:VEVENT
END:VCALENDAR
