BEGIN:VCALENDAR
PRODID:-//nuDatenautomaten//framework iCal4j //DE
VERSION:2.0
CALSCALE:GREGORIAN
BEGIN:VTIMEZONE
TZID:Europe/Berlin
LAST-MODIFIED:20260306T231828Z
TZURL:https://www.tzurl.org/zoneinfo/Europe/Berlin
X-LIC-LOCATION:Europe/Berlin
X-PROLEPTIC-TZNAME:LMT
BEGIN:STANDARD
TZNAME:CET
TZOFFSETFROM:+005328
TZOFFSETTO:+0100
DTSTART:18930401T000000
END:STANDARD
BEGIN:DAYLIGHT
TZNAME:CEST
TZOFFSETFROM:+0100
TZOFFSETTO:+0200
DTSTART:19160430T230000
RDATE:19400401T020000
RDATE:19430329T020000
RDATE:19460414T020000
RDATE:19470406T030000
RDATE:19480418T020000
RDATE:19490410T020000
RDATE:19800406T020000
END:DAYLIGHT
BEGIN:STANDARD
TZNAME:CET
TZOFFSETFROM:+0200
TZOFFSETTO:+0100
DTSTART:19161001T010000
RDATE:19421102T030000
RDATE:19431004T030000
RDATE:19441002T030000
RDATE:19451118T030000
RDATE:19461007T030000
END:STANDARD
BEGIN:DAYLIGHT
TZNAME:CEST
TZOFFSETFROM:+0100
TZOFFSETTO:+0200
DTSTART:19170416T020000
RRULE:FREQ=YEARLY;UNTIL=19180415T010000Z;BYMONTH=4;BYDAY=3MO
END:DAYLIGHT
BEGIN:STANDARD
TZNAME:CET
TZOFFSETFROM:+0200
TZOFFSETTO:+0100
DTSTART:19170917T030000
RRULE:FREQ=YEARLY;UNTIL=19180916T010000Z;BYMONTH=9;BYDAY=3MO
END:STANDARD
BEGIN:DAYLIGHT
TZNAME:CEST
TZOFFSETFROM:+0100
TZOFFSETTO:+0200
DTSTART:19440403T020000
RRULE:FREQ=YEARLY;UNTIL=19450402T010000Z;BYMONTH=4;BYDAY=1MO
END:DAYLIGHT
BEGIN:DAYLIGHT
TZNAME:CEMT
TZOFFSETFROM:+0200
TZOFFSETTO:+0300
DTSTART:19450524T020000
RDATE:19470511T030000
END:DAYLIGHT
BEGIN:DAYLIGHT
TZNAME:CEST
TZOFFSETFROM:+0300
TZOFFSETTO:+0200
DTSTART:19450924T030000
RDATE:19470629T030000
END:DAYLIGHT
BEGIN:STANDARD
TZNAME:CET
TZOFFSETFROM:+0100
TZOFFSETTO:+0100
DTSTART:19460101T000000
RDATE:19800101T000000
END:STANDARD
BEGIN:STANDARD
TZNAME:CET
TZOFFSETFROM:+0200
TZOFFSETTO:+0100
DTSTART:19471005T030000
RRULE:FREQ=YEARLY;UNTIL=19491002T010000Z;BYMONTH=10;BYDAY=1SU
END:STANDARD
BEGIN:STANDARD
TZNAME:CET
TZOFFSETFROM:+0200
TZOFFSETTO:+0100
DTSTART:19800928T030000
RRULE:FREQ=YEARLY;UNTIL=19950924T010000Z;BYMONTH=9;BYDAY=-1SU
END:STANDARD
BEGIN:DAYLIGHT
TZNAME:CEST
TZOFFSETFROM:+0100
TZOFFSETTO:+0200
DTSTART:19810329T020000
RRULE:FREQ=YEARLY;BYMONTH=3;BYDAY=-1SU
END:DAYLIGHT
BEGIN:STANDARD
TZNAME:CET
TZOFFSETFROM:+0200
TZOFFSETTO:+0100
DTSTART:19961027T030000
RRULE:FREQ=YEARLY;BYMONTH=10;BYDAY=-1SU
END:STANDARD
END:VTIMEZONE
BEGIN:VEVENT
DTSTAMP:20260424T132035Z
DTSTART;TZID=Europe/Berlin:20251021T191500
DTEND;TZID=Europe/Berlin:20251021T221500
SUMMARY:HE NLC Gr. 2 Ostermundigen II vs Port (14)
UID:fa434762-3eeb-4fc4-bb56-971546e68d98
STATUS:CONFIRMED
LAST-MODIFIED:20251023T085831Z
DESCRIPTION:Herren Nationalliga C Gruppe 2\nBegegnungs-Nr: 14\nHeim: Ostermundigen II\nGast: Port\n\nAdresse: Dennigkofenweg 169\, 3072 Ostermundigen\n
LOCATION:Dennigkofenweg 169\, 3072 Ostermundigen
CATEGORIES:Saison 2025/26
END:VEVENT
BEGIN:VEVENT
DTSTAMP:20260424T132035Z
DTSTART;TZID=Europe/Berlin:20251122T140000
DTEND;TZID=Europe/Berlin:20251122T170000
SUMMARY:HE NLC Gr. 2 Ostermundigen II vs La Chaux-de-Fonds (23)
UID:94766aeb-b448-4239-9223-677a20d30154
STATUS:CONFIRMED
LAST-MODIFIED:20251126T101422Z
DESCRIPTION:Herren Nationalliga C Gruppe 2\nBegegnungs-Nr: 23\nHeim: Ostermundigen II\nGast: La Chaux-de-Fonds\n\nAdresse: Dennigkofenweg 169\, 3072 Ostermundigen\n
LOCATION:Dennigkofenweg 169\, 3072 Ostermundigen
CATEGORIES:Saison 2025/26
END:VEVENT
BEGIN:VEVENT
DTSTAMP:20260424T132035Z
DTSTART;TZID=Europe/Berlin:20250916T191500
DTEND;TZID=Europe/Berlin:20250916T221500
SUMMARY:HE NLC Gr. 2 Ostermundigen II vs Fribourg (7)
UID:aaa31d71-155b-4713-a7b7-33fe468f0b33
STATUS:CONFIRMED
LAST-MODIFIED:20250918T112356Z
DESCRIPTION:Herren Nationalliga C Gruppe 2\nBegegnungs-Nr: 7\nHeim: Ostermundigen II\nGast: Fribourg\n\nAdresse: Dennigkofenweg 169\, 3072 Ostermundigen\n
LOCATION:Dennigkofenweg 169\, 3072 Ostermundigen
CATEGORIES:Saison 2025/26
END:VEVENT
BEGIN:VEVENT
DTSTAMP:20260424T132035Z
DTSTART;TZID=Europe/Berlin:20260110T140000
DTEND;TZID=Europe/Berlin:20260110T170000
SUMMARY:HE NLC Gr. 2 Ostermundigen II vs Rossens (2)
UID:d6de8f12-0c15-48e2-b7ad-ac6e69bf6ac9
STATUS:CONFIRMED
LAST-MODIFIED:20260112T203149Z
DESCRIPTION:Herren Nationalliga C Gruppe 2\nBegegnungs-Nr: 2\nHeim: Ostermundigen II\nGast: Rossens\n\nAdresse: Dennigkofenweg 169\, 3072 Ostermundigen\n
LOCATION:Dennigkofenweg 169\, 3072 Ostermundigen
CATEGORIES:Saison 2025/26
END:VEVENT
BEGIN:VEVENT
DTSTAMP:20260424T132035Z
DTSTART;TZID=Europe/Berlin:20260221T140000
DTEND;TZID=Europe/Berlin:20260221T170000
SUMMARY:HE NLC Gr. 2 Ostermundigen II vs Sierre (12)
UID:345cad06-611f-4e76-934b-f37fdb99c0fb
STATUS:CONFIRMED
LAST-MODIFIED:20260223T153509Z
DESCRIPTION:Herren Nationalliga C Gruppe 2\nBegegnungs-Nr: 12\nHeim: Ostermundigen II\nGast: Sierre\n\nAdresse: Dennigkofenweg 169\, 3072 Ostermundigen\n
LOCATION:Dennigkofenweg 169\, 3072 Ostermundigen
CATEGORIES:Saison 2025/26
END:VEVENT
BEGIN:VEVENT
DTSTAMP:20260424T132035Z
DTSTART;TZID=Europe/Berlin:20260328T140000
DTEND;TZID=Europe/Berlin:20260328T170000
SUMMARY:HE NLC Gr. 2 Ostermundigen II vs Burgdorf II (19)
UID:895d061c-abca-43f5-b1bd-c0a65a540e66
STATUS:CONFIRMED
LAST-MODIFIED:20260330T080014Z
DESCRIPTION:Herren Nationalliga C Gruppe 2\nBegegnungs-Nr: 19\nHeim: Ostermundigen II\nGast: Burgdorf II\n\nAdresse: Dennigkofenweg 169\, 3072 Ostermundigen\n
LOCATION:Dennigkofenweg 169\, 3072 Ostermundigen
CATEGORIES:Saison 2025/26
END:VEVENT
BEGIN:VEVENT
DTSTAMP:20260424T132035Z
DTSTART;TZID=Europe/Berlin:20260419T140000
DTEND;TZID=Europe/Berlin:20260419T170000
SUMMARY:HE NLC Gr. 2 Ostermundigen II vs UGS-Chênois III (25)
UID:55e5b7a7-a839-4418-b653-6e30678881c6
STATUS:CONFIRMED
LAST-MODIFIED:20260420T083108Z
DESCRIPTION:Herren Nationalliga C Gruppe 2\nBegegnungs-Nr: 25\nHeim: Ostermundigen II\nGast: UGS-Chênois III\n\nAdresse: Dennigkofenweg 169\, 3072 Ostermundigen\n
LOCATION:Dennigkofenweg 169\, 3072 Ostermundigen
CATEGORIES:Saison 2025/26
END:VEVENT
BEGIN:VEVENT
DTSTAMP:20260424T132035Z
DTSTART;TZID=Europe/Berlin:20251108T140000
DTEND;TZID=Europe/Berlin:20251108T170000
SUMMARY:HE NLC Gr. 2 Burgdorf II vs Ostermundigen II (19)
UID:eb023b9b-f000-4cbe-9cb0-7c5281d5fdc6
STATUS:CONFIRMED
LAST-MODIFIED:20251110T072932Z
DESCRIPTION:Herren Nationalliga C Gruppe 2\nBegegnungs-Nr: 19\nHeim: Burgdorf II\nGast: Ostermundigen II\n\nAdresse: Pestalozzistrasse 69\, 3400 Burgdorf\n
LOCATION:Pestalozzistrasse 69\, 3400 Burgdorf
CATEGORIES:Saison 2025/26
END:VEVENT
BEGIN:VEVENT
DTSTAMP:20260424T132035Z
DTSTART;TZID=Europe/Berlin:20251206T150000
DTEND;TZID=Europe/Berlin:20251206T180000
SUMMARY:HE NLC Gr. 2 UGS-Chênois III vs Ostermundigen II (25)
UID:aa467ebe-9f78-4202-9085-29a0823e92dd
STATUS:CONFIRMED
LAST-MODIFIED:20251209T094737Z
DESCRIPTION:Herren Nationalliga C Gruppe 2\nBegegnungs-Nr: 25\nHeim: UGS-Chênois III\nGast: Ostermundigen II\n\nAdresse: Route de Frontenex 68\, 1208 Genève\n
LOCATION:Route de Frontenex 68\, 1208 Genève
CATEGORIES:Saison 2025/26
END:VEVENT
BEGIN:VEVENT
DTSTAMP:20260424T132035Z
DTSTART;TZID=Europe/Berlin:20250913T150000
DTEND;TZID=Europe/Berlin:20250913T180000
SUMMARY:HE NLC Gr. 2 Rossens vs Ostermundigen II (2)
UID:e60e6b51-35d2-4434-b295-ea232d2478c9
STATUS:CONFIRMED
LAST-MODIFIED:20250918T112326Z
DESCRIPTION:Herren Nationalliga C Gruppe 2\nBegegnungs-Nr: 2\nHeim: Rossens\nGast: Ostermundigen II\n\nAdresse: Route du Jordil 14\, 1728 Rossens\n
LOCATION:Route du Jordil 14\, 1728 Rossens
CATEGORIES:Saison 2025/26
END:VEVENT
BEGIN:VEVENT
DTSTAMP:20260424T132035Z
DTSTART;TZID=Europe/Berlin:20251012T170000
DTEND;TZID=Europe/Berlin:20251012T200000
SUMMARY:HE NLC Gr. 2 Sierre vs Ostermundigen II (12)
UID:ac9c4f77-c9a4-4dcf-a35d-0946b71187b2
STATUS:CONFIRMED
LAST-MODIFIED:20251016T145412Z
DESCRIPTION:Herren Nationalliga C Gruppe 2\nBegegnungs-Nr: 12\nHeim: Sierre\nGast: Ostermundigen II\n\nAdresse: Rte des Liddes 6\, 3960 Sierre\n
LOCATION:Rte des Liddes 6\, 3960 Sierre
CATEGORIES:Saison 2025/26
END:VEVENT
BEGIN:VEVENT
DTSTAMP:20260424T132035Z
DTSTART;TZID=Europe/Berlin:20260214T140000
DTEND;TZID=Europe/Berlin:20260214T170000
SUMMARY:HE NLC Gr. 2 Port vs Ostermundigen II (14)
UID:20380397-90c2-456e-9878-b90e623616d9
STATUS:CONFIRMED
LAST-MODIFIED:20260217T064534Z
DESCRIPTION:Herren Nationalliga C Gruppe 2\nBegegnungs-Nr: 14\nHeim: Port\nGast: Ostermundigen II\n\nAdresse: Allmendstrasse 23\, 2562 Port\n
LOCATION:Allmendstrasse 23\, 2562 Port
CATEGORIES:Saison 2025/26
END:VEVENT
BEGIN:VEVENT
DTSTAMP:20260424T132035Z
DTSTART;TZID=Europe/Berlin:20260131T160000
DTEND;TZID=Europe/Berlin:20260131T190000
SUMMARY:HE NLC Gr. 2 Fribourg vs Ostermundigen II (7)
UID:f1d3e17f-5d01-4388-8e28-f0d44a4c3d51
STATUS:CONFIRMED
LAST-MODIFIED:20260203T081338Z
DESCRIPTION:Herren Nationalliga C Gruppe 2\nBegegnungs-Nr: 7\nHeim: Fribourg\nGast: Ostermundigen II\n\nAdresse: Avenue Général Guisan 61\, 1700 Fribourg\n
LOCATION:Avenue Général Guisan 61\, 1700 Fribourg
CATEGORIES:Saison 2025/26
END:VEVENT
BEGIN:VEVENT
DTSTAMP:20260424T132035Z
DTSTART;TZID=Europe/Berlin:20260418T200000
DTEND;TZID=Europe/Berlin:20260418T230000
SUMMARY:HE NLC Gr. 2 La Chaux-de-Fonds vs Ostermundigen II (23)
UID:d412f661-7f33-4001-a99d-95bea2978542
STATUS:CONFIRMED
LAST-MODIFIED:20260420T083049Z
DESCRIPTION:Herren Nationalliga C Gruppe 2\nBegegnungs-Nr: 23\nHeim: La Chaux-de-Fonds\nGast: Ostermundigen II\n\nAdresse: Rue du Docteur-Kern 14\, 2300 La Chaux-de-Fonds\n
LOCATION:Rue du Docteur-Kern 14\, 2300 La Chaux-de-Fonds
CATEGORIES:Saison 2025/26
END:VEVENT
END:VCALENDAR
