BEGIN:VCALENDAR
PRODID:-//nuDatenautomaten//framework iCal4j //DE
VERSION:2.0
CALSCALE:GREGORIAN
BEGIN:VTIMEZONE
TZID:Europe/Berlin
LAST-MODIFIED:20260306T231828Z
TZURL:https://www.tzurl.org/zoneinfo/Europe/Berlin
X-LIC-LOCATION:Europe/Berlin
X-PROLEPTIC-TZNAME:LMT
BEGIN:STANDARD
TZNAME:CET
TZOFFSETFROM:+005328
TZOFFSETTO:+0100
DTSTART:18930401T000000
END:STANDARD
BEGIN:DAYLIGHT
TZNAME:CEST
TZOFFSETFROM:+0100
TZOFFSETTO:+0200
DTSTART:19160430T230000
RDATE:19400401T020000
RDATE:19430329T020000
RDATE:19460414T020000
RDATE:19470406T030000
RDATE:19480418T020000
RDATE:19490410T020000
RDATE:19800406T020000
END:DAYLIGHT
BEGIN:STANDARD
TZNAME:CET
TZOFFSETFROM:+0200
TZOFFSETTO:+0100
DTSTART:19161001T010000
RDATE:19421102T030000
RDATE:19431004T030000
RDATE:19441002T030000
RDATE:19451118T030000
RDATE:19461007T030000
END:STANDARD
BEGIN:DAYLIGHT
TZNAME:CEST
TZOFFSETFROM:+0100
TZOFFSETTO:+0200
DTSTART:19170416T020000
RRULE:FREQ=YEARLY;UNTIL=19180415T010000Z;BYMONTH=4;BYDAY=3MO
END:DAYLIGHT
BEGIN:STANDARD
TZNAME:CET
TZOFFSETFROM:+0200
TZOFFSETTO:+0100
DTSTART:19170917T030000
RRULE:FREQ=YEARLY;UNTIL=19180916T010000Z;BYMONTH=9;BYDAY=3MO
END:STANDARD
BEGIN:DAYLIGHT
TZNAME:CEST
TZOFFSETFROM:+0100
TZOFFSETTO:+0200
DTSTART:19440403T020000
RRULE:FREQ=YEARLY;UNTIL=19450402T010000Z;BYMONTH=4;BYDAY=1MO
END:DAYLIGHT
BEGIN:DAYLIGHT
TZNAME:CEMT
TZOFFSETFROM:+0200
TZOFFSETTO:+0300
DTSTART:19450524T020000
RDATE:19470511T030000
END:DAYLIGHT
BEGIN:DAYLIGHT
TZNAME:CEST
TZOFFSETFROM:+0300
TZOFFSETTO:+0200
DTSTART:19450924T030000
RDATE:19470629T030000
END:DAYLIGHT
BEGIN:STANDARD
TZNAME:CET
TZOFFSETFROM:+0100
TZOFFSETTO:+0100
DTSTART:19460101T000000
RDATE:19800101T000000
END:STANDARD
BEGIN:STANDARD
TZNAME:CET
TZOFFSETFROM:+0200
TZOFFSETTO:+0100
DTSTART:19471005T030000
RRULE:FREQ=YEARLY;UNTIL=19491002T010000Z;BYMONTH=10;BYDAY=1SU
END:STANDARD
BEGIN:STANDARD
TZNAME:CET
TZOFFSETFROM:+0200
TZOFFSETTO:+0100
DTSTART:19800928T030000
RRULE:FREQ=YEARLY;UNTIL=19950924T010000Z;BYMONTH=9;BYDAY=-1SU
END:STANDARD
BEGIN:DAYLIGHT
TZNAME:CEST
TZOFFSETFROM:+0100
TZOFFSETTO:+0200
DTSTART:19810329T020000
RRULE:FREQ=YEARLY;BYMONTH=3;BYDAY=-1SU
END:DAYLIGHT
BEGIN:STANDARD
TZNAME:CET
TZOFFSETFROM:+0200
TZOFFSETTO:+0100
DTSTART:19961027T030000
RRULE:FREQ=YEARLY;BYMONTH=10;BYDAY=-1SU
END:STANDARD
END:VTIMEZONE
BEGIN:VEVENT
DTSTAMP:20260424T203559Z
DTSTART;TZID=Europe/Berlin:20260109T200000
DTEND;TZID=Europe/Berlin:20260109T230000
SUMMARY:HE 6. Liga Gr. 7 Toggenburg III vs Rapperswil-Jona IX (0)
UID:aa4f3e3e-a1bd-4283-9721-fd24f9fb6eea
STATUS:CONFIRMED
LAST-MODIFIED:20260112T100613Z
DESCRIPTION:6. Liga Herren Gruppe 7\nBegegnungs-Nr: 0\nHeim: Toggenburg III\nGast: Rapperswil-Jona IX\n\nAdresse: Frohmaderweg\, 9630 Wattwil\n
LOCATION:Frohmaderweg\, 9630 Wattwil
CATEGORIES:Saison 2025/26
END:VEVENT
BEGIN:VEVENT
DTSTAMP:20260424T203559Z
DTSTART;TZID=Europe/Berlin:20260130T200000
DTEND;TZID=Europe/Berlin:20260130T230000
SUMMARY:HE 6. Liga Gr. 7 Toggenburg III vs Wädenswil VIII (0)
UID:f4919894-9e17-41f4-bb53-862097b96307
STATUS:CONFIRMED
LAST-MODIFIED:20260204T085847Z
DESCRIPTION:6. Liga Herren Gruppe 7\nBegegnungs-Nr: 0\nHeim: Toggenburg III\nGast: Wädenswil VIII\n\nAdresse: Frohmaderweg\, 9630 Wattwil\n
LOCATION:Frohmaderweg\, 9630 Wattwil
CATEGORIES:Saison 2025/26
END:VEVENT
BEGIN:VEVENT
DTSTAMP:20260424T203559Z
DTSTART;TZID=Europe/Berlin:20260313T200000
DTEND;TZID=Europe/Berlin:20260313T230000
SUMMARY:HE 6. Liga Gr. 7 Toggenburg III vs Eschenbach II (0)
UID:67359733-72b0-48ab-a30e-944d17670f24
STATUS:CONFIRMED
LAST-MODIFIED:20260317T145613Z
DESCRIPTION:6. Liga Herren Gruppe 7\nBegegnungs-Nr: 0\nHeim: Toggenburg III\nGast: Eschenbach II\n\nAdresse: Frohmaderweg\, 9630 Wattwil\n
LOCATION:Frohmaderweg\, 9630 Wattwil
CATEGORIES:Saison 2025/26
END:VEVENT
BEGIN:VEVENT
DTSTAMP:20260424T203559Z
DTSTART;TZID=Europe/Berlin:20250905T200000
DTEND;TZID=Europe/Berlin:20250905T230000
SUMMARY:HE 6. Liga Gr. 7 Toggenburg III vs Dübendorf-Volketswil VI (0)
UID:a4c9c29b-f69d-4305-8a9b-1c87b7500234
STATUS:CONFIRMED
LAST-MODIFIED:20250908T141616Z
DESCRIPTION:6. Liga Herren Gruppe 7\nBegegnungs-Nr: 0\nHeim: Toggenburg III\nGast: Dübendorf-Volketswil VI\n\nAdresse: Frohmaderweg\, 9630 Wattwil\n
LOCATION:Frohmaderweg\, 9630 Wattwil
CATEGORIES:Saison 2025/26
END:VEVENT
BEGIN:VEVENT
DTSTAMP:20260424T203559Z
DTSTART;TZID=Europe/Berlin:20250926T200000
DTEND;TZID=Europe/Berlin:20250926T230000
SUMMARY:HE 6. Liga Gr. 7 Toggenburg III vs Gossau Zuerich III (0)
UID:fa8171cf-fff7-4030-89cf-d273ee1e8210
STATUS:CONFIRMED
LAST-MODIFIED:20250930T124649Z
DESCRIPTION:6. Liga Herren Gruppe 7\nBegegnungs-Nr: 0\nHeim: Toggenburg III\nGast: Gossau Zuerich III\n\nAdresse: Frohmaderweg\, 9630 Wattwil\n
LOCATION:Frohmaderweg\, 9630 Wattwil
CATEGORIES:Saison 2025/26
END:VEVENT
BEGIN:VEVENT
DTSTAMP:20260424T203559Z
DTSTART;TZID=Europe/Berlin:20251107T200000
DTEND;TZID=Europe/Berlin:20251107T230000
SUMMARY:HE 6. Liga Gr. 7 Toggenburg III vs Wolfhausen IV (0)
UID:4e657347-ee42-4163-b473-07cb1a33f823
STATUS:CONFIRMED
LAST-MODIFIED:20251114T142753Z
DESCRIPTION:6. Liga Herren Gruppe 7\nBegegnungs-Nr: 0\nHeim: Toggenburg III\nGast: Wolfhausen IV\n\nAdresse: Frohmaderweg\, 9630 Wattwil\n
LOCATION:Frohmaderweg\, 9630 Wattwil
CATEGORIES:Saison 2025/26
END:VEVENT
BEGIN:VEVENT
DTSTAMP:20260424T203559Z
DTSTART;TZID=Europe/Berlin:20260122T194500
DTEND;TZID=Europe/Berlin:20260122T224500
SUMMARY:HE 6. Liga Gr. 7 Dübendorf-Volketswil VI vs Toggenburg III (0)
UID:cbc81225-31a6-475c-b7b8-3c3e1f9f7e5e
STATUS:CONFIRMED
LAST-MODIFIED:20260123T082756Z
DESCRIPTION:6. Liga Herren Gruppe 7\nBegegnungs-Nr: 0\nHeim: Dübendorf-Volketswil VI\nGast: Toggenburg III\n\nAdresse: Wasserfurrenstrasse 7\, 8600 Dübendorf\n
LOCATION:Wasserfurrenstrasse 7\, 8600 Dübendorf
CATEGORIES:Saison 2025/26
END:VEVENT
BEGIN:VEVENT
DTSTAMP:20260424T203559Z
DTSTART;TZID=Europe/Berlin:20260302T201500
DTEND;TZID=Europe/Berlin:20260302T231500
SUMMARY:HE 6. Liga Gr. 7 Gossau Zuerich III vs Toggenburg III (0)
UID:abfe1718-dc93-44e9-97e9-6cb79b5e4f64
STATUS:CONFIRMED
LAST-MODIFIED:20260303T132828Z
DESCRIPTION:6. Liga Herren Gruppe 7\nBegegnungs-Nr: 0\nHeim: Gossau Zuerich III\nGast: Toggenburg III\n\nAdresse: Schulstrasse\, 8624 Grüt-Gossau\n
LOCATION:Schulstrasse\, 8624 Grüt-Gossau
CATEGORIES:Saison 2025/26
END:VEVENT
BEGIN:VEVENT
DTSTAMP:20260424T203559Z
DTSTART;TZID=Europe/Berlin:20260323T200000
DTEND;TZID=Europe/Berlin:20260323T230000
SUMMARY:HE 6. Liga Gr. 7 Wolfhausen IV vs Toggenburg III (0)
UID:00437ba8-f9bc-477f-a997-b66a49e79293
STATUS:CONFIRMED
LAST-MODIFIED:20260326T155222Z
DESCRIPTION:6. Liga Herren Gruppe 7\nBegegnungs-Nr: 0\nHeim: Wolfhausen IV\nGast: Toggenburg III\n\nAdresse: Schulstrasse 9\, 8633 Wolfhausen\n
LOCATION:Schulstrasse 9\, 8633 Wolfhausen
CATEGORIES:Saison 2025/26
END:VEVENT
BEGIN:VEVENT
DTSTAMP:20260424T203559Z
DTSTART;TZID=Europe/Berlin:20251002T200000
DTEND;TZID=Europe/Berlin:20251002T230000
SUMMARY:HE 6. Liga Gr. 7 Rapperswil-Jona IX vs Toggenburg III (0)
UID:59b1a627-c6a4-40ef-9df9-20f895b5db92
STATUS:CONFIRMED
LAST-MODIFIED:20251003T083952Z
DESCRIPTION:6. Liga Herren Gruppe 7\nBegegnungs-Nr: 0\nHeim: Rapperswil-Jona IX\nGast: Toggenburg III\n\nAdresse: Holzwiesstrasse 39\, 8645 Jona\n
LOCATION:Holzwiesstrasse 39\, 8645 Jona
CATEGORIES:Saison 2025/26
END:VEVENT
BEGIN:VEVENT
DTSTAMP:20260424T203559Z
DTSTART;TZID=Europe/Berlin:20250918T201500
DTEND;TZID=Europe/Berlin:20250918T231500
SUMMARY:HE 6. Liga Gr. 7 Wädenswil VIII vs Toggenburg III (0)
UID:ab996aba-cf6e-45a5-a490-04368dfec7e2
STATUS:CONFIRMED
LAST-MODIFIED:20250926T135353Z
DESCRIPTION:6. Liga Herren Gruppe 7\nBegegnungs-Nr: 0\nHeim: Wädenswil VIII\nGast: Toggenburg III\n\nAdresse: Speerstrasse 95\, 8820 Wädenswil\n
LOCATION:Speerstrasse 95\, 8820 Wädenswil
CATEGORIES:Saison 2025/26
END:VEVENT
BEGIN:VEVENT
DTSTAMP:20260424T203559Z
DTSTART;TZID=Europe/Berlin:20251031T200000
DTEND;TZID=Europe/Berlin:20251031T230000
SUMMARY:HE 6. Liga Gr. 7 Eschenbach II vs Toggenburg III (0)
UID:aecb72a7-f96c-412e-9cab-0a55bf908ff6
STATUS:CONFIRMED
LAST-MODIFIED:20251107T145457Z
DESCRIPTION:6. Liga Herren Gruppe 7\nBegegnungs-Nr: 0\nHeim: Eschenbach II\nGast: Toggenburg III\n\nAdresse: Bildstöcklistrasse 2\, 8733 Eschenbach\n
LOCATION:Bildstöcklistrasse 2\, 8733 Eschenbach
CATEGORIES:Saison 2025/26
END:VEVENT
END:VCALENDAR
