BEGIN:VCALENDAR
PRODID:-//nuDatenautomaten//framework iCal4j //DE
VERSION:2.0
CALSCALE:GREGORIAN
BEGIN:VTIMEZONE
TZID:Europe/Berlin
LAST-MODIFIED:20260306T231828Z
TZURL:https://www.tzurl.org/zoneinfo/Europe/Berlin
X-LIC-LOCATION:Europe/Berlin
X-PROLEPTIC-TZNAME:LMT
BEGIN:STANDARD
TZNAME:CET
TZOFFSETFROM:+005328
TZOFFSETTO:+0100
DTSTART:18930401T000000
END:STANDARD
BEGIN:DAYLIGHT
TZNAME:CEST
TZOFFSETFROM:+0100
TZOFFSETTO:+0200
DTSTART:19160430T230000
RDATE:19400401T020000
RDATE:19430329T020000
RDATE:19460414T020000
RDATE:19470406T030000
RDATE:19480418T020000
RDATE:19490410T020000
RDATE:19800406T020000
END:DAYLIGHT
BEGIN:STANDARD
TZNAME:CET
TZOFFSETFROM:+0200
TZOFFSETTO:+0100
DTSTART:19161001T010000
RDATE:19421102T030000
RDATE:19431004T030000
RDATE:19441002T030000
RDATE:19451118T030000
RDATE:19461007T030000
END:STANDARD
BEGIN:DAYLIGHT
TZNAME:CEST
TZOFFSETFROM:+0100
TZOFFSETTO:+0200
DTSTART:19170416T020000
RRULE:FREQ=YEARLY;UNTIL=19180415T010000Z;BYMONTH=4;BYDAY=3MO
END:DAYLIGHT
BEGIN:STANDARD
TZNAME:CET
TZOFFSETFROM:+0200
TZOFFSETTO:+0100
DTSTART:19170917T030000
RRULE:FREQ=YEARLY;UNTIL=19180916T010000Z;BYMONTH=9;BYDAY=3MO
END:STANDARD
BEGIN:DAYLIGHT
TZNAME:CEST
TZOFFSETFROM:+0100
TZOFFSETTO:+0200
DTSTART:19440403T020000
RRULE:FREQ=YEARLY;UNTIL=19450402T010000Z;BYMONTH=4;BYDAY=1MO
END:DAYLIGHT
BEGIN:DAYLIGHT
TZNAME:CEMT
TZOFFSETFROM:+0200
TZOFFSETTO:+0300
DTSTART:19450524T020000
RDATE:19470511T030000
END:DAYLIGHT
BEGIN:DAYLIGHT
TZNAME:CEST
TZOFFSETFROM:+0300
TZOFFSETTO:+0200
DTSTART:19450924T030000
RDATE:19470629T030000
END:DAYLIGHT
BEGIN:STANDARD
TZNAME:CET
TZOFFSETFROM:+0100
TZOFFSETTO:+0100
DTSTART:19460101T000000
RDATE:19800101T000000
END:STANDARD
BEGIN:STANDARD
TZNAME:CET
TZOFFSETFROM:+0200
TZOFFSETTO:+0100
DTSTART:19471005T030000
RRULE:FREQ=YEARLY;UNTIL=19491002T010000Z;BYMONTH=10;BYDAY=1SU
END:STANDARD
BEGIN:STANDARD
TZNAME:CET
TZOFFSETFROM:+0200
TZOFFSETTO:+0100
DTSTART:19800928T030000
RRULE:FREQ=YEARLY;UNTIL=19950924T010000Z;BYMONTH=9;BYDAY=-1SU
END:STANDARD
BEGIN:DAYLIGHT
TZNAME:CEST
TZOFFSETFROM:+0100
TZOFFSETTO:+0200
DTSTART:19810329T020000
RRULE:FREQ=YEARLY;BYMONTH=3;BYDAY=-1SU
END:DAYLIGHT
BEGIN:STANDARD
TZNAME:CET
TZOFFSETFROM:+0200
TZOFFSETTO:+0100
DTSTART:19961027T030000
RRULE:FREQ=YEARLY;BYMONTH=10;BYDAY=-1SU
END:STANDARD
END:VTIMEZONE
BEGIN:VEVENT
DTSTAMP:20260421T172315Z
DTSTART;TZID=Europe/Berlin:20260108T200000
DTEND;TZID=Europe/Berlin:20260108T230000
SUMMARY:HE 1. Liga Gr. 1 Chur vs Zürich-Affoltern II (0)
UID:d91d6539-5962-44cd-8759-47b821838eb7
STATUS:CONFIRMED
LAST-MODIFIED:20260112T090623Z
DESCRIPTION:1. Liga Herren Gruppe 1\nBegegnungs-Nr: 0\nHeim: Chur\nGast: Zürich-Affoltern II\n\nAdresse: Sandstr. 35\, 7000 Chur\n
LOCATION:Sandstr. 35\, 7000 Chur
CATEGORIES:Saison 2025/26
END:VEVENT
BEGIN:VEVENT
DTSTAMP:20260421T172315Z
DTSTART;TZID=Europe/Berlin:20260129T200000
DTEND;TZID=Europe/Berlin:20260129T230000
SUMMARY:HE 1. Liga Gr. 1 Chur vs Wetzikon II (0)
UID:9734493b-70f3-4101-904b-43b334cc831a
STATUS:CONFIRMED
LAST-MODIFIED:20260130T072859Z
DESCRIPTION:1. Liga Herren Gruppe 1\nBegegnungs-Nr: 0\nHeim: Chur\nGast: Wetzikon II\n\nAdresse: Sandstr. 35\, 7000 Chur\n
LOCATION:Sandstr. 35\, 7000 Chur
CATEGORIES:Saison 2025/26
END:VEVENT
BEGIN:VEVENT
DTSTAMP:20260421T172315Z
DTSTART;TZID=Europe/Berlin:20260319T200000
DTEND;TZID=Europe/Berlin:20260319T230000
SUMMARY:HE 1. Liga Gr. 1 Chur vs St. Gallen III (0)
UID:2e80baac-ae59-4991-a193-24d543329c5a
STATUS:CONFIRMED
LAST-MODIFIED:20260320T140945Z
DESCRIPTION:1. Liga Herren Gruppe 1\nBegegnungs-Nr: 0\nHeim: Chur\nGast: St. Gallen III\n\nAdresse: Sandstr. 35\, 7000 Chur\n
LOCATION:Sandstr. 35\, 7000 Chur
CATEGORIES:Saison 2025/26
END:VEVENT
BEGIN:VEVENT
DTSTAMP:20260421T172315Z
DTSTART;TZID=Europe/Berlin:20260402T200000
DTEND;TZID=Europe/Berlin:20260402T230000
SUMMARY:HE 1. Liga Gr. 1 Chur vs St. Gallen II (0)
UID:cfed40ed-73e0-4c31-9205-420615a0f9f1
STATUS:CONFIRMED
LAST-MODIFIED:20260408T100220Z
DESCRIPTION:1. Liga Herren Gruppe 1\nBegegnungs-Nr: 0\nHeim: Chur\nGast: St. Gallen II\n\nAdresse: Sandstr. 35\, 7000 Chur\n
LOCATION:Sandstr. 35\, 7000 Chur
CATEGORIES:Saison 2025/26
END:VEVENT
BEGIN:VEVENT
DTSTAMP:20260421T172315Z
DTSTART;TZID=Europe/Berlin:20250911T200000
DTEND;TZID=Europe/Berlin:20250911T230000
SUMMARY:HE 1. Liga Gr. 1 Chur vs Wetzikon III (0)
UID:7a62bdc7-8253-4e97-9aff-f2a5160b3c90
STATUS:CONFIRMED
LAST-MODIFIED:20250915T082853Z
DESCRIPTION:1. Liga Herren Gruppe 1\nBegegnungs-Nr: 0\nHeim: Chur\nGast: Wetzikon III\n\nAdresse: Sandstr. 35\, 7000 Chur\n
LOCATION:Sandstr. 35\, 7000 Chur
CATEGORIES:Saison 2025/26
END:VEVENT
BEGIN:VEVENT
DTSTAMP:20260421T172315Z
DTSTART;TZID=Europe/Berlin:20250925T200000
DTEND;TZID=Europe/Berlin:20250925T230000
SUMMARY:HE 1. Liga Gr. 1 Chur vs Wil SG (0)
UID:49a8031a-2ea9-4f41-844a-4f483173a445
STATUS:CONFIRMED
LAST-MODIFIED:20250926T125656Z
DESCRIPTION:1. Liga Herren Gruppe 1\nBegegnungs-Nr: 0\nHeim: Chur\nGast: Wil SG\n\nAdresse: Sandstr. 35\, 7000 Chur\n
LOCATION:Sandstr. 35\, 7000 Chur
CATEGORIES:Saison 2025/26
END:VEVENT
BEGIN:VEVENT
DTSTAMP:20260421T172315Z
DTSTART;TZID=Europe/Berlin:20251204T193000
DTEND;TZID=Europe/Berlin:20251204T223000
SUMMARY:HE 1. Liga Gr. 1 Chur vs Bülach (0)
UID:fb52a7a1-5a69-4d3d-9dda-23f03288a922
STATUS:CONFIRMED
LAST-MODIFIED:20251205T150847Z
DESCRIPTION:1. Liga Herren Gruppe 1\nBegegnungs-Nr: 0\nHeim: Chur\nGast: Bülach\n\nAdresse: Sandstr. 35\, 7000 Chur\n
LOCATION:Sandstr. 35\, 7000 Chur
CATEGORIES:Saison 2025/26
END:VEVENT
BEGIN:VEVENT
DTSTAMP:20260421T172315Z
DTSTART;TZID=Europe/Berlin:20260312T201500
DTEND;TZID=Europe/Berlin:20260312T231500
SUMMARY:HE 1. Liga Gr. 1 Bülach vs Chur (0)
UID:e3265a81-7aa7-48ce-8fbd-1477c0f94147
STATUS:CONFIRMED
LAST-MODIFIED:20260313T130316Z
DESCRIPTION:1. Liga Herren Gruppe 1\nBegegnungs-Nr: 0\nHeim: Bülach\nGast: Chur\n\nAdresse: Unterweg 51\, 8180 Bülach\n
LOCATION:Unterweg 51\, 8180 Bülach
CATEGORIES:Saison 2025/26
END:VEVENT
BEGIN:VEVENT
DTSTAMP:20260421T172315Z
DTSTART;TZID=Europe/Berlin:20260116T200000
DTEND;TZID=Europe/Berlin:20260116T230000
SUMMARY:HE 1. Liga Gr. 1 Wetzikon III vs Chur (0)
UID:b4ae38ef-5a58-4155-a7c9-ea88d0da01ef
STATUS:CONFIRMED
LAST-MODIFIED:20260119T091729Z
DESCRIPTION:1. Liga Herren Gruppe 1\nBegegnungs-Nr: 0\nHeim: Wetzikon III\nGast: Chur\n\nAdresse: Usterstrasse 37\, 8620 Wetzikon\n
LOCATION:Usterstrasse 37\, 8620 Wetzikon
CATEGORIES:Saison 2025/26
END:VEVENT
BEGIN:VEVENT
DTSTAMP:20260421T172315Z
DTSTART;TZID=Europe/Berlin:20260306T200000
DTEND;TZID=Europe/Berlin:20260306T230000
SUMMARY:HE 1. Liga Gr. 1 Wil SG vs Chur (0)
UID:ca5db284-07ca-4ddb-82f8-b5789018f8bc
STATUS:CONFIRMED
LAST-MODIFIED:20260310T153049Z
DESCRIPTION:1. Liga Herren Gruppe 1\nBegegnungs-Nr: 0\nHeim: Wil SG\nGast: Chur\n\nAdresse: Bleichestrasse 3 (Neben Hallenbad)\, 8570 Weinfelden\n
LOCATION:Bleichestrasse 3 (Neben Hallenbad)\, 8570 Weinfelden
CATEGORIES:Saison 2025/26
END:VEVENT
BEGIN:VEVENT
DTSTAMP:20260421T172315Z
DTSTART;TZID=Europe/Berlin:20250923T201500
DTEND;TZID=Europe/Berlin:20250923T231500
SUMMARY:HE 1. Liga Gr. 1 Zürich-Affoltern II vs Chur (0)
UID:6abe6b22-d1cc-41e5-9bb6-ee192c5f94b9
STATUS:CONFIRMED
LAST-MODIFIED:20250926T125647Z
DESCRIPTION:1. Liga Herren Gruppe 1\nBegegnungs-Nr: 0\nHeim: Zürich-Affoltern II\nGast: Chur\n\nAdresse: Rümlangstr. 89\, 8052 Zürich\n
LOCATION:Rümlangstr. 89\, 8052 Zürich
CATEGORIES:Saison 2025/26
END:VEVENT
BEGIN:VEVENT
DTSTAMP:20260421T172315Z
DTSTART;TZID=Europe/Berlin:20250915T194500
DTEND;TZID=Europe/Berlin:20250915T224500
SUMMARY:HE 1. Liga Gr. 1 Wetzikon II vs Chur (0)
UID:c6e93ca5-a6af-4db7-bd21-5342da9397d3
STATUS:CONFIRMED
LAST-MODIFIED:20250916T092139Z
DESCRIPTION:1. Liga Herren Gruppe 1\nBegegnungs-Nr: 0\nHeim: Wetzikon II\nGast: Chur\n\nAdresse: Usterstrasse 37\, 8620 Wetzikon\n
LOCATION:Usterstrasse 37\, 8620 Wetzikon
CATEGORIES:Saison 2025/26
END:VEVENT
BEGIN:VEVENT
DTSTAMP:20260421T172315Z
DTSTART;TZID=Europe/Berlin:20251108T150000
DTEND;TZID=Europe/Berlin:20251108T180000
SUMMARY:HE 1. Liga Gr. 1 St. Gallen III vs Chur (0)
UID:1a08b17a-bb34-40ef-bf78-4e9856124421
STATUS:CONFIRMED
LAST-MODIFIED:20251114T141728Z
DESCRIPTION:1. Liga Herren Gruppe 1\nBegegnungs-Nr: 0\nHeim: St. Gallen III\nGast: Chur\n\nAdresse: Zilstrasse 61\, 9016 St.Gallen\n
LOCATION:Zilstrasse 61\, 9016 St.Gallen
CATEGORIES:Saison 2025/26
END:VEVENT
BEGIN:VEVENT
DTSTAMP:20260421T172315Z
DTSTART;TZID=Europe/Berlin:20251122T150000
DTEND;TZID=Europe/Berlin:20251122T180000
SUMMARY:HE 1. Liga Gr. 1 St. Gallen II vs Chur (0)
UID:604c2010-ebfa-4178-8044-bdf2bbf14959
STATUS:CONFIRMED
LAST-MODIFIED:20251124T141842Z
DESCRIPTION:1. Liga Herren Gruppe 1\nBegegnungs-Nr: 0\nHeim: St. Gallen II\nGast: Chur\n\nAdresse: Zilstrasse 61\, 9016 St.Gallen\n
LOCATION:Zilstrasse 61\, 9016 St.Gallen
CATEGORIES:Saison 2025/26
END:VEVENT
END:VCALENDAR
