BEGIN:VCALENDAR
PRODID:-//nuDatenautomaten//framework iCal4j //DE
VERSION:2.0
CALSCALE:GREGORIAN
BEGIN:VTIMEZONE
TZID:Europe/Berlin
LAST-MODIFIED:20260306T231828Z
TZURL:https://www.tzurl.org/zoneinfo/Europe/Berlin
X-LIC-LOCATION:Europe/Berlin
X-PROLEPTIC-TZNAME:LMT
BEGIN:STANDARD
TZNAME:CET
TZOFFSETFROM:+005328
TZOFFSETTO:+0100
DTSTART:18930401T000000
END:STANDARD
BEGIN:DAYLIGHT
TZNAME:CEST
TZOFFSETFROM:+0100
TZOFFSETTO:+0200
DTSTART:19160430T230000
RDATE:19400401T020000
RDATE:19430329T020000
RDATE:19460414T020000
RDATE:19470406T030000
RDATE:19480418T020000
RDATE:19490410T020000
RDATE:19800406T020000
END:DAYLIGHT
BEGIN:STANDARD
TZNAME:CET
TZOFFSETFROM:+0200
TZOFFSETTO:+0100
DTSTART:19161001T010000
RDATE:19421102T030000
RDATE:19431004T030000
RDATE:19441002T030000
RDATE:19451118T030000
RDATE:19461007T030000
END:STANDARD
BEGIN:DAYLIGHT
TZNAME:CEST
TZOFFSETFROM:+0100
TZOFFSETTO:+0200
DTSTART:19170416T020000
RRULE:FREQ=YEARLY;UNTIL=19180415T010000Z;BYMONTH=4;BYDAY=3MO
END:DAYLIGHT
BEGIN:STANDARD
TZNAME:CET
TZOFFSETFROM:+0200
TZOFFSETTO:+0100
DTSTART:19170917T030000
RRULE:FREQ=YEARLY;UNTIL=19180916T010000Z;BYMONTH=9;BYDAY=3MO
END:STANDARD
BEGIN:DAYLIGHT
TZNAME:CEST
TZOFFSETFROM:+0100
TZOFFSETTO:+0200
DTSTART:19440403T020000
RRULE:FREQ=YEARLY;UNTIL=19450402T010000Z;BYMONTH=4;BYDAY=1MO
END:DAYLIGHT
BEGIN:DAYLIGHT
TZNAME:CEMT
TZOFFSETFROM:+0200
TZOFFSETTO:+0300
DTSTART:19450524T020000
RDATE:19470511T030000
END:DAYLIGHT
BEGIN:DAYLIGHT
TZNAME:CEST
TZOFFSETFROM:+0300
TZOFFSETTO:+0200
DTSTART:19450924T030000
RDATE:19470629T030000
END:DAYLIGHT
BEGIN:STANDARD
TZNAME:CET
TZOFFSETFROM:+0100
TZOFFSETTO:+0100
DTSTART:19460101T000000
RDATE:19800101T000000
END:STANDARD
BEGIN:STANDARD
TZNAME:CET
TZOFFSETFROM:+0200
TZOFFSETTO:+0100
DTSTART:19471005T030000
RRULE:FREQ=YEARLY;UNTIL=19491002T010000Z;BYMONTH=10;BYDAY=1SU
END:STANDARD
BEGIN:STANDARD
TZNAME:CET
TZOFFSETFROM:+0200
TZOFFSETTO:+0100
DTSTART:19800928T030000
RRULE:FREQ=YEARLY;UNTIL=19950924T010000Z;BYMONTH=9;BYDAY=-1SU
END:STANDARD
BEGIN:DAYLIGHT
TZNAME:CEST
TZOFFSETFROM:+0100
TZOFFSETTO:+0200
DTSTART:19810329T020000
RRULE:FREQ=YEARLY;BYMONTH=3;BYDAY=-1SU
END:DAYLIGHT
BEGIN:STANDARD
TZNAME:CET
TZOFFSETFROM:+0200
TZOFFSETTO:+0100
DTSTART:19961027T030000
RRULE:FREQ=YEARLY;BYMONTH=10;BYDAY=-1SU
END:STANDARD
END:VTIMEZONE
BEGIN:VEVENT
DTSTAMP:20260424T141120Z
DTSTART;TZID=Europe/Berlin:20260114T201500
DTEND;TZID=Europe/Berlin:20260114T231500
SUMMARY:HE 3. Liga Gr. 4 Döttingen III vs Mellingen (0)
UID:10e9ad3d-33ca-494c-8283-50b40c0df55c
STATUS:CONFIRMED
LAST-MODIFIED:20260123T081354Z
DESCRIPTION:3. Liga Herren Gruppe 4\nBegegnungs-Nr: 0\nHeim: Döttingen III\nGast: Mellingen\n\nAdresse: Im Bogen\, Chilbert 25\, 5312 Döttingen\n
LOCATION:Im Bogen\, Chilbert 25\, 5312 Döttingen
CATEGORIES:Saison 2025/26
END:VEVENT
BEGIN:VEVENT
DTSTAMP:20260424T141120Z
DTSTART;TZID=Europe/Berlin:20260218T201500
DTEND;TZID=Europe/Berlin:20260218T231500
SUMMARY:HE 3. Liga Gr. 4 Döttingen III vs Bremgarten IV (0)
UID:8367c636-9a70-4189-a569-26bef8f1cfb2
STATUS:CONFIRMED
LAST-MODIFIED:20260220T122922Z
DESCRIPTION:3. Liga Herren Gruppe 4\nBegegnungs-Nr: 0\nHeim: Döttingen III\nGast: Bremgarten IV\n\nAdresse: Im Bogen\, Chilbert 25\, 5312 Döttingen\n
LOCATION:Im Bogen\, Chilbert 25\, 5312 Döttingen
CATEGORIES:Saison 2025/26
END:VEVENT
BEGIN:VEVENT
DTSTAMP:20260424T141120Z
DTSTART;TZID=Europe/Berlin:20260304T201500
DTEND;TZID=Europe/Berlin:20260304T231500
SUMMARY:HE 3. Liga Gr. 4 Döttingen III vs Menziken (0)
UID:8f277a5c-c4f1-4136-afef-05d11760e886
STATUS:CONFIRMED
LAST-MODIFIED:20260313T125209Z
DESCRIPTION:3. Liga Herren Gruppe 4\nBegegnungs-Nr: 0\nHeim: Döttingen III\nGast: Menziken\n\nAdresse: Im Bogen\, Chilbert 25\, 5312 Döttingen\n
LOCATION:Im Bogen\, Chilbert 25\, 5312 Döttingen
CATEGORIES:Saison 2025/26
END:VEVENT
BEGIN:VEVENT
DTSTAMP:20260424T141120Z
DTSTART;TZID=Europe/Berlin:20250820T201500
DTEND;TZID=Europe/Berlin:20250820T231500
SUMMARY:HE 3. Liga Gr. 4 Döttingen III vs Baden-Wettingen III (0)
UID:4ac1e323-7725-4e4b-a3c5-a4c608847b6c
STATUS:CONFIRMED
LAST-MODIFIED:20250825T070044Z
DESCRIPTION:3. Liga Herren Gruppe 4\nBegegnungs-Nr: 0\nHeim: Döttingen III\nGast: Baden-Wettingen III\n\nAdresse: Im Bogen\, Chilbert 25\, 5312 Döttingen\n
LOCATION:Im Bogen\, Chilbert 25\, 5312 Döttingen
CATEGORIES:Saison 2025/26
END:VEVENT
BEGIN:VEVENT
DTSTAMP:20260424T141120Z
DTSTART;TZID=Europe/Berlin:20251119T201500
DTEND;TZID=Europe/Berlin:20251119T231500
SUMMARY:HE 3. Liga Gr. 4 Döttingen III vs Brugg (0)
UID:2fd7866d-9679-43f9-a7ae-d614eb60bd87
STATUS:CONFIRMED
LAST-MODIFIED:20251120T083227Z
DESCRIPTION:3. Liga Herren Gruppe 4\nBegegnungs-Nr: 0\nHeim: Döttingen III\nGast: Brugg\n\nAdresse: Im Bogen\, Chilbert 25\, 5312 Döttingen\n
LOCATION:Im Bogen\, Chilbert 25\, 5312 Döttingen
CATEGORIES:Saison 2025/26
END:VEVENT
BEGIN:VEVENT
DTSTAMP:20260424T141120Z
DTSTART;TZID=Europe/Berlin:20251125T201500
DTEND;TZID=Europe/Berlin:20251125T231500
SUMMARY:HE 3. Liga Gr. 4 Döttingen III vs Schöftland III (0)
UID:acb807c9-8a07-478d-8c56-d52e227ed796
STATUS:CONFIRMED
LAST-MODIFIED:20251127T135423Z
DESCRIPTION:3. Liga Herren Gruppe 4\nBegegnungs-Nr: 0\nHeim: Döttingen III\nGast: Schöftland III\n\nAdresse: Im Bogen\, Chilbert 25\, 5312 Döttingen\n
LOCATION:Im Bogen\, Chilbert 25\, 5312 Döttingen
CATEGORIES:Saison 2025/26
END:VEVENT
BEGIN:VEVENT
DTSTAMP:20260424T141120Z
DTSTART;TZID=Europe/Berlin:20250910T201500
DTEND;TZID=Europe/Berlin:20250910T231500
SUMMARY:HE 3. Liga Gr. 4 Döttingen III vs Lenzburg II (0)
UID:07a76f62-4295-4451-9df3-6b01ff2b6875
STATUS:CONFIRMED
LAST-MODIFIED:20250911T111053Z
DESCRIPTION:3. Liga Herren Gruppe 4\nBegegnungs-Nr: 0\nHeim: Döttingen III\nGast: Lenzburg II\n\nAdresse: Im Bogen\, Chilbert 25\, 5312 Döttingen\n
LOCATION:Im Bogen\, Chilbert 25\, 5312 Döttingen
CATEGORIES:Saison 2025/26
END:VEVENT
BEGIN:VEVENT
DTSTAMP:20260424T141120Z
DTSTART;TZID=Europe/Berlin:20260108T200000
DTEND;TZID=Europe/Berlin:20260108T230000
SUMMARY:HE 3. Liga Gr. 4 Baden-Wettingen III vs Döttingen III (0)
UID:9c5bb592-1b03-4b87-ad51-06d8d2f71b3a
STATUS:CONFIRMED
LAST-MODIFIED:20260109T074100Z
DESCRIPTION:3. Liga Herren Gruppe 4\nBegegnungs-Nr: 0\nHeim: Baden-Wettingen III\nGast: Döttingen III\n\nAdresse: Schulstrasse 14\, 5430 Wettingen\n
LOCATION:Schulstrasse 14\, 5430 Wettingen
CATEGORIES:Saison 2025/26
END:VEVENT
BEGIN:VEVENT
DTSTAMP:20260424T141120Z
DTSTART;TZID=Europe/Berlin:20260122T203000
DTEND;TZID=Europe/Berlin:20260122T233000
SUMMARY:HE 3. Liga Gr. 4 Lenzburg II vs Döttingen III (0)
UID:24ca0a93-997b-4cc3-b5eb-062111a9e03f
STATUS:CONFIRMED
LAST-MODIFIED:20260129T075114Z
DESCRIPTION:3. Liga Herren Gruppe 4\nBegegnungs-Nr: 0\nHeim: Lenzburg II\nGast: Döttingen III\n\nAdresse: Turnerweg\, 5600 Lenzburg\n
LOCATION:Turnerweg\, 5600 Lenzburg
CATEGORIES:Saison 2025/26
END:VEVENT
BEGIN:VEVENT
DTSTAMP:20260424T141120Z
DTSTART;TZID=Europe/Berlin:20260303T194500
DTEND;TZID=Europe/Berlin:20260303T224500
SUMMARY:HE 3. Liga Gr. 4 Brugg vs Döttingen III (0)
UID:d98c82bc-6aa4-4388-8999-ca6d53aa3154
STATUS:CONFIRMED
LAST-MODIFIED:20260304T104313Z
DESCRIPTION:3. Liga Herren Gruppe 4\nBegegnungs-Nr: 0\nHeim: Brugg\nGast: Döttingen III\n\nAdresse: Sommerhaldenstrasse 29\, 5200 Brugg/Lauffohr\n
LOCATION:Sommerhaldenstrasse 29\, 5200 Brugg/Lauffohr
CATEGORIES:Saison 2025/26
END:VEVENT
BEGIN:VEVENT
DTSTAMP:20260424T141120Z
DTSTART;TZID=Europe/Berlin:20260327T200000
DTEND;TZID=Europe/Berlin:20260327T230000
SUMMARY:HE 3. Liga Gr. 4 Schöftland III vs Döttingen III (0)
UID:76464c04-5e25-441b-9d13-1341e8ab2df5
STATUS:CONFIRMED
LAST-MODIFIED:20260409T114526Z
DESCRIPTION:3. Liga Herren Gruppe 4\nBegegnungs-Nr: 0\nHeim: Schöftland III\nGast: Döttingen III\n\nAdresse: Birkenweg\, 5040 Schöftland\n
LOCATION:Birkenweg\, 5040 Schöftland
CATEGORIES:Saison 2025/26
END:VEVENT
BEGIN:VEVENT
DTSTAMP:20260424T141120Z
DTSTART;TZID=Europe/Berlin:20250911T200000
DTEND;TZID=Europe/Berlin:20250911T230000
SUMMARY:HE 3. Liga Gr. 4 Mellingen vs Döttingen III (0)
UID:144c8904-16bf-4ac4-a3fe-157fa77c2589
STATUS:CONFIRMED
LAST-MODIFIED:20250912T144255Z
DESCRIPTION:3. Liga Herren Gruppe 4\nBegegnungs-Nr: 0\nHeim: Mellingen\nGast: Döttingen III\n\nAdresse: Bahnhofstrasse 22\, 5507 Mellingen\n
LOCATION:Bahnhofstrasse 22\, 5507 Mellingen
CATEGORIES:Saison 2025/26
END:VEVENT
BEGIN:VEVENT
DTSTAMP:20260424T141120Z
DTSTART;TZID=Europe/Berlin:20250923T201500
DTEND;TZID=Europe/Berlin:20250923T231500
SUMMARY:HE 3. Liga Gr. 4 Bremgarten IV vs Döttingen III (0)
UID:df01f0dc-5f31-422f-8aec-668fad7aedee
STATUS:CONFIRMED
LAST-MODIFIED:20250926T123513Z
DESCRIPTION:3. Liga Herren Gruppe 4\nBegegnungs-Nr: 0\nHeim: Bremgarten IV\nGast: Döttingen III\n\nAdresse: Badstrasse 3\, 5620 Bremgarten\n
LOCATION:Badstrasse 3\, 5620 Bremgarten
CATEGORIES:Saison 2025/26
END:VEVENT
BEGIN:VEVENT
DTSTAMP:20260424T141120Z
DTSTART;TZID=Europe/Berlin:20251112T200000
DTEND;TZID=Europe/Berlin:20251112T230000
SUMMARY:HE 3. Liga Gr. 4 Menziken vs Döttingen III (0)
UID:e9377e65-faa5-4ed3-9d09-ee0af73a01aa
STATUS:CONFIRMED
LAST-MODIFIED:20251114T140608Z
DESCRIPTION:3. Liga Herren Gruppe 4\nBegegnungs-Nr: 0\nHeim: Menziken\nGast: Döttingen III\n\nAdresse: Turnplatzstrasse\, 5737 Menziken\n
LOCATION:Turnplatzstrasse\, 5737 Menziken
CATEGORIES:Saison 2025/26
END:VEVENT
END:VCALENDAR
