BEGIN:VCALENDAR
PRODID:-//nuDatenautomaten//framework iCal4j //DE
VERSION:2.0
CALSCALE:GREGORIAN
BEGIN:VTIMEZONE
TZID:Europe/Berlin
LAST-MODIFIED:20260306T231828Z
TZURL:https://www.tzurl.org/zoneinfo/Europe/Berlin
X-LIC-LOCATION:Europe/Berlin
X-PROLEPTIC-TZNAME:LMT
BEGIN:STANDARD
TZNAME:CET
TZOFFSETFROM:+005328
TZOFFSETTO:+0100
DTSTART:18930401T000000
END:STANDARD
BEGIN:DAYLIGHT
TZNAME:CEST
TZOFFSETFROM:+0100
TZOFFSETTO:+0200
DTSTART:19160430T230000
RDATE:19400401T020000
RDATE:19430329T020000
RDATE:19460414T020000
RDATE:19470406T030000
RDATE:19480418T020000
RDATE:19490410T020000
RDATE:19800406T020000
END:DAYLIGHT
BEGIN:STANDARD
TZNAME:CET
TZOFFSETFROM:+0200
TZOFFSETTO:+0100
DTSTART:19161001T010000
RDATE:19421102T030000
RDATE:19431004T030000
RDATE:19441002T030000
RDATE:19451118T030000
RDATE:19461007T030000
END:STANDARD
BEGIN:DAYLIGHT
TZNAME:CEST
TZOFFSETFROM:+0100
TZOFFSETTO:+0200
DTSTART:19170416T020000
RRULE:FREQ=YEARLY;UNTIL=19180415T010000Z;BYMONTH=4;BYDAY=3MO
END:DAYLIGHT
BEGIN:STANDARD
TZNAME:CET
TZOFFSETFROM:+0200
TZOFFSETTO:+0100
DTSTART:19170917T030000
RRULE:FREQ=YEARLY;UNTIL=19180916T010000Z;BYMONTH=9;BYDAY=3MO
END:STANDARD
BEGIN:DAYLIGHT
TZNAME:CEST
TZOFFSETFROM:+0100
TZOFFSETTO:+0200
DTSTART:19440403T020000
RRULE:FREQ=YEARLY;UNTIL=19450402T010000Z;BYMONTH=4;BYDAY=1MO
END:DAYLIGHT
BEGIN:DAYLIGHT
TZNAME:CEMT
TZOFFSETFROM:+0200
TZOFFSETTO:+0300
DTSTART:19450524T020000
RDATE:19470511T030000
END:DAYLIGHT
BEGIN:DAYLIGHT
TZNAME:CEST
TZOFFSETFROM:+0300
TZOFFSETTO:+0200
DTSTART:19450924T030000
RDATE:19470629T030000
END:DAYLIGHT
BEGIN:STANDARD
TZNAME:CET
TZOFFSETFROM:+0100
TZOFFSETTO:+0100
DTSTART:19460101T000000
RDATE:19800101T000000
END:STANDARD
BEGIN:STANDARD
TZNAME:CET
TZOFFSETFROM:+0200
TZOFFSETTO:+0100
DTSTART:19471005T030000
RRULE:FREQ=YEARLY;UNTIL=19491002T010000Z;BYMONTH=10;BYDAY=1SU
END:STANDARD
BEGIN:STANDARD
TZNAME:CET
TZOFFSETFROM:+0200
TZOFFSETTO:+0100
DTSTART:19800928T030000
RRULE:FREQ=YEARLY;UNTIL=19950924T010000Z;BYMONTH=9;BYDAY=-1SU
END:STANDARD
BEGIN:DAYLIGHT
TZNAME:CEST
TZOFFSETFROM:+0100
TZOFFSETTO:+0200
DTSTART:19810329T020000
RRULE:FREQ=YEARLY;BYMONTH=3;BYDAY=-1SU
END:DAYLIGHT
BEGIN:STANDARD
TZNAME:CET
TZOFFSETFROM:+0200
TZOFFSETTO:+0100
DTSTART:19961027T030000
RRULE:FREQ=YEARLY;BYMONTH=10;BYDAY=-1SU
END:STANDARD
END:VTIMEZONE
BEGIN:VEVENT
DTSTAMP:20260424T175745Z
DTSTART;TZID=Europe/Berlin:20251115T143000
DTEND;TZID=Europe/Berlin:20251115T173000
SUMMARY:JUG\, 3.Li\, Gr.5\, ZR Neuhausen III vs Zürich-Affoltern IV (3)
UID:f007df8a-47c0-4f1e-b5f3-99cfb47bb582
STATUS:CONFIRMED
LAST-MODIFIED:20251124T150737Z
DESCRIPTION:Jugend\, 3. Liga\, Gruppe 5\, Zwischenrunde\nBegegnungs-Nr: 3\nHeim: Neuhausen III\nGast: Zürich-Affoltern IV\n\nAdresse: Ebnatstrasse 35\, 8200 Schaffhausen\n
LOCATION:Ebnatstrasse 35\, 8200 Schaffhausen
CATEGORIES:Saison 2025/26
END:VEVENT
BEGIN:VEVENT
DTSTAMP:20260424T175745Z
DTSTART;TZID=Europe/Berlin:20250830T160000
DTEND;TZID=Europe/Berlin:20250830T190000
SUMMARY:JUG\, 3.Li\, Gr.2\, VR Neuhausen III vs Young Stars ZH III (6)
UID:dc0de73e-a372-4268-af6a-94770dd733d8
STATUS:CONFIRMED
LAST-MODIFIED:20250902T124642Z
DESCRIPTION:Jugend\, 3. Liga\, Gruppe 2\, Vorrunde\nBegegnungs-Nr: 6\nHeim: Neuhausen III\nGast: Young Stars ZH III\n\nAdresse: Ebnatstrasse 35\, 8200 Schaffhausen\n
LOCATION:Ebnatstrasse 35\, 8200 Schaffhausen
CATEGORIES:Saison 2025/26
END:VEVENT
BEGIN:VEVENT
DTSTAMP:20260424T175745Z
DTSTART;TZID=Europe/Berlin:20260328T130000
DTEND;TZID=Europe/Berlin:20260328T160000
SUMMARY:JUG\, 3.Li\, Gr.7\, Final Neuhausen III vs Zürich II (2)
UID:d8989ab6-e296-4a82-adc8-551bb6a90914
STATUS:CONFIRMED
LAST-MODIFIED:20260402T064905Z
DESCRIPTION:Jugend\, 3. Liga\, Gruppe 7\, Final\nBegegnungs-Nr: 2\nHeim: Neuhausen III\nGast: Zürich II\n\nAdresse: Ebnatstrasse 35\, 8200 Schaffhausen\n
LOCATION:Ebnatstrasse 35\, 8200 Schaffhausen
CATEGORIES:Saison 2025/26
END:VEVENT
BEGIN:VEVENT
DTSTAMP:20260424T175745Z
DTSTART;TZID=Europe/Berlin:20260328T160000
DTEND;TZID=Europe/Berlin:20260328T190000
SUMMARY:JUG\, 3.Li\, Gr.7\, Final Neuhausen III vs St. Gallen IV (5)
UID:f896372a-efd1-46c3-9c30-6e1e434d0303
STATUS:CONFIRMED
LAST-MODIFIED:20260401T140756Z
DESCRIPTION:Jugend\, 3. Liga\, Gruppe 7\, Final\nBegegnungs-Nr: 5\nHeim: Neuhausen III\nGast: St. Gallen IV\n\nAdresse: Ebnatstrasse 35\, 8200 Schaffhausen\n
LOCATION:Ebnatstrasse 35\, 8200 Schaffhausen
CATEGORIES:Saison 2025/26
END:VEVENT
BEGIN:VEVENT
DTSTAMP:20260424T175745Z
DTSTART;TZID=Europe/Berlin:20251115T160000
DTEND;TZID=Europe/Berlin:20251115T190000
SUMMARY:JUG\, 3.Li\, Gr.5\, ZR BW-Wollishofen vs Neuhausen III (5)
UID:ab722a34-fb90-4af3-8f7e-4b1a6f7111cf
STATUS:CONFIRMED
LAST-MODIFIED:20251121T100309Z
DESCRIPTION:Jugend\, 3. Liga\, Gruppe 5\, Zwischenrunde\nBegegnungs-Nr: 5\nHeim: BW-Wollishofen\nGast: Neuhausen III\n\nAdresse: Kilchbergstr. 28\, 8038 Zürich\n
LOCATION:Kilchbergstr. 28\, 8038 Zürich
CATEGORIES:Saison 2025/26
END:VEVENT
BEGIN:VEVENT
DTSTAMP:20260424T175745Z
DTSTART;TZID=Europe/Berlin:20251115T130000
DTEND;TZID=Europe/Berlin:20251115T160000
SUMMARY:JUG\, 3.Li\, Gr.5\, ZR Herisau vs Neuhausen III (1)
UID:6203a413-7c14-4576-8ab9-a77c83709868
STATUS:CONFIRMED
LAST-MODIFIED:20251121T100241Z
DESCRIPTION:Jugend\, 3. Liga\, Gruppe 5\, Zwischenrunde\nBegegnungs-Nr: 1\nHeim: Herisau\nGast: Neuhausen III\nHalle: Poule in Herisau\, Schulhaus Müli\nAdresse: Schwellbrunnerstrasse 29\, 9100 Herisau\n
LOCATION:Poule in Herisau\, Schulhaus Müli Schwellbrunnerstrasse 29\, 9100 Herisau
CATEGORIES:Saison 2025/26
END:VEVENT
BEGIN:VEVENT
DTSTAMP:20260424T175745Z
DTSTART;TZID=Europe/Berlin:20250830T143000
DTEND;TZID=Europe/Berlin:20250830T173000
SUMMARY:JUG\, 3.Li\, Gr.2\, VR Bülach III vs Neuhausen III (3)
UID:31a80bac-4c90-4d91-9fd0-5ba7048796b5
STATUS:CONFIRMED
LAST-MODIFIED:20250902T124444Z
DESCRIPTION:Jugend\, 3. Liga\, Gruppe 2\, Vorrunde\nBegegnungs-Nr: 3\nHeim: Bülach III\nGast: Neuhausen III\n\nAdresse: Schwerzgruebstrasse 28\, 8180 Bülach\n
LOCATION:Schwerzgruebstrasse 28\, 8180 Bülach
CATEGORIES:Saison 2025/26
END:VEVENT
BEGIN:VEVENT
DTSTAMP:20260424T175745Z
DTSTART;TZID=Europe/Berlin:20250830T130000
DTEND;TZID=Europe/Berlin:20250830T160000
SUMMARY:JUG\, 3.Li\, Gr.2\, VR Buchs Zürich vs Neuhausen III (2)
UID:f6cd69bb-bb2f-45e2-bef3-09ed972edf92
STATUS:CONFIRMED
LAST-MODIFIED:20250902T124428Z
DESCRIPTION:Jugend\, 3. Liga\, Gruppe 2\, Vorrunde\nBegegnungs-Nr: 2\nHeim: Buchs Zürich\nGast: Neuhausen III\n\nAdresse: Drisglerstrasse 3\, 8107 Buchs ZH\n
LOCATION:Drisglerstrasse 3\, 8107 Buchs ZH
CATEGORIES:Saison 2025/26
END:VEVENT
BEGIN:VEVENT
DTSTAMP:20260424T175745Z
DTSTART;TZID=Europe/Berlin:20260328T143000
DTEND;TZID=Europe/Berlin:20260328T173000
SUMMARY:JUG\, 3.Li\, Gr.7\, Final Gossau St.Gallen vs Neuhausen III (4)
UID:d97ef79a-7221-4e2c-a571-14a7771e5fff
STATUS:CONFIRMED
LAST-MODIFIED:20260401T140746Z
DESCRIPTION:Jugend\, 3. Liga\, Gruppe 7\, Final\nBegegnungs-Nr: 4\nHeim: Gossau St.Gallen\nGast: Neuhausen III\n\nAdresse: Falkenstrasse 21\, 9200 Gossau\n
LOCATION:Falkenstrasse 21\, 9200 Gossau
CATEGORIES:Saison 2025/26
END:VEVENT
END:VCALENDAR
