BEGIN:VCALENDAR
PRODID:-//nuDatenautomaten//framework iCal4j //DE
VERSION:2.0
CALSCALE:GREGORIAN
BEGIN:VTIMEZONE
TZID:Europe/Berlin
LAST-MODIFIED:20260306T231828Z
TZURL:https://www.tzurl.org/zoneinfo/Europe/Berlin
X-LIC-LOCATION:Europe/Berlin
X-PROLEPTIC-TZNAME:LMT
BEGIN:STANDARD
TZNAME:CET
TZOFFSETFROM:+005328
TZOFFSETTO:+0100
DTSTART:18930401T000000
END:STANDARD
BEGIN:DAYLIGHT
TZNAME:CEST
TZOFFSETFROM:+0100
TZOFFSETTO:+0200
DTSTART:19160430T230000
RDATE:19400401T020000
RDATE:19430329T020000
RDATE:19460414T020000
RDATE:19470406T030000
RDATE:19480418T020000
RDATE:19490410T020000
RDATE:19800406T020000
END:DAYLIGHT
BEGIN:STANDARD
TZNAME:CET
TZOFFSETFROM:+0200
TZOFFSETTO:+0100
DTSTART:19161001T010000
RDATE:19421102T030000
RDATE:19431004T030000
RDATE:19441002T030000
RDATE:19451118T030000
RDATE:19461007T030000
END:STANDARD
BEGIN:DAYLIGHT
TZNAME:CEST
TZOFFSETFROM:+0100
TZOFFSETTO:+0200
DTSTART:19170416T020000
RRULE:FREQ=YEARLY;UNTIL=19180415T010000Z;BYMONTH=4;BYDAY=3MO
END:DAYLIGHT
BEGIN:STANDARD
TZNAME:CET
TZOFFSETFROM:+0200
TZOFFSETTO:+0100
DTSTART:19170917T030000
RRULE:FREQ=YEARLY;UNTIL=19180916T010000Z;BYMONTH=9;BYDAY=3MO
END:STANDARD
BEGIN:DAYLIGHT
TZNAME:CEST
TZOFFSETFROM:+0100
TZOFFSETTO:+0200
DTSTART:19440403T020000
RRULE:FREQ=YEARLY;UNTIL=19450402T010000Z;BYMONTH=4;BYDAY=1MO
END:DAYLIGHT
BEGIN:DAYLIGHT
TZNAME:CEMT
TZOFFSETFROM:+0200
TZOFFSETTO:+0300
DTSTART:19450524T020000
RDATE:19470511T030000
END:DAYLIGHT
BEGIN:DAYLIGHT
TZNAME:CEST
TZOFFSETFROM:+0300
TZOFFSETTO:+0200
DTSTART:19450924T030000
RDATE:19470629T030000
END:DAYLIGHT
BEGIN:STANDARD
TZNAME:CET
TZOFFSETFROM:+0100
TZOFFSETTO:+0100
DTSTART:19460101T000000
RDATE:19800101T000000
END:STANDARD
BEGIN:STANDARD
TZNAME:CET
TZOFFSETFROM:+0200
TZOFFSETTO:+0100
DTSTART:19471005T030000
RRULE:FREQ=YEARLY;UNTIL=19491002T010000Z;BYMONTH=10;BYDAY=1SU
END:STANDARD
BEGIN:STANDARD
TZNAME:CET
TZOFFSETFROM:+0200
TZOFFSETTO:+0100
DTSTART:19800928T030000
RRULE:FREQ=YEARLY;UNTIL=19950924T010000Z;BYMONTH=9;BYDAY=-1SU
END:STANDARD
BEGIN:DAYLIGHT
TZNAME:CEST
TZOFFSETFROM:+0100
TZOFFSETTO:+0200
DTSTART:19810329T020000
RRULE:FREQ=YEARLY;BYMONTH=3;BYDAY=-1SU
END:DAYLIGHT
BEGIN:STANDARD
TZNAME:CET
TZOFFSETFROM:+0200
TZOFFSETTO:+0100
DTSTART:19961027T030000
RRULE:FREQ=YEARLY;BYMONTH=10;BYDAY=-1SU
END:STANDARD
END:VTIMEZONE
BEGIN:VEVENT
DTSTAMP:20260424T181548Z
DTSTART;TZID=Europe/Berlin:20251103T200000
DTEND;TZID=Europe/Berlin:20251103T230000
SUMMARY:HE NLC Gr. 3 Schöftland vs Basel II (20)
UID:8538d3ab-054d-4cd4-8082-a14d24dff9b0
STATUS:CONFIRMED
LAST-MODIFIED:20251107T081755Z
DESCRIPTION:Herren Nationalliga C Gruppe 3\nBegegnungs-Nr: 20\nHeim: Schöftland\nGast: Basel II\n\nAdresse: Birkenweg\, 5040 Schöftland\n
LOCATION:Birkenweg\, 5040 Schöftland
CATEGORIES:Saison 2025/26
END:VEVENT
BEGIN:VEVENT
DTSTAMP:20260424T181548Z
DTSTART;TZID=Europe/Berlin:20251020T200000
DTEND;TZID=Europe/Berlin:20251020T230000
SUMMARY:HE NLC Gr. 3 Schöftland vs Sarnen (16)
UID:d33cdf16-866f-4492-be5f-2119928e8e11
STATUS:CONFIRMED
LAST-MODIFIED:20251021T151741Z
DESCRIPTION:Herren Nationalliga C Gruppe 3\nBegegnungs-Nr: 16\nHeim: Schöftland\nGast: Sarnen\n\nAdresse: Birkenweg\, 5040 Schöftland\n
LOCATION:Birkenweg\, 5040 Schöftland
CATEGORIES:Saison 2025/26
END:VEVENT
BEGIN:VEVENT
DTSTAMP:20260424T181548Z
DTSTART;TZID=Europe/Berlin:20250915T200000
DTEND;TZID=Europe/Berlin:20250915T230000
SUMMARY:HE NLC Gr. 3 Schöftland vs Ostermundigen (5)
UID:91a6dc20-0322-402e-85aa-de953d1a29a5
STATUS:CONFIRMED
LAST-MODIFIED:20250918T112606Z
DESCRIPTION:Herren Nationalliga C Gruppe 3\nBegegnungs-Nr: 5\nHeim: Schöftland\nGast: Ostermundigen\n\nAdresse: Birkenweg\, 5040 Schöftland\n
LOCATION:Birkenweg\, 5040 Schöftland
CATEGORIES:Saison 2025/26
END:VEVENT
BEGIN:VEVENT
DTSTAMP:20260424T181548Z
DTSTART;TZID=Europe/Berlin:20260112T200000
DTEND;TZID=Europe/Berlin:20260112T230000
SUMMARY:HE NLC Gr. 3 Schöftland vs Burgdorf (3)
UID:c029a454-dcdb-4aa1-b145-988eee1fb717
STATUS:CONFIRMED
LAST-MODIFIED:20260113T124700Z
DESCRIPTION:Herren Nationalliga C Gruppe 3\nBegegnungs-Nr: 3\nHeim: Schöftland\nGast: Burgdorf\n\nAdresse: Birkenweg\, 5040 Schöftland\n
LOCATION:Birkenweg\, 5040 Schöftland
CATEGORIES:Saison 2025/26
END:VEVENT
BEGIN:VEVENT
DTSTAMP:20260424T181548Z
DTSTART;TZID=Europe/Berlin:20260216T200000
DTEND;TZID=Europe/Berlin:20260216T230000
SUMMARY:HE NLC Gr. 3 Schöftland vs Bremgarten (9)
UID:a7111eb2-9d2c-45bd-8da6-97b1e2365d10
STATUS:CONFIRMED
LAST-MODIFIED:20260217T064657Z
DESCRIPTION:Herren Nationalliga C Gruppe 3\nBegegnungs-Nr: 9\nHeim: Schöftland\nGast: Bremgarten\n\nAdresse: Birkenweg\, 5040 Schöftland\n
LOCATION:Birkenweg\, 5040 Schöftland
CATEGORIES:Saison 2025/26
END:VEVENT
BEGIN:VEVENT
DTSTAMP:20260424T181548Z
DTSTART;TZID=Europe/Berlin:20260413T200000
DTEND;TZID=Europe/Berlin:20260413T230000
SUMMARY:HE NLC Gr. 3 Schöftland vs Delémont (22)
UID:2d4e915f-19d5-424b-b813-cef464fc2aab
STATUS:CONFIRMED
LAST-MODIFIED:20260414T090302Z
DESCRIPTION:Herren Nationalliga C Gruppe 3\nBegegnungs-Nr: 22\nHeim: Schöftland\nGast: Delémont\n\nAdresse: Birkenweg\, 5040 Schöftland\n
LOCATION:Birkenweg\, 5040 Schöftland
CATEGORIES:Saison 2025/26
END:VEVENT
BEGIN:VEVENT
DTSTAMP:20260424T181548Z
DTSTART;TZID=Europe/Berlin:20260419T140000
DTEND;TZID=Europe/Berlin:20260419T170000
SUMMARY:HE NLC Gr. 3 Schöftland vs Rapid Luzern II (27)
UID:8ee8eacf-acd9-45b0-a16d-72253e2644d2
STATUS:CONFIRMED
LAST-MODIFIED:20260420T083333Z
DESCRIPTION:Herren Nationalliga C Gruppe 3\nBegegnungs-Nr: 27\nHeim: Schöftland\nGast: Rapid Luzern II\n\nAdresse: Birkenweg\, 5040 Schöftland\n
LOCATION:Birkenweg\, 5040 Schöftland
CATEGORIES:Saison 2025/26
END:VEVENT
BEGIN:VEVENT
DTSTAMP:20260424T181548Z
DTSTART;TZID=Europe/Berlin:20251206T170000
DTEND;TZID=Europe/Berlin:20251206T200000
SUMMARY:HE NLC Gr. 3 Rapid Luzern II vs Schöftland (27)
UID:ba6c6628-dd6e-493a-8cc9-70f5028eaef8
STATUS:CONFIRMED
LAST-MODIFIED:20251209T094852Z
DESCRIPTION:Herren Nationalliga C Gruppe 3\nBegegnungs-Nr: 27\nHeim: Rapid Luzern II\nGast: Schöftland\n\nAdresse: Kreuzbuchstr. 60\, 6006 Luzern\n
LOCATION:Kreuzbuchstr. 60\, 6006 Luzern
CATEGORIES:Saison 2025/26
END:VEVENT
BEGIN:VEVENT
DTSTAMP:20260424T181548Z
DTSTART;TZID=Europe/Berlin:20250913T140000
DTEND;TZID=Europe/Berlin:20250913T170000
SUMMARY:HE NLC Gr. 3 Burgdorf vs Schöftland (3)
UID:e6859496-93c5-4a42-bf42-e44fe6d88e7c
STATUS:CONFIRMED
LAST-MODIFIED:20250918T112409Z
DESCRIPTION:Herren Nationalliga C Gruppe 3\nBegegnungs-Nr: 3\nHeim: Burgdorf\nGast: Schöftland\n\nAdresse: Pestalozzistrasse 69\, 3400 Burgdorf\n
LOCATION:Pestalozzistrasse 69\, 3400 Burgdorf
CATEGORIES:Saison 2025/26
END:VEVENT
BEGIN:VEVENT
DTSTAMP:20260424T181548Z
DTSTART;TZID=Europe/Berlin:20251017T203000
DTEND;TZID=Europe/Berlin:20251017T233000
SUMMARY:HE NLC Gr. 3 Bremgarten vs Schöftland (9)
UID:351161f4-6ca6-4270-9b52-98f33a039aae
STATUS:CONFIRMED
LAST-MODIFIED:20251020T102143Z
DESCRIPTION:Herren Nationalliga C Gruppe 3\nBegegnungs-Nr: 9\nHeim: Bremgarten\nGast: Schöftland\n\nAdresse: Badstrasse 3\, 5620 Bremgarten\n
LOCATION:Badstrasse 3\, 5620 Bremgarten
CATEGORIES:Saison 2025/26
END:VEVENT
BEGIN:VEVENT
DTSTAMP:20260424T181548Z
DTSTART;TZID=Europe/Berlin:20251122T160000
DTEND;TZID=Europe/Berlin:20251122T190000
SUMMARY:HE NLC Gr. 3 Delémont vs Schöftland (22)
UID:764b3bf7-68e7-4eab-8899-97d347e79a3d
STATUS:CONFIRMED
LAST-MODIFIED:20251126T101742Z
DESCRIPTION:Herren Nationalliga C Gruppe 3\nBegegnungs-Nr: 22\nHeim: Delémont\nGast: Schöftland\n\nAdresse: Rue de la Blancherie 4\, 2800 Delémont\n
LOCATION:Rue de la Blancherie 4\, 2800 Delémont
CATEGORIES:Saison 2025/26
END:VEVENT
BEGIN:VEVENT
DTSTAMP:20260424T181548Z
DTSTART;TZID=Europe/Berlin:20260131T140000
DTEND;TZID=Europe/Berlin:20260131T170000
SUMMARY:HE NLC Gr. 3 Ostermundigen vs Schöftland (5)
UID:11b2880e-1047-4e23-ad18-df6f23bcfadb
STATUS:CONFIRMED
LAST-MODIFIED:20260203T081401Z
DESCRIPTION:Herren Nationalliga C Gruppe 3\nBegegnungs-Nr: 5\nHeim: Ostermundigen\nGast: Schöftland\n\nAdresse: Dennigkofenweg 169\, 3072 Ostermundigen\n
LOCATION:Dennigkofenweg 169\, 3072 Ostermundigen
CATEGORIES:Saison 2025/26
END:VEVENT
BEGIN:VEVENT
DTSTAMP:20260424T181548Z
DTSTART;TZID=Europe/Berlin:20260328T130000
DTEND;TZID=Europe/Berlin:20260328T160000
SUMMARY:HE NLC Gr. 3 Basel II vs Schöftland (20)
UID:0165d2a1-8a96-43cd-83ad-0df3cc2f53d0
STATUS:CONFIRMED
LAST-MODIFIED:20260330T074642Z
DESCRIPTION:Herren Nationalliga C Gruppe 3\nBegegnungs-Nr: 20\nHeim: Basel II\nGast: Schöftland\n\nAdresse: Schwarzwaldallee 107\, 4058 Basel\n
LOCATION:Schwarzwaldallee 107\, 4058 Basel
CATEGORIES:Saison 2025/26
END:VEVENT
BEGIN:VEVENT
DTSTAMP:20260424T181548Z
DTSTART;TZID=Europe/Berlin:20260228T163000
DTEND;TZID=Europe/Berlin:20260228T193000
SUMMARY:HE NLC Gr. 3 Sarnen vs Schöftland (16)
UID:47918b60-c7a4-4a76-a4c2-8e14689a4ba9
STATUS:CONFIRMED
LAST-MODIFIED:20260302T215017Z
DESCRIPTION:Herren Nationalliga C Gruppe 3\nBegegnungs-Nr: 16\nHeim: Sarnen\nGast: Schöftland\n\nAdresse: Wilerstr. 65\, 6062 Wilen (Sarnen)\n
LOCATION:Wilerstr. 65\, 6062 Wilen (Sarnen)
CATEGORIES:Saison 2025/26
END:VEVENT
END:VCALENDAR
