BEGIN:VCALENDAR
PRODID:-//nuDatenautomaten//framework iCal4j //DE
VERSION:2.0
CALSCALE:GREGORIAN
BEGIN:VTIMEZONE
TZID:Europe/Berlin
LAST-MODIFIED:20260306T231828Z
TZURL:https://www.tzurl.org/zoneinfo/Europe/Berlin
X-LIC-LOCATION:Europe/Berlin
X-PROLEPTIC-TZNAME:LMT
BEGIN:STANDARD
TZNAME:CET
TZOFFSETFROM:+005328
TZOFFSETTO:+0100
DTSTART:18930401T000000
END:STANDARD
BEGIN:DAYLIGHT
TZNAME:CEST
TZOFFSETFROM:+0100
TZOFFSETTO:+0200
DTSTART:19160430T230000
RDATE:19400401T020000
RDATE:19430329T020000
RDATE:19460414T020000
RDATE:19470406T030000
RDATE:19480418T020000
RDATE:19490410T020000
RDATE:19800406T020000
END:DAYLIGHT
BEGIN:STANDARD
TZNAME:CET
TZOFFSETFROM:+0200
TZOFFSETTO:+0100
DTSTART:19161001T010000
RDATE:19421102T030000
RDATE:19431004T030000
RDATE:19441002T030000
RDATE:19451118T030000
RDATE:19461007T030000
END:STANDARD
BEGIN:DAYLIGHT
TZNAME:CEST
TZOFFSETFROM:+0100
TZOFFSETTO:+0200
DTSTART:19170416T020000
RRULE:FREQ=YEARLY;UNTIL=19180415T010000Z;BYMONTH=4;BYDAY=3MO
END:DAYLIGHT
BEGIN:STANDARD
TZNAME:CET
TZOFFSETFROM:+0200
TZOFFSETTO:+0100
DTSTART:19170917T030000
RRULE:FREQ=YEARLY;UNTIL=19180916T010000Z;BYMONTH=9;BYDAY=3MO
END:STANDARD
BEGIN:DAYLIGHT
TZNAME:CEST
TZOFFSETFROM:+0100
TZOFFSETTO:+0200
DTSTART:19440403T020000
RRULE:FREQ=YEARLY;UNTIL=19450402T010000Z;BYMONTH=4;BYDAY=1MO
END:DAYLIGHT
BEGIN:DAYLIGHT
TZNAME:CEMT
TZOFFSETFROM:+0200
TZOFFSETTO:+0300
DTSTART:19450524T020000
RDATE:19470511T030000
END:DAYLIGHT
BEGIN:DAYLIGHT
TZNAME:CEST
TZOFFSETFROM:+0300
TZOFFSETTO:+0200
DTSTART:19450924T030000
RDATE:19470629T030000
END:DAYLIGHT
BEGIN:STANDARD
TZNAME:CET
TZOFFSETFROM:+0100
TZOFFSETTO:+0100
DTSTART:19460101T000000
RDATE:19800101T000000
END:STANDARD
BEGIN:STANDARD
TZNAME:CET
TZOFFSETFROM:+0200
TZOFFSETTO:+0100
DTSTART:19471005T030000
RRULE:FREQ=YEARLY;UNTIL=19491002T010000Z;BYMONTH=10;BYDAY=1SU
END:STANDARD
BEGIN:STANDARD
TZNAME:CET
TZOFFSETFROM:+0200
TZOFFSETTO:+0100
DTSTART:19800928T030000
RRULE:FREQ=YEARLY;UNTIL=19950924T010000Z;BYMONTH=9;BYDAY=-1SU
END:STANDARD
BEGIN:DAYLIGHT
TZNAME:CEST
TZOFFSETFROM:+0100
TZOFFSETTO:+0200
DTSTART:19810329T020000
RRULE:FREQ=YEARLY;BYMONTH=3;BYDAY=-1SU
END:DAYLIGHT
BEGIN:STANDARD
TZNAME:CET
TZOFFSETFROM:+0200
TZOFFSETTO:+0100
DTSTART:19961027T030000
RRULE:FREQ=YEARLY;BYMONTH=10;BYDAY=-1SU
END:STANDARD
END:VTIMEZONE
BEGIN:VEVENT
DTSTAMP:20260421T173308Z
DTSTART;TZID=Europe/Berlin:20260220T200000
DTEND;TZID=Europe/Berlin:20260220T230000
SUMMARY:HE 1. Liga Gr. 1 Wil SG vs Bülach (0)
UID:6f82351f-4d64-4132-aa3f-6a51be1c6736
STATUS:CONFIRMED
LAST-MODIFIED:20260225T102420Z
DESCRIPTION:1. Liga Herren Gruppe 1\nBegegnungs-Nr: 0\nHeim: Wil SG\nGast: Bülach\n\nAdresse: Bleichestrasse 3 (Neben Hallenbad)\, 8570 Weinfelden\n
LOCATION:Bleichestrasse 3 (Neben Hallenbad)\, 8570 Weinfelden
CATEGORIES:Saison 2025/26
END:VEVENT
BEGIN:VEVENT
DTSTAMP:20260421T173308Z
DTSTART;TZID=Europe/Berlin:20260306T200000
DTEND;TZID=Europe/Berlin:20260306T230000
SUMMARY:HE 1. Liga Gr. 1 Wil SG vs Chur (0)
UID:ca5db284-07ca-4ddb-82f8-b5789018f8bc
STATUS:CONFIRMED
LAST-MODIFIED:20260310T153049Z
DESCRIPTION:1. Liga Herren Gruppe 1\nBegegnungs-Nr: 0\nHeim: Wil SG\nGast: Chur\n\nAdresse: Bleichestrasse 3 (Neben Hallenbad)\, 8570 Weinfelden\n
LOCATION:Bleichestrasse 3 (Neben Hallenbad)\, 8570 Weinfelden
CATEGORIES:Saison 2025/26
END:VEVENT
BEGIN:VEVENT
DTSTAMP:20260421T173308Z
DTSTART;TZID=Europe/Berlin:20260327T200000
DTEND;TZID=Europe/Berlin:20260327T230000
SUMMARY:HE 1. Liga Gr. 1 Wil SG vs Wetzikon III (0)
UID:f05110e8-bd71-48f4-b4e4-3d869f6297d5
STATUS:CONFIRMED
LAST-MODIFIED:20260401T114502Z
DESCRIPTION:1. Liga Herren Gruppe 1\nBegegnungs-Nr: 0\nHeim: Wil SG\nGast: Wetzikon III\n\nAdresse: Bleichestrasse 3 (Neben Hallenbad)\, 8570 Weinfelden\n
LOCATION:Bleichestrasse 3 (Neben Hallenbad)\, 8570 Weinfelden
CATEGORIES:Saison 2025/26
END:VEVENT
BEGIN:VEVENT
DTSTAMP:20260421T173308Z
DTSTART;TZID=Europe/Berlin:20260320T200000
DTEND;TZID=Europe/Berlin:20260320T230000
SUMMARY:HE 1. Liga Gr. 1 Wil SG vs Wetzikon II (0)
UID:43cca27a-7889-4426-a333-dc6e76230baf
STATUS:CONFIRMED
LAST-MODIFIED:20260326T125454Z
DESCRIPTION:1. Liga Herren Gruppe 1\nBegegnungs-Nr: 0\nHeim: Wil SG\nGast: Wetzikon II\n\nAdresse: Bleichestrasse 3 (Neben Hallenbad)\, 8570 Weinfelden\n
LOCATION:Bleichestrasse 3 (Neben Hallenbad)\, 8570 Weinfelden
CATEGORIES:Saison 2025/26
END:VEVENT
BEGIN:VEVENT
DTSTAMP:20260421T173308Z
DTSTART;TZID=Europe/Berlin:20251114T200000
DTEND;TZID=Europe/Berlin:20251114T230000
SUMMARY:HE 1. Liga Gr. 1 Wil SG vs St. Gallen II (0)
UID:f97412c0-2128-4f15-b7b3-cc5e344322d0
STATUS:CONFIRMED
LAST-MODIFIED:20251118T104109Z
DESCRIPTION:1. Liga Herren Gruppe 1\nBegegnungs-Nr: 0\nHeim: Wil SG\nGast: St. Gallen II\n\nAdresse: Bleichestrasse 3 (Neben Hallenbad)\, 8570 Weinfelden\n
LOCATION:Bleichestrasse 3 (Neben Hallenbad)\, 8570 Weinfelden
CATEGORIES:Saison 2025/26
END:VEVENT
BEGIN:VEVENT
DTSTAMP:20260421T173308Z
DTSTART;TZID=Europe/Berlin:20250919T200000
DTEND;TZID=Europe/Berlin:20250919T230000
SUMMARY:HE 1. Liga Gr. 1 Wil SG vs St. Gallen III (0)
UID:cf4880de-4c15-4c98-aa26-8956f44def01
STATUS:CONFIRMED
LAST-MODIFIED:20250926T125603Z
DESCRIPTION:1. Liga Herren Gruppe 1\nBegegnungs-Nr: 0\nHeim: Wil SG\nGast: St. Gallen III\n\nAdresse: Bleichestrasse 3 (Neben Hallenbad)\, 8570 Weinfelden\n
LOCATION:Bleichestrasse 3 (Neben Hallenbad)\, 8570 Weinfelden
CATEGORIES:Saison 2025/26
END:VEVENT
BEGIN:VEVENT
DTSTAMP:20260421T173308Z
DTSTART;TZID=Europe/Berlin:20251031T200000
DTEND;TZID=Europe/Berlin:20251031T230000
SUMMARY:HE 1. Liga Gr. 1 Wil SG vs Zürich-Affoltern II (0)
UID:cf5febaa-f37b-4cdb-9d1a-0c39bb792355
STATUS:CONFIRMED
LAST-MODIFIED:20251107T144055Z
DESCRIPTION:1. Liga Herren Gruppe 1\nBegegnungs-Nr: 0\nHeim: Wil SG\nGast: Zürich-Affoltern II\n\nAdresse: Bleichestrasse 3 (Neben Hallenbad)\, 8570 Weinfelden\n
LOCATION:Bleichestrasse 3 (Neben Hallenbad)\, 8570 Weinfelden
CATEGORIES:Saison 2025/26
END:VEVENT
BEGIN:VEVENT
DTSTAMP:20260421T173308Z
DTSTART;TZID=Europe/Berlin:20260217T200000
DTEND;TZID=Europe/Berlin:20260217T230000
SUMMARY:HE 1. Liga Gr. 1 St. Gallen II vs Wil SG (0)
UID:9fed750d-6c90-4fa0-9450-c559b637dc78
STATUS:CONFIRMED
LAST-MODIFIED:20260225T102409Z
DESCRIPTION:1. Liga Herren Gruppe 1\nBegegnungs-Nr: 0\nHeim: St. Gallen II\nGast: Wil SG\n\nAdresse: Zilstrasse 61\, 9016 St.Gallen\n
LOCATION:Zilstrasse 61\, 9016 St.Gallen
CATEGORIES:Saison 2025/26
END:VEVENT
BEGIN:VEVENT
DTSTAMP:20260421T173308Z
DTSTART;TZID=Europe/Berlin:20260214T150000
DTEND;TZID=Europe/Berlin:20260214T180000
SUMMARY:HE 1. Liga Gr. 1 St. Gallen III vs Wil SG (0)
UID:de5f2a24-ab19-481f-b9c1-9626be56b482
STATUS:CONFIRMED
LAST-MODIFIED:20260216T095615Z
DESCRIPTION:1. Liga Herren Gruppe 1\nBegegnungs-Nr: 0\nHeim: St. Gallen III\nGast: Wil SG\n\nAdresse: Zilstrasse 61\, 9016 St.Gallen\n
LOCATION:Zilstrasse 61\, 9016 St.Gallen
CATEGORIES:Saison 2025/26
END:VEVENT
BEGIN:VEVENT
DTSTAMP:20260421T173308Z
DTSTART;TZID=Europe/Berlin:20260312T201500
DTEND;TZID=Europe/Berlin:20260312T231500
SUMMARY:HE 1. Liga Gr. 1 Zürich-Affoltern II vs Wil SG (0)
UID:8bdb250d-1db4-474d-ac06-7e2ad3819ae9
STATUS:CONFIRMED
LAST-MODIFIED:20260313T130306Z
DESCRIPTION:1. Liga Herren Gruppe 1\nBegegnungs-Nr: 0\nHeim: Zürich-Affoltern II\nGast: Wil SG\n\nAdresse: Rümlangstr. 89\, 8052 Zürich\n
LOCATION:Rümlangstr. 89\, 8052 Zürich
CATEGORIES:Saison 2025/26
END:VEVENT
BEGIN:VEVENT
DTSTAMP:20260421T173308Z
DTSTART;TZID=Europe/Berlin:20251211T201500
DTEND;TZID=Europe/Berlin:20251211T231500
SUMMARY:HE 1. Liga Gr. 1 Bülach vs Wil SG (0)
UID:6f55676e-a894-4bc5-a43c-42ed7165beba
STATUS:CONFIRMED
LAST-MODIFIED:20251212T081028Z
DESCRIPTION:1. Liga Herren Gruppe 1\nBegegnungs-Nr: 0\nHeim: Bülach\nGast: Wil SG\n\nAdresse: Unterweg 51\, 8180 Bülach\n
LOCATION:Unterweg 51\, 8180 Bülach
CATEGORIES:Saison 2025/26
END:VEVENT
BEGIN:VEVENT
DTSTAMP:20260421T173308Z
DTSTART;TZID=Europe/Berlin:20250925T200000
DTEND;TZID=Europe/Berlin:20250925T230000
SUMMARY:HE 1. Liga Gr. 1 Chur vs Wil SG (0)
UID:49a8031a-2ea9-4f41-844a-4f483173a445
STATUS:CONFIRMED
LAST-MODIFIED:20250926T125656Z
DESCRIPTION:1. Liga Herren Gruppe 1\nBegegnungs-Nr: 0\nHeim: Chur\nGast: Wil SG\n\nAdresse: Sandstr. 35\, 7000 Chur\n
LOCATION:Sandstr. 35\, 7000 Chur
CATEGORIES:Saison 2025/26
END:VEVENT
BEGIN:VEVENT
DTSTAMP:20260421T173308Z
DTSTART;TZID=Europe/Berlin:20251107T200000
DTEND;TZID=Europe/Berlin:20251107T230000
SUMMARY:HE 1. Liga Gr. 1 Wetzikon III vs Wil SG (0)
UID:2ef5ab78-8aef-4b5f-a1d1-5e54102ac4f4
STATUS:CONFIRMED
LAST-MODIFIED:20251114T141720Z
DESCRIPTION:1. Liga Herren Gruppe 1\nBegegnungs-Nr: 0\nHeim: Wetzikon III\nGast: Wil SG\n\nAdresse: Usterstrasse 37\, 8620 Wetzikon\n
LOCATION:Usterstrasse 37\, 8620 Wetzikon
CATEGORIES:Saison 2025/26
END:VEVENT
BEGIN:VEVENT
DTSTAMP:20260421T173308Z
DTSTART;TZID=Europe/Berlin:20251201T194500
DTEND;TZID=Europe/Berlin:20251201T224500
SUMMARY:HE 1. Liga Gr. 1 Wetzikon II vs Wil SG (0)
UID:ead1f60f-404d-420a-9f31-405222df0f43
STATUS:CONFIRMED
LAST-MODIFIED:20251203T102313Z
DESCRIPTION:1. Liga Herren Gruppe 1\nBegegnungs-Nr: 0\nHeim: Wetzikon II\nGast: Wil SG\n\nAdresse: Usterstrasse 37\, 8620 Wetzikon\n
LOCATION:Usterstrasse 37\, 8620 Wetzikon
CATEGORIES:Saison 2025/26
END:VEVENT
END:VCALENDAR
