BEGIN:VCALENDAR
PRODID:-//nuDatenautomaten//framework iCal4j //DE
VERSION:2.0
CALSCALE:GREGORIAN
BEGIN:VTIMEZONE
TZID:Europe/Berlin
LAST-MODIFIED:20260306T231828Z
TZURL:https://www.tzurl.org/zoneinfo/Europe/Berlin
X-LIC-LOCATION:Europe/Berlin
X-PROLEPTIC-TZNAME:LMT
BEGIN:STANDARD
TZNAME:CET
TZOFFSETFROM:+005328
TZOFFSETTO:+0100
DTSTART:18930401T000000
END:STANDARD
BEGIN:DAYLIGHT
TZNAME:CEST
TZOFFSETFROM:+0100
TZOFFSETTO:+0200
DTSTART:19160430T230000
RDATE:19400401T020000
RDATE:19430329T020000
RDATE:19460414T020000
RDATE:19470406T030000
RDATE:19480418T020000
RDATE:19490410T020000
RDATE:19800406T020000
END:DAYLIGHT
BEGIN:STANDARD
TZNAME:CET
TZOFFSETFROM:+0200
TZOFFSETTO:+0100
DTSTART:19161001T010000
RDATE:19421102T030000
RDATE:19431004T030000
RDATE:19441002T030000
RDATE:19451118T030000
RDATE:19461007T030000
END:STANDARD
BEGIN:DAYLIGHT
TZNAME:CEST
TZOFFSETFROM:+0100
TZOFFSETTO:+0200
DTSTART:19170416T020000
RRULE:FREQ=YEARLY;UNTIL=19180415T010000Z;BYMONTH=4;BYDAY=3MO
END:DAYLIGHT
BEGIN:STANDARD
TZNAME:CET
TZOFFSETFROM:+0200
TZOFFSETTO:+0100
DTSTART:19170917T030000
RRULE:FREQ=YEARLY;UNTIL=19180916T010000Z;BYMONTH=9;BYDAY=3MO
END:STANDARD
BEGIN:DAYLIGHT
TZNAME:CEST
TZOFFSETFROM:+0100
TZOFFSETTO:+0200
DTSTART:19440403T020000
RRULE:FREQ=YEARLY;UNTIL=19450402T010000Z;BYMONTH=4;BYDAY=1MO
END:DAYLIGHT
BEGIN:DAYLIGHT
TZNAME:CEMT
TZOFFSETFROM:+0200
TZOFFSETTO:+0300
DTSTART:19450524T020000
RDATE:19470511T030000
END:DAYLIGHT
BEGIN:DAYLIGHT
TZNAME:CEST
TZOFFSETFROM:+0300
TZOFFSETTO:+0200
DTSTART:19450924T030000
RDATE:19470629T030000
END:DAYLIGHT
BEGIN:STANDARD
TZNAME:CET
TZOFFSETFROM:+0100
TZOFFSETTO:+0100
DTSTART:19460101T000000
RDATE:19800101T000000
END:STANDARD
BEGIN:STANDARD
TZNAME:CET
TZOFFSETFROM:+0200
TZOFFSETTO:+0100
DTSTART:19471005T030000
RRULE:FREQ=YEARLY;UNTIL=19491002T010000Z;BYMONTH=10;BYDAY=1SU
END:STANDARD
BEGIN:STANDARD
TZNAME:CET
TZOFFSETFROM:+0200
TZOFFSETTO:+0100
DTSTART:19800928T030000
RRULE:FREQ=YEARLY;UNTIL=19950924T010000Z;BYMONTH=9;BYDAY=-1SU
END:STANDARD
BEGIN:DAYLIGHT
TZNAME:CEST
TZOFFSETFROM:+0100
TZOFFSETTO:+0200
DTSTART:19810329T020000
RRULE:FREQ=YEARLY;BYMONTH=3;BYDAY=-1SU
END:DAYLIGHT
BEGIN:STANDARD
TZNAME:CET
TZOFFSETFROM:+0200
TZOFFSETTO:+0100
DTSTART:19961027T030000
RRULE:FREQ=YEARLY;BYMONTH=10;BYDAY=-1SU
END:STANDARD
END:VTIMEZONE
BEGIN:VEVENT
DTSTAMP:20260424T181712Z
DTSTART;TZID=Europe/Berlin:20251108T093000
DTEND;TZID=Europe/Berlin:20251108T123000
SUMMARY:HE NLC Gr. 3 Bremgarten vs Ostermundigen (19)
UID:6d531855-d724-4f89-8625-4915b55db963
STATUS:CONFIRMED
LAST-MODIFIED:20251110T074629Z
DESCRIPTION:Herren Nationalliga C Gruppe 3\nBegegnungs-Nr: 19\nHeim: Bremgarten\nGast: Ostermundigen\n\nAdresse: Badstrasse 3\, 5620 Bremgarten\n
LOCATION:Badstrasse 3\, 5620 Bremgarten
CATEGORIES:Saison 2025/26
END:VEVENT
BEGIN:VEVENT
DTSTAMP:20260424T181712Z
DTSTART;TZID=Europe/Berlin:20250913T143000
DTEND;TZID=Europe/Berlin:20250913T173000
SUMMARY:HE NLC Gr. 3 Bremgarten vs Basel II (1)
UID:8dbbccd4-0aba-47c6-9388-09b823c781b3
STATUS:CONFIRMED
LAST-MODIFIED:20250918T112550Z
DESCRIPTION:Herren Nationalliga C Gruppe 3\nBegegnungs-Nr: 1\nHeim: Bremgarten\nGast: Basel II\n\nAdresse: Badstrasse 3\, 5620 Bremgarten\n
LOCATION:Badstrasse 3\, 5620 Bremgarten
CATEGORIES:Saison 2025/26
END:VEVENT
BEGIN:VEVENT
DTSTAMP:20260424T181712Z
DTSTART;TZID=Europe/Berlin:20251025T143000
DTEND;TZID=Europe/Berlin:20251025T173000
SUMMARY:HE NLC Gr. 3 Bremgarten vs Rapid Luzern II (13)
UID:c0232442-cf97-4c49-afea-50fab719181e
STATUS:CONFIRMED
LAST-MODIFIED:20251029T082357Z
DESCRIPTION:Herren Nationalliga C Gruppe 3\nBegegnungs-Nr: 13\nHeim: Bremgarten\nGast: Rapid Luzern II\n\nAdresse: Badstrasse 3\, 5620 Bremgarten\n
LOCATION:Badstrasse 3\, 5620 Bremgarten
CATEGORIES:Saison 2025/26
END:VEVENT
BEGIN:VEVENT
DTSTAMP:20260424T181712Z
DTSTART;TZID=Europe/Berlin:20251017T203000
DTEND;TZID=Europe/Berlin:20251017T233000
SUMMARY:HE NLC Gr. 3 Bremgarten vs Schöftland (9)
UID:351161f4-6ca6-4270-9b52-98f33a039aae
STATUS:CONFIRMED
LAST-MODIFIED:20251020T102143Z
DESCRIPTION:Herren Nationalliga C Gruppe 3\nBegegnungs-Nr: 9\nHeim: Bremgarten\nGast: Schöftland\n\nAdresse: Badstrasse 3\, 5620 Bremgarten\n
LOCATION:Badstrasse 3\, 5620 Bremgarten
CATEGORIES:Saison 2025/26
END:VEVENT
BEGIN:VEVENT
DTSTAMP:20260424T181712Z
DTSTART;TZID=Europe/Berlin:20251206T143000
DTEND;TZID=Europe/Berlin:20251206T173000
SUMMARY:HE NLC Gr. 3 Bremgarten vs Sarnen (26)
UID:9dbcbe48-dec2-4fe6-b016-a30a8a57216a
STATUS:CONFIRMED
LAST-MODIFIED:20251209T094838Z
DESCRIPTION:Herren Nationalliga C Gruppe 3\nBegegnungs-Nr: 26\nHeim: Bremgarten\nGast: Sarnen\n\nAdresse: Badstrasse 3\, 5620 Bremgarten\n
LOCATION:Badstrasse 3\, 5620 Bremgarten
CATEGORIES:Saison 2025/26
END:VEVENT
BEGIN:VEVENT
DTSTAMP:20260424T181712Z
DTSTART;TZID=Europe/Berlin:20260418T123000
DTEND;TZID=Europe/Berlin:20260418T153000
SUMMARY:HE NLC Gr. 3 Bremgarten vs Burgdorf (23)
UID:64db0974-46f4-498a-a821-70445b18594a
STATUS:CONFIRMED
LAST-MODIFIED:20260420T083219Z
DESCRIPTION:Herren Nationalliga C Gruppe 3\nBegegnungs-Nr: 23\nHeim: Bremgarten\nGast: Burgdorf\n\nAdresse: Badstrasse 3\, 5620 Bremgarten\n
LOCATION:Badstrasse 3\, 5620 Bremgarten
CATEGORIES:Saison 2025/26
END:VEVENT
BEGIN:VEVENT
DTSTAMP:20260424T181712Z
DTSTART;TZID=Europe/Berlin:20260131T143000
DTEND;TZID=Europe/Berlin:20260131T173000
SUMMARY:HE NLC Gr. 3 Bremgarten vs Delémont (8)
UID:5937f104-85a0-4f07-af35-7504f8f18b71
STATUS:CONFIRMED
LAST-MODIFIED:20260203T081426Z
DESCRIPTION:Herren Nationalliga C Gruppe 3\nBegegnungs-Nr: 8\nHeim: Bremgarten\nGast: Delémont\n\nAdresse: Badstrasse 3\, 5620 Bremgarten\n
LOCATION:Badstrasse 3\, 5620 Bremgarten
CATEGORIES:Saison 2025/26
END:VEVENT
BEGIN:VEVENT
DTSTAMP:20260424T181712Z
DTSTART;TZID=Europe/Berlin:20251122T140000
DTEND;TZID=Europe/Berlin:20251122T170000
SUMMARY:HE NLC Gr. 3 Burgdorf vs Bremgarten (23)
UID:32c713ea-ae9b-4739-aa42-fb8bdb1aef3e
STATUS:CONFIRMED
LAST-MODIFIED:20251126T101729Z
DESCRIPTION:Herren Nationalliga C Gruppe 3\nBegegnungs-Nr: 23\nHeim: Burgdorf\nGast: Bremgarten\n\nAdresse: Pestalozzistrasse 69\, 3400 Burgdorf\n
LOCATION:Pestalozzistrasse 69\, 3400 Burgdorf
CATEGORIES:Saison 2025/26
END:VEVENT
BEGIN:VEVENT
DTSTAMP:20260424T181712Z
DTSTART;TZID=Europe/Berlin:20250927T160000
DTEND;TZID=Europe/Berlin:20250927T190000
SUMMARY:HE NLC Gr. 3 Delémont vs Bremgarten (8)
UID:6938bd4a-13a0-4083-83d6-e0a0d26fb2d3
STATUS:CONFIRMED
LAST-MODIFIED:20251009T194415Z
DESCRIPTION:Herren Nationalliga C Gruppe 3\nBegegnungs-Nr: 8\nHeim: Delémont\nGast: Bremgarten\n\nAdresse: Rue de la Blancherie 4\, 2800 Delémont\n
LOCATION:Rue de la Blancherie 4\, 2800 Delémont
CATEGORIES:Saison 2025/26
END:VEVENT
BEGIN:VEVENT
DTSTAMP:20260424T181712Z
DTSTART;TZID=Europe/Berlin:20260228T130000
DTEND;TZID=Europe/Berlin:20260228T160000
SUMMARY:HE NLC Gr. 3 Rapid Luzern II vs Bremgarten (13)
UID:5af016fb-f831-40c9-9331-3bd33c4f01a6
STATUS:CONFIRMED
LAST-MODIFIED:20260302T214902Z
DESCRIPTION:Herren Nationalliga C Gruppe 3\nBegegnungs-Nr: 13\nHeim: Rapid Luzern II\nGast: Bremgarten\n\nAdresse: Kreuzbuchstr. 60\, 6006 Luzern\n
LOCATION:Kreuzbuchstr. 60\, 6006 Luzern
CATEGORIES:Saison 2025/26
END:VEVENT
BEGIN:VEVENT
DTSTAMP:20260424T181712Z
DTSTART;TZID=Europe/Berlin:20260216T200000
DTEND;TZID=Europe/Berlin:20260216T230000
SUMMARY:HE NLC Gr. 3 Schöftland vs Bremgarten (9)
UID:a7111eb2-9d2c-45bd-8da6-97b1e2365d10
STATUS:CONFIRMED
LAST-MODIFIED:20260217T064657Z
DESCRIPTION:Herren Nationalliga C Gruppe 3\nBegegnungs-Nr: 9\nHeim: Schöftland\nGast: Bremgarten\n\nAdresse: Birkenweg\, 5040 Schöftland\n
LOCATION:Birkenweg\, 5040 Schöftland
CATEGORIES:Saison 2025/26
END:VEVENT
BEGIN:VEVENT
DTSTAMP:20260424T181712Z
DTSTART;TZID=Europe/Berlin:20260419T163000
DTEND;TZID=Europe/Berlin:20260419T193000
SUMMARY:HE NLC Gr. 3 Sarnen vs Bremgarten (26)
UID:be143925-6d84-4f09-80bd-2942a141ca76
STATUS:CONFIRMED
LAST-MODIFIED:20260420T083830Z
DESCRIPTION:Herren Nationalliga C Gruppe 3\nBegegnungs-Nr: 26\nHeim: Sarnen\nGast: Bremgarten\n\nAdresse: Wilerstr. 65\, 6062 Wilen (Sarnen)\n
LOCATION:Wilerstr. 65\, 6062 Wilen (Sarnen)
CATEGORIES:Saison 2025/26
END:VEVENT
BEGIN:VEVENT
DTSTAMP:20260424T181712Z
DTSTART;TZID=Europe/Berlin:20260116T200000
DTEND;TZID=Europe/Berlin:20260116T230000
SUMMARY:HE NLC Gr. 3 Basel II vs Bremgarten (1)
UID:a2c7de99-1200-41ae-973d-eddb08a6a6eb
STATUS:CONFIRMED
LAST-MODIFIED:20260120T081051Z
DESCRIPTION:Herren Nationalliga C Gruppe 3\nBegegnungs-Nr: 1\nHeim: Basel II\nGast: Bremgarten\n\nAdresse: Schwarzwaldallee 107\, 4058 Basel\n
LOCATION:Schwarzwaldallee 107\, 4058 Basel
CATEGORIES:Saison 2025/26
END:VEVENT
BEGIN:VEVENT
DTSTAMP:20260424T181712Z
DTSTART;TZID=Europe/Berlin:20260328T140000
DTEND;TZID=Europe/Berlin:20260328T170000
SUMMARY:HE NLC Gr. 3 Ostermundigen vs Bremgarten (19)
UID:96dd743b-c195-4b53-82a9-72c14a0804ff
STATUS:CONFIRMED
LAST-MODIFIED:20260330T080054Z
DESCRIPTION:Herren Nationalliga C Gruppe 3\nBegegnungs-Nr: 19\nHeim: Ostermundigen\nGast: Bremgarten\n\nAdresse: Dennigkofenweg 169\, 3072 Ostermundigen\n
LOCATION:Dennigkofenweg 169\, 3072 Ostermundigen
CATEGORIES:Saison 2025/26
END:VEVENT
END:VCALENDAR
