BEGIN:VCALENDAR
PRODID:-//nuDatenautomaten//framework iCal4j //DE
VERSION:2.0
CALSCALE:GREGORIAN
BEGIN:VTIMEZONE
TZID:Europe/Berlin
LAST-MODIFIED:20260306T231828Z
TZURL:https://www.tzurl.org/zoneinfo/Europe/Berlin
X-LIC-LOCATION:Europe/Berlin
X-PROLEPTIC-TZNAME:LMT
BEGIN:STANDARD
TZNAME:CET
TZOFFSETFROM:+005328
TZOFFSETTO:+0100
DTSTART:18930401T000000
END:STANDARD
BEGIN:DAYLIGHT
TZNAME:CEST
TZOFFSETFROM:+0100
TZOFFSETTO:+0200
DTSTART:19160430T230000
RDATE:19400401T020000
RDATE:19430329T020000
RDATE:19460414T020000
RDATE:19470406T030000
RDATE:19480418T020000
RDATE:19490410T020000
RDATE:19800406T020000
END:DAYLIGHT
BEGIN:STANDARD
TZNAME:CET
TZOFFSETFROM:+0200
TZOFFSETTO:+0100
DTSTART:19161001T010000
RDATE:19421102T030000
RDATE:19431004T030000
RDATE:19441002T030000
RDATE:19451118T030000
RDATE:19461007T030000
END:STANDARD
BEGIN:DAYLIGHT
TZNAME:CEST
TZOFFSETFROM:+0100
TZOFFSETTO:+0200
DTSTART:19170416T020000
RRULE:FREQ=YEARLY;UNTIL=19180415T010000Z;BYMONTH=4;BYDAY=3MO
END:DAYLIGHT
BEGIN:STANDARD
TZNAME:CET
TZOFFSETFROM:+0200
TZOFFSETTO:+0100
DTSTART:19170917T030000
RRULE:FREQ=YEARLY;UNTIL=19180916T010000Z;BYMONTH=9;BYDAY=3MO
END:STANDARD
BEGIN:DAYLIGHT
TZNAME:CEST
TZOFFSETFROM:+0100
TZOFFSETTO:+0200
DTSTART:19440403T020000
RRULE:FREQ=YEARLY;UNTIL=19450402T010000Z;BYMONTH=4;BYDAY=1MO
END:DAYLIGHT
BEGIN:DAYLIGHT
TZNAME:CEMT
TZOFFSETFROM:+0200
TZOFFSETTO:+0300
DTSTART:19450524T020000
RDATE:19470511T030000
END:DAYLIGHT
BEGIN:DAYLIGHT
TZNAME:CEST
TZOFFSETFROM:+0300
TZOFFSETTO:+0200
DTSTART:19450924T030000
RDATE:19470629T030000
END:DAYLIGHT
BEGIN:STANDARD
TZNAME:CET
TZOFFSETFROM:+0100
TZOFFSETTO:+0100
DTSTART:19460101T000000
RDATE:19800101T000000
END:STANDARD
BEGIN:STANDARD
TZNAME:CET
TZOFFSETFROM:+0200
TZOFFSETTO:+0100
DTSTART:19471005T030000
RRULE:FREQ=YEARLY;UNTIL=19491002T010000Z;BYMONTH=10;BYDAY=1SU
END:STANDARD
BEGIN:STANDARD
TZNAME:CET
TZOFFSETFROM:+0200
TZOFFSETTO:+0100
DTSTART:19800928T030000
RRULE:FREQ=YEARLY;UNTIL=19950924T010000Z;BYMONTH=9;BYDAY=-1SU
END:STANDARD
BEGIN:DAYLIGHT
TZNAME:CEST
TZOFFSETFROM:+0100
TZOFFSETTO:+0200
DTSTART:19810329T020000
RRULE:FREQ=YEARLY;BYMONTH=3;BYDAY=-1SU
END:DAYLIGHT
BEGIN:STANDARD
TZNAME:CET
TZOFFSETFROM:+0200
TZOFFSETTO:+0100
DTSTART:19961027T030000
RRULE:FREQ=YEARLY;BYMONTH=10;BYDAY=-1SU
END:STANDARD
END:VTIMEZONE
BEGIN:VEVENT
DTSTAMP:20260423T100321Z
DTSTART;TZID=Europe/Berlin:20260127T200000
DTEND;TZID=Europe/Berlin:20260127T230000
SUMMARY:HE 3. Liga Gr. 6 Glarus vs Wädenswil V (0)
UID:e5b673d5-aaa8-4c60-922c-4e849cb78df4
STATUS:CONFIRMED
LAST-MODIFIED:20260130T081946Z
DESCRIPTION:3. Liga Herren Gruppe 6\nBegegnungs-Nr: 0\nHeim: Glarus\nGast: Wädenswil V\n\nAdresse: Schwertgasse 23\, 8750 Glarus\n
LOCATION:Schwertgasse 23\, 8750 Glarus
CATEGORIES:Saison 2025/26
END:VEVENT
BEGIN:VEVENT
DTSTAMP:20260423T100321Z
DTSTART;TZID=Europe/Berlin:20260317T200000
DTEND;TZID=Europe/Berlin:20260317T230000
SUMMARY:HE 3. Liga Gr. 6 Glarus vs Horgen III (0)
UID:430dbb4a-21a2-45c2-9811-8b038863a32e
STATUS:CONFIRMED
LAST-MODIFIED:20260319T113356Z
DESCRIPTION:3. Liga Herren Gruppe 6\nBegegnungs-Nr: 0\nHeim: Glarus\nGast: Horgen III\n\nAdresse: Schwertgasse 23\, 8750 Glarus\n
LOCATION:Schwertgasse 23\, 8750 Glarus
CATEGORIES:Saison 2025/26
END:VEVENT
BEGIN:VEVENT
DTSTAMP:20260423T100321Z
DTSTART;TZID=Europe/Berlin:20250909T200000
DTEND;TZID=Europe/Berlin:20250909T230000
SUMMARY:HE 3. Liga Gr. 6 Glarus vs Flums II (0)
UID:656b3bc9-4f6c-46df-a977-e44ffd663ba8
STATUS:CONFIRMED
LAST-MODIFIED:20250911T100006Z
DESCRIPTION:3. Liga Herren Gruppe 6\nBegegnungs-Nr: 0\nHeim: Glarus\nGast: Flums II\n\nAdresse: Schwertgasse 23\, 8750 Glarus\n
LOCATION:Schwertgasse 23\, 8750 Glarus
CATEGORIES:Saison 2025/26
END:VEVENT
BEGIN:VEVENT
DTSTAMP:20260423T100321Z
DTSTART;TZID=Europe/Berlin:20260310T200000
DTEND;TZID=Europe/Berlin:20260310T230000
SUMMARY:HE 3. Liga Gr. 6 Glarus vs Wolfhausen (0)
UID:47ac5369-5f55-4c55-bb58-abf19ea49769
STATUS:CONFIRMED
LAST-MODIFIED:20260313T130619Z
DESCRIPTION:3. Liga Herren Gruppe 6\nBegegnungs-Nr: 0\nHeim: Glarus\nGast: Wolfhausen\n\nAdresse: Schwertgasse 23\, 8750 Glarus\n
LOCATION:Schwertgasse 23\, 8750 Glarus
CATEGORIES:Saison 2025/26
END:VEVENT
BEGIN:VEVENT
DTSTAMP:20260423T100321Z
DTSTART;TZID=Europe/Berlin:20250923T200000
DTEND;TZID=Europe/Berlin:20250923T230000
SUMMARY:HE 3. Liga Gr. 6 Glarus vs Meilen-Männedorf (0)
UID:f236ced0-958a-46c2-b56b-a2e3db3b8499
STATUS:CONFIRMED
LAST-MODIFIED:20250926T130519Z
DESCRIPTION:3. Liga Herren Gruppe 6\nBegegnungs-Nr: 0\nHeim: Glarus\nGast: Meilen-Männedorf\n\nAdresse: Schwertgasse 23\, 8750 Glarus\n
LOCATION:Schwertgasse 23\, 8750 Glarus
CATEGORIES:Saison 2025/26
END:VEVENT
BEGIN:VEVENT
DTSTAMP:20260423T100321Z
DTSTART;TZID=Europe/Berlin:20251104T200000
DTEND;TZID=Europe/Berlin:20251104T230000
SUMMARY:HE 3. Liga Gr. 6 Glarus vs Rapperswil-Jona VI (0)
UID:e1f62cc6-18b8-431a-bc53-f596155510b1
STATUS:CONFIRMED
LAST-MODIFIED:20251107T152323Z
DESCRIPTION:3. Liga Herren Gruppe 6\nBegegnungs-Nr: 0\nHeim: Glarus\nGast: Rapperswil-Jona VI\n\nAdresse: Schwertgasse 23\, 8750 Glarus\n
LOCATION:Schwertgasse 23\, 8750 Glarus
CATEGORIES:Saison 2025/26
END:VEVENT
BEGIN:VEVENT
DTSTAMP:20260423T100321Z
DTSTART;TZID=Europe/Berlin:20251202T200000
DTEND;TZID=Europe/Berlin:20251202T230000
SUMMARY:HE 3. Liga Gr. 6 Glarus vs Wetzikon V (0)
UID:5edceb68-bccc-4f3f-8ae7-9037746999c4
STATUS:CONFIRMED
LAST-MODIFIED:20251205T130200Z
DESCRIPTION:3. Liga Herren Gruppe 6\nBegegnungs-Nr: 0\nHeim: Glarus\nGast: Wetzikon V\n\nAdresse: Schwertgasse 23\, 8750 Glarus\n
LOCATION:Schwertgasse 23\, 8750 Glarus
CATEGORIES:Saison 2025/26
END:VEVENT
BEGIN:VEVENT
DTSTAMP:20260423T100321Z
DTSTART;TZID=Europe/Berlin:20260202T201500
DTEND;TZID=Europe/Berlin:20260202T231500
SUMMARY:HE 3. Liga Gr. 6 Flums II vs Glarus (0)
UID:8d84fdff-0784-4a4d-9a08-9d2fe3d5b276
STATUS:CONFIRMED
LAST-MODIFIED:20260203T142146Z
DESCRIPTION:3. Liga Herren Gruppe 6\nBegegnungs-Nr: 0\nHeim: Flums II\nGast: Glarus\n\nAdresse: Bergstrasse\, 8890 Flums\n
LOCATION:Bergstrasse\, 8890 Flums
CATEGORIES:Saison 2025/26
END:VEVENT
BEGIN:VEVENT
DTSTAMP:20260423T100321Z
DTSTART;TZID=Europe/Berlin:20250828T201500
DTEND;TZID=Europe/Berlin:20250828T231500
SUMMARY:HE 3. Liga Gr. 6 Wädenswil V vs Glarus (0)
UID:19dcc3ed-cadc-491e-a310-4869b60843d2
STATUS:CONFIRMED
LAST-MODIFIED:20250829T143222Z
DESCRIPTION:3. Liga Herren Gruppe 6\nBegegnungs-Nr: 0\nHeim: Wädenswil V\nGast: Glarus\n\nAdresse: Speerstrasse 95\, 8820 Wädenswil\n
LOCATION:Speerstrasse 95\, 8820 Wädenswil
CATEGORIES:Saison 2025/26
END:VEVENT
BEGIN:VEVENT
DTSTAMP:20260423T100321Z
DTSTART;TZID=Europe/Berlin:20260306T194500
DTEND;TZID=Europe/Berlin:20260306T224500
SUMMARY:HE 3. Liga Gr. 6 Meilen-Männedorf vs Glarus (0)
UID:b47e6d86-e0a0-4aed-acec-1a8bd11ce2c6
STATUS:CONFIRMED
LAST-MODIFIED:20260313T130611Z
DESCRIPTION:3. Liga Herren Gruppe 6\nBegegnungs-Nr: 0\nHeim: Meilen-Männedorf\nGast: Glarus\n\nAdresse: Schulstrasse 10\, 8708 Männedorf\n
LOCATION:Schulstrasse 10\, 8708 Männedorf
CATEGORIES:Saison 2025/26
END:VEVENT
BEGIN:VEVENT
DTSTAMP:20260423T100321Z
DTSTART;TZID=Europe/Berlin:20250915T200000
DTEND;TZID=Europe/Berlin:20250915T230000
SUMMARY:HE 3. Liga Gr. 6 Horgen III vs Glarus (0)
UID:33eada0b-43bd-4e02-960c-de86d0e51225
STATUS:CONFIRMED
LAST-MODIFIED:20250916T092505Z
DESCRIPTION:3. Liga Herren Gruppe 6\nBegegnungs-Nr: 0\nHeim: Horgen III\nGast: Glarus\n\nAdresse: Mauremoosstrasse 1\, 8815 Horgenberg \n
LOCATION:Mauremoosstrasse 1\, 8815 Horgenberg 
CATEGORIES:Saison 2025/26
END:VEVENT
BEGIN:VEVENT
DTSTAMP:20260423T100321Z
DTSTART;TZID=Europe/Berlin:20260327T193000
DTEND;TZID=Europe/Berlin:20260327T223000
SUMMARY:HE 3. Liga Gr. 6 Rapperswil-Jona VI vs Glarus (0)
UID:97ccc009-6d45-4f8b-954a-b249cd1d61c5
STATUS:CONFIRMED
LAST-MODIFIED:20260401T121727Z
DESCRIPTION:3. Liga Herren Gruppe 6\nBegegnungs-Nr: 0\nHeim: Rapperswil-Jona VI\nGast: Glarus\n\nAdresse: Kreuzstrasse 43\, 8640 Rapperswil\n
LOCATION:Kreuzstrasse 43\, 8640 Rapperswil
CATEGORIES:Saison 2025/26
END:VEVENT
BEGIN:VEVENT
DTSTAMP:20260423T100321Z
DTSTART;TZID=Europe/Berlin:20260417T194500
DTEND;TZID=Europe/Berlin:20260417T224500
SUMMARY:HE 3. Liga Gr. 6 Wetzikon V vs Glarus (0)
UID:d01dd166-7206-431f-9d59-440a8f3c8d6e
STATUS:CONFIRMED
LAST-MODIFIED:20260420T121740Z
DESCRIPTION:3. Liga Herren Gruppe 6\nBegegnungs-Nr: 0\nHeim: Wetzikon V\nGast: Glarus\n\nAdresse: Usterstrasse 37\, 8620 Wetzikon\n
LOCATION:Usterstrasse 37\, 8620 Wetzikon
CATEGORIES:Saison 2025/26
END:VEVENT
BEGIN:VEVENT
DTSTAMP:20260423T100321Z
DTSTART;TZID=Europe/Berlin:20251117T200000
DTEND;TZID=Europe/Berlin:20251117T230000
SUMMARY:HE 3. Liga Gr. 6 Wolfhausen vs Glarus (0)
UID:22c863ad-7320-4893-956e-c856676baf97
STATUS:CONFIRMED
LAST-MODIFIED:20251121T094413Z
DESCRIPTION:3. Liga Herren Gruppe 6\nBegegnungs-Nr: 0\nHeim: Wolfhausen\nGast: Glarus\n\nAdresse: Schulstrasse 9\, 8633 Wolfhausen\n
LOCATION:Schulstrasse 9\, 8633 Wolfhausen
CATEGORIES:Saison 2025/26
END:VEVENT
END:VCALENDAR
