BEGIN:VCALENDAR
PRODID:-//nuDatenautomaten//framework iCal4j //DE
VERSION:2.0
CALSCALE:GREGORIAN
BEGIN:VTIMEZONE
TZID:Europe/Berlin
LAST-MODIFIED:20260306T231828Z
TZURL:https://www.tzurl.org/zoneinfo/Europe/Berlin
X-LIC-LOCATION:Europe/Berlin
X-PROLEPTIC-TZNAME:LMT
BEGIN:STANDARD
TZNAME:CET
TZOFFSETFROM:+005328
TZOFFSETTO:+0100
DTSTART:18930401T000000
END:STANDARD
BEGIN:DAYLIGHT
TZNAME:CEST
TZOFFSETFROM:+0100
TZOFFSETTO:+0200
DTSTART:19160430T230000
RDATE:19400401T020000
RDATE:19430329T020000
RDATE:19460414T020000
RDATE:19470406T030000
RDATE:19480418T020000
RDATE:19490410T020000
RDATE:19800406T020000
END:DAYLIGHT
BEGIN:STANDARD
TZNAME:CET
TZOFFSETFROM:+0200
TZOFFSETTO:+0100
DTSTART:19161001T010000
RDATE:19421102T030000
RDATE:19431004T030000
RDATE:19441002T030000
RDATE:19451118T030000
RDATE:19461007T030000
END:STANDARD
BEGIN:DAYLIGHT
TZNAME:CEST
TZOFFSETFROM:+0100
TZOFFSETTO:+0200
DTSTART:19170416T020000
RRULE:FREQ=YEARLY;UNTIL=19180415T010000Z;BYMONTH=4;BYDAY=3MO
END:DAYLIGHT
BEGIN:STANDARD
TZNAME:CET
TZOFFSETFROM:+0200
TZOFFSETTO:+0100
DTSTART:19170917T030000
RRULE:FREQ=YEARLY;UNTIL=19180916T010000Z;BYMONTH=9;BYDAY=3MO
END:STANDARD
BEGIN:DAYLIGHT
TZNAME:CEST
TZOFFSETFROM:+0100
TZOFFSETTO:+0200
DTSTART:19440403T020000
RRULE:FREQ=YEARLY;UNTIL=19450402T010000Z;BYMONTH=4;BYDAY=1MO
END:DAYLIGHT
BEGIN:DAYLIGHT
TZNAME:CEMT
TZOFFSETFROM:+0200
TZOFFSETTO:+0300
DTSTART:19450524T020000
RDATE:19470511T030000
END:DAYLIGHT
BEGIN:DAYLIGHT
TZNAME:CEST
TZOFFSETFROM:+0300
TZOFFSETTO:+0200
DTSTART:19450924T030000
RDATE:19470629T030000
END:DAYLIGHT
BEGIN:STANDARD
TZNAME:CET
TZOFFSETFROM:+0100
TZOFFSETTO:+0100
DTSTART:19460101T000000
RDATE:19800101T000000
END:STANDARD
BEGIN:STANDARD
TZNAME:CET
TZOFFSETFROM:+0200
TZOFFSETTO:+0100
DTSTART:19471005T030000
RRULE:FREQ=YEARLY;UNTIL=19491002T010000Z;BYMONTH=10;BYDAY=1SU
END:STANDARD
BEGIN:STANDARD
TZNAME:CET
TZOFFSETFROM:+0200
TZOFFSETTO:+0100
DTSTART:19800928T030000
RRULE:FREQ=YEARLY;UNTIL=19950924T010000Z;BYMONTH=9;BYDAY=-1SU
END:STANDARD
BEGIN:DAYLIGHT
TZNAME:CEST
TZOFFSETFROM:+0100
TZOFFSETTO:+0200
DTSTART:19810329T020000
RRULE:FREQ=YEARLY;BYMONTH=3;BYDAY=-1SU
END:DAYLIGHT
BEGIN:STANDARD
TZNAME:CET
TZOFFSETFROM:+0200
TZOFFSETTO:+0100
DTSTART:19961027T030000
RRULE:FREQ=YEARLY;BYMONTH=10;BYDAY=-1SU
END:STANDARD
END:VTIMEZONE
BEGIN:VEVENT
DTSTAMP:20260419T135721Z
DTSTART;TZID=Europe/Berlin:20260109T194500
DTEND;TZID=Europe/Berlin:20260109T224500
SUMMARY:HE 3. Liga Gr. 6 Wetzikon V vs Flums II (0)
UID:bb151bda-7724-4928-8e35-fe02065fb2b9
STATUS:CONFIRMED
LAST-MODIFIED:20260112T091520Z
DESCRIPTION:3. Liga Herren Gruppe 6\nBegegnungs-Nr: 0\nHeim: Wetzikon V\nGast: Flums II\n\nAdresse: Usterstrasse 37\, 8620 Wetzikon\n
LOCATION:Usterstrasse 37\, 8620 Wetzikon
CATEGORIES:Saison 2025/26
END:VEVENT
BEGIN:VEVENT
DTSTAMP:20260419T135721Z
DTSTART;TZID=Europe/Berlin:20260202T194500
DTEND;TZID=Europe/Berlin:20260202T224500
SUMMARY:HE 3. Liga Gr. 6 Wetzikon V vs Meilen-Männedorf (0)
UID:14427c69-a434-4b0e-807e-cedb353b2f90
STATUS:CONFIRMED
LAST-MODIFIED:20260203T142136Z
DESCRIPTION:3. Liga Herren Gruppe 6\nBegegnungs-Nr: 0\nHeim: Wetzikon V\nGast: Meilen-Männedorf\n\nAdresse: Usterstrasse 37\, 8620 Wetzikon\n
LOCATION:Usterstrasse 37\, 8620 Wetzikon
CATEGORIES:Saison 2025/26
END:VEVENT
BEGIN:VEVENT
DTSTAMP:20260419T135721Z
DTSTART;TZID=Europe/Berlin:20260320T194500
DTEND;TZID=Europe/Berlin:20260320T224500
SUMMARY:HE 3. Liga Gr. 6 Wetzikon V vs Rapperswil-Jona VI (0)
UID:200a2e73-b049-4fad-a732-78ba85780f43
STATUS:CONFIRMED
LAST-MODIFIED:20260326T141609Z
DESCRIPTION:3. Liga Herren Gruppe 6\nBegegnungs-Nr: 0\nHeim: Wetzikon V\nGast: Rapperswil-Jona VI\n\nAdresse: Usterstrasse 37\, 8620 Wetzikon\n
LOCATION:Usterstrasse 37\, 8620 Wetzikon
CATEGORIES:Saison 2025/26
END:VEVENT
BEGIN:VEVENT
DTSTAMP:20260419T135721Z
DTSTART;TZID=Europe/Berlin:20250905T194500
DTEND;TZID=Europe/Berlin:20250905T224500
SUMMARY:HE 3. Liga Gr. 6 Wetzikon V vs Horgen III (0)
UID:907762ec-0b09-4a4c-aceb-132a5af63f7b
STATUS:CONFIRMED
LAST-MODIFIED:20250908T140307Z
DESCRIPTION:3. Liga Herren Gruppe 6\nBegegnungs-Nr: 0\nHeim: Wetzikon V\nGast: Horgen III\n\nAdresse: Usterstrasse 37\, 8620 Wetzikon\n
LOCATION:Usterstrasse 37\, 8620 Wetzikon
CATEGORIES:Saison 2025/26
END:VEVENT
BEGIN:VEVENT
DTSTAMP:20260419T135721Z
DTSTART;TZID=Europe/Berlin:20250926T194500
DTEND;TZID=Europe/Berlin:20250926T224500
SUMMARY:HE 3. Liga Gr. 6 Wetzikon V vs Wädenswil V (0)
UID:00210c03-d4dd-4aa1-b7fd-8aa60509a3b3
STATUS:CONFIRMED
LAST-MODIFIED:20250930T123104Z
DESCRIPTION:3. Liga Herren Gruppe 6\nBegegnungs-Nr: 0\nHeim: Wetzikon V\nGast: Wädenswil V\n\nAdresse: Usterstrasse 37\, 8620 Wetzikon\n
LOCATION:Usterstrasse 37\, 8620 Wetzikon
CATEGORIES:Saison 2025/26
END:VEVENT
BEGIN:VEVENT
DTSTAMP:20260419T135721Z
DTSTART;TZID=Europe/Berlin:20260417T194500
DTEND;TZID=Europe/Berlin:20260417T224500
SUMMARY:HE 3. Liga Gr. 6 Wetzikon V vs Glarus (0)
UID:d01dd166-7206-431f-9d59-440a8f3c8d6e
STATUS:CONFIRMED
DESCRIPTION:3. Liga Herren Gruppe 6\nBegegnungs-Nr: 0\nHeim: Wetzikon V\nGast: Glarus\n\nAdresse: Usterstrasse 37\, 8620 Wetzikon\n
LOCATION:Usterstrasse 37\, 8620 Wetzikon
CATEGORIES:Saison 2025/26
END:VEVENT
BEGIN:VEVENT
DTSTAMP:20260419T135721Z
DTSTART;TZID=Europe/Berlin:20251107T194500
DTEND;TZID=Europe/Berlin:20251107T224500
SUMMARY:HE 3. Liga Gr. 6 Wetzikon V vs Wolfhausen (0)
UID:26f3ea1d-cc06-4723-911f-1c30b7163dcd
STATUS:CONFIRMED
LAST-MODIFIED:20251114T141922Z
DESCRIPTION:3. Liga Herren Gruppe 6\nBegegnungs-Nr: 0\nHeim: Wetzikon V\nGast: Wolfhausen\n\nAdresse: Usterstrasse 37\, 8620 Wetzikon\n
LOCATION:Usterstrasse 37\, 8620 Wetzikon
CATEGORIES:Saison 2025/26
END:VEVENT
BEGIN:VEVENT
DTSTAMP:20260419T135721Z
DTSTART;TZID=Europe/Berlin:20260119T200000
DTEND;TZID=Europe/Berlin:20260119T230000
SUMMARY:HE 3. Liga Gr. 6 Horgen III vs Wetzikon V (0)
UID:4b40e1d3-f050-49d4-af8a-ca0dbd115891
STATUS:CONFIRMED
LAST-MODIFIED:20260120T152210Z
DESCRIPTION:3. Liga Herren Gruppe 6\nBegegnungs-Nr: 0\nHeim: Horgen III\nGast: Wetzikon V\n\nAdresse: Mauremoosstrasse 1\, 8815 Horgenberg \n
LOCATION:Mauremoosstrasse 1\, 8815 Horgenberg 
CATEGORIES:Saison 2025/26
END:VEVENT
BEGIN:VEVENT
DTSTAMP:20260419T135721Z
DTSTART;TZID=Europe/Berlin:20251110T201500
DTEND;TZID=Europe/Berlin:20251110T231500
SUMMARY:HE 3. Liga Gr. 6 Flums II vs Wetzikon V (0)
UID:6e87233e-e88c-4cd6-aec8-7316ce6bcd69
STATUS:CONFIRMED
LAST-MODIFIED:20251114T141939Z
DESCRIPTION:3. Liga Herren Gruppe 6\nBegegnungs-Nr: 0\nHeim: Flums II\nGast: Wetzikon V\n\nAdresse: Bergstrasse\, 8890 Flums\n
LOCATION:Bergstrasse\, 8890 Flums
CATEGORIES:Saison 2025/26
END:VEVENT
BEGIN:VEVENT
DTSTAMP:20260419T135721Z
DTSTART;TZID=Europe/Berlin:20260305T201500
DTEND;TZID=Europe/Berlin:20260305T231500
SUMMARY:HE 3. Liga Gr. 6 Wädenswil V vs Wetzikon V (0)
UID:72b1720e-daaa-4dc3-9cf4-9241e7c045ac
STATUS:CONFIRMED
LAST-MODIFIED:20260310T163248Z
DESCRIPTION:3. Liga Herren Gruppe 6\nBegegnungs-Nr: 0\nHeim: Wädenswil V\nGast: Wetzikon V\n\nAdresse: Speerstrasse 95\, 8820 Wädenswil\n
LOCATION:Speerstrasse 95\, 8820 Wädenswil
CATEGORIES:Saison 2025/26
END:VEVENT
BEGIN:VEVENT
DTSTAMP:20260419T135721Z
DTSTART;TZID=Europe/Berlin:20250919T194500
DTEND;TZID=Europe/Berlin:20250919T224500
SUMMARY:HE 3. Liga Gr. 6 Meilen-Männedorf vs Wetzikon V (0)
UID:da60b25d-32ef-45a8-b381-b4f6e1c4e320
STATUS:CONFIRMED
LAST-MODIFIED:20250926T130459Z
DESCRIPTION:3. Liga Herren Gruppe 6\nBegegnungs-Nr: 0\nHeim: Meilen-Männedorf\nGast: Wetzikon V\n\nAdresse: Schulstrasse 10\, 8708 Männedorf\n
LOCATION:Schulstrasse 10\, 8708 Männedorf
CATEGORIES:Saison 2025/26
END:VEVENT
BEGIN:VEVENT
DTSTAMP:20260419T135721Z
DTSTART;TZID=Europe/Berlin:20260323T200000
DTEND;TZID=Europe/Berlin:20260323T230000
SUMMARY:HE 3. Liga Gr. 6 Wolfhausen vs Wetzikon V (0)
UID:932ca2c6-7e71-4c4f-bae8-d3c05bf503d6
STATUS:CONFIRMED
LAST-MODIFIED:20260326T150045Z
DESCRIPTION:3. Liga Herren Gruppe 6\nBegegnungs-Nr: 0\nHeim: Wolfhausen\nGast: Wetzikon V\n\nAdresse: Schulstrasse 9\, 8633 Wolfhausen\n
LOCATION:Schulstrasse 9\, 8633 Wolfhausen
CATEGORIES:Saison 2025/26
END:VEVENT
BEGIN:VEVENT
DTSTAMP:20260419T135721Z
DTSTART;TZID=Europe/Berlin:20251031T193000
DTEND;TZID=Europe/Berlin:20251031T223000
SUMMARY:HE 3. Liga Gr. 6 Rapperswil-Jona VI vs Wetzikon V (0)
UID:0474cba5-ab1a-4756-af42-ceb9cca24da1
STATUS:CONFIRMED
LAST-MODIFIED:20251107T144520Z
DESCRIPTION:3. Liga Herren Gruppe 6\nBegegnungs-Nr: 0\nHeim: Rapperswil-Jona VI\nGast: Wetzikon V\n\nAdresse: Kreuzstrasse 43\, 8640 Rapperswil\n
LOCATION:Kreuzstrasse 43\, 8640 Rapperswil
CATEGORIES:Saison 2025/26
END:VEVENT
BEGIN:VEVENT
DTSTAMP:20260419T135721Z
DTSTART;TZID=Europe/Berlin:20251202T200000
DTEND;TZID=Europe/Berlin:20251202T230000
SUMMARY:HE 3. Liga Gr. 6 Glarus vs Wetzikon V (0)
UID:5edceb68-bccc-4f3f-8ae7-9037746999c4
STATUS:CONFIRMED
LAST-MODIFIED:20251205T130200Z
DESCRIPTION:3. Liga Herren Gruppe 6\nBegegnungs-Nr: 0\nHeim: Glarus\nGast: Wetzikon V\n\nAdresse: Schwertgasse 23\, 8750 Glarus\n
LOCATION:Schwertgasse 23\, 8750 Glarus
CATEGORIES:Saison 2025/26
END:VEVENT
END:VCALENDAR
