BEGIN:VCALENDAR
PRODID:-//nuDatenautomaten//framework iCal4j //DE
VERSION:2.0
CALSCALE:GREGORIAN
BEGIN:VTIMEZONE
TZID:Europe/Berlin
LAST-MODIFIED:20260306T231828Z
TZURL:https://www.tzurl.org/zoneinfo/Europe/Berlin
X-LIC-LOCATION:Europe/Berlin
X-PROLEPTIC-TZNAME:LMT
BEGIN:STANDARD
TZNAME:CET
TZOFFSETFROM:+005328
TZOFFSETTO:+0100
DTSTART:18930401T000000
END:STANDARD
BEGIN:DAYLIGHT
TZNAME:CEST
TZOFFSETFROM:+0100
TZOFFSETTO:+0200
DTSTART:19160430T230000
RDATE:19400401T020000
RDATE:19430329T020000
RDATE:19460414T020000
RDATE:19470406T030000
RDATE:19480418T020000
RDATE:19490410T020000
RDATE:19800406T020000
END:DAYLIGHT
BEGIN:STANDARD
TZNAME:CET
TZOFFSETFROM:+0200
TZOFFSETTO:+0100
DTSTART:19161001T010000
RDATE:19421102T030000
RDATE:19431004T030000
RDATE:19441002T030000
RDATE:19451118T030000
RDATE:19461007T030000
END:STANDARD
BEGIN:DAYLIGHT
TZNAME:CEST
TZOFFSETFROM:+0100
TZOFFSETTO:+0200
DTSTART:19170416T020000
RRULE:FREQ=YEARLY;UNTIL=19180415T010000Z;BYMONTH=4;BYDAY=3MO
END:DAYLIGHT
BEGIN:STANDARD
TZNAME:CET
TZOFFSETFROM:+0200
TZOFFSETTO:+0100
DTSTART:19170917T030000
RRULE:FREQ=YEARLY;UNTIL=19180916T010000Z;BYMONTH=9;BYDAY=3MO
END:STANDARD
BEGIN:DAYLIGHT
TZNAME:CEST
TZOFFSETFROM:+0100
TZOFFSETTO:+0200
DTSTART:19440403T020000
RRULE:FREQ=YEARLY;UNTIL=19450402T010000Z;BYMONTH=4;BYDAY=1MO
END:DAYLIGHT
BEGIN:DAYLIGHT
TZNAME:CEMT
TZOFFSETFROM:+0200
TZOFFSETTO:+0300
DTSTART:19450524T020000
RDATE:19470511T030000
END:DAYLIGHT
BEGIN:DAYLIGHT
TZNAME:CEST
TZOFFSETFROM:+0300
TZOFFSETTO:+0200
DTSTART:19450924T030000
RDATE:19470629T030000
END:DAYLIGHT
BEGIN:STANDARD
TZNAME:CET
TZOFFSETFROM:+0100
TZOFFSETTO:+0100
DTSTART:19460101T000000
RDATE:19800101T000000
END:STANDARD
BEGIN:STANDARD
TZNAME:CET
TZOFFSETFROM:+0200
TZOFFSETTO:+0100
DTSTART:19471005T030000
RRULE:FREQ=YEARLY;UNTIL=19491002T010000Z;BYMONTH=10;BYDAY=1SU
END:STANDARD
BEGIN:STANDARD
TZNAME:CET
TZOFFSETFROM:+0200
TZOFFSETTO:+0100
DTSTART:19800928T030000
RRULE:FREQ=YEARLY;UNTIL=19950924T010000Z;BYMONTH=9;BYDAY=-1SU
END:STANDARD
BEGIN:DAYLIGHT
TZNAME:CEST
TZOFFSETFROM:+0100
TZOFFSETTO:+0200
DTSTART:19810329T020000
RRULE:FREQ=YEARLY;BYMONTH=3;BYDAY=-1SU
END:DAYLIGHT
BEGIN:STANDARD
TZNAME:CET
TZOFFSETFROM:+0200
TZOFFSETTO:+0100
DTSTART:19961027T030000
RRULE:FREQ=YEARLY;BYMONTH=10;BYDAY=-1SU
END:STANDARD
END:VTIMEZONE
BEGIN:VEVENT
DTSTAMP:20260424T110654Z
DTSTART;TZID=Europe/Berlin:20251029T191500
DTEND;TZID=Europe/Berlin:20251029T221500
SUMMARY:HE 2. Liga Gr. 1 Copains Birsfelden vs Rio-Star Muttenz IV (0)
UID:d855255e-c71d-410b-8d2d-692f77ab4683
STATUS:CONFIRMED
LAST-MODIFIED:20251031T143039Z
DESCRIPTION:2. Liga Herren Gruppe 1\nBegegnungs-Nr: 0\nHeim: Copains Birsfelden\nGast: Rio-Star Muttenz IV\n\nAdresse: Wartenbergstrasse (Hintereingang)\, 4127 Birsfelden\n
LOCATION:Wartenbergstrasse (Hintereingang)\, 4127 Birsfelden
CATEGORIES:Saison 2025/26
END:VEVENT
BEGIN:VEVENT
DTSTAMP:20260424T110654Z
DTSTART;TZID=Europe/Berlin:20260128T191500
DTEND;TZID=Europe/Berlin:20260128T221500
SUMMARY:HE 2. Liga Gr. 1 Copains Birsfelden vs KV Liestal (0)
UID:35cc78ba-5bee-4b1a-b22a-f253867dc795
STATUS:CONFIRMED
LAST-MODIFIED:20260130T132923Z
DESCRIPTION:2. Liga Herren Gruppe 1\nBegegnungs-Nr: 0\nHeim: Copains Birsfelden\nGast: KV Liestal\n\nAdresse: Wartenbergstrasse (Hintereingang)\, 4127 Birsfelden\n
LOCATION:Wartenbergstrasse (Hintereingang)\, 4127 Birsfelden
CATEGORIES:Saison 2025/26
END:VEVENT
BEGIN:VEVENT
DTSTAMP:20260424T110654Z
DTSTART;TZID=Europe/Berlin:20260114T191500
DTEND;TZID=Europe/Berlin:20260114T221500
SUMMARY:HE 2. Liga Gr. 1 Copains Birsfelden vs Basel IV (0)
UID:9e7f5b09-2aaa-4ffc-8480-04edc97b1f80
STATUS:CONFIRMED
LAST-MODIFIED:20260115T094147Z
DESCRIPTION:2. Liga Herren Gruppe 1\nBegegnungs-Nr: 0\nHeim: Copains Birsfelden\nGast: Basel IV\n\nAdresse: Wartenbergstrasse (Hintereingang)\, 4127 Birsfelden\n
LOCATION:Wartenbergstrasse (Hintereingang)\, 4127 Birsfelden
CATEGORIES:Saison 2025/26
END:VEVENT
BEGIN:VEVENT
DTSTAMP:20260424T110654Z
DTSTART;TZID=Europe/Berlin:20260218T191500
DTEND;TZID=Europe/Berlin:20260218T221500
SUMMARY:HE 2. Liga Gr. 1 Copains Birsfelden vs Frick (0)
UID:ecece982-12ee-46b9-a6c1-6dfd06f8ff1e
STATUS:CONFIRMED
LAST-MODIFIED:20260220T122859Z
DESCRIPTION:2. Liga Herren Gruppe 1\nBegegnungs-Nr: 0\nHeim: Copains Birsfelden\nGast: Frick\n\nAdresse: Wartenbergstrasse (Hintereingang)\, 4127 Birsfelden\n
LOCATION:Wartenbergstrasse (Hintereingang)\, 4127 Birsfelden
CATEGORIES:Saison 2025/26
END:VEVENT
BEGIN:VEVENT
DTSTAMP:20260424T110654Z
DTSTART;TZID=Europe/Berlin:20260311T191500
DTEND;TZID=Europe/Berlin:20260311T221500
SUMMARY:HE 2. Liga Gr. 1 Copains Birsfelden vs Olten III (0)
UID:5d77c2f9-46f9-4d33-aafe-f4b41df8a455
STATUS:CONFIRMED
LAST-MODIFIED:20260313T124841Z
DESCRIPTION:2. Liga Herren Gruppe 1\nBegegnungs-Nr: 0\nHeim: Copains Birsfelden\nGast: Olten III\n\nAdresse: Wartenbergstrasse (Hintereingang)\, 4127 Birsfelden\n
LOCATION:Wartenbergstrasse (Hintereingang)\, 4127 Birsfelden
CATEGORIES:Saison 2025/26
END:VEVENT
BEGIN:VEVENT
DTSTAMP:20260424T110654Z
DTSTART;TZID=Europe/Berlin:20250821T191500
DTEND;TZID=Europe/Berlin:20250821T221500
SUMMARY:HE 2. Liga Gr. 1 Copains Birsfelden vs Aesch II (0)
UID:38993054-9ccd-4564-9694-27a55256f30f
STATUS:CONFIRMED
LAST-MODIFIED:20250825T064819Z
DESCRIPTION:2. Liga Herren Gruppe 1\nBegegnungs-Nr: 0\nHeim: Copains Birsfelden\nGast: Aesch II\n\nAdresse: Wartenbergstrasse (Hintereingang)\, 4127 Birsfelden\n
LOCATION:Wartenbergstrasse (Hintereingang)\, 4127 Birsfelden
CATEGORIES:Saison 2025/26
END:VEVENT
BEGIN:VEVENT
DTSTAMP:20260424T110654Z
DTSTART;TZID=Europe/Berlin:20260325T191500
DTEND;TZID=Europe/Berlin:20260325T221500
SUMMARY:HE 2. Liga Gr. 1 Copains Birsfelden vs Basel V (0)
UID:a3aa21d1-4e68-4da3-a2d7-0ea58e47d8f8
STATUS:CONFIRMED
LAST-MODIFIED:20260416T093331Z
DESCRIPTION:2. Liga Herren Gruppe 1\nBegegnungs-Nr: 0\nHeim: Copains Birsfelden\nGast: Basel V\n\nAdresse: Wartenbergstrasse (Hintereingang)\, 4127 Birsfelden\n
LOCATION:Wartenbergstrasse (Hintereingang)\, 4127 Birsfelden
CATEGORIES:Saison 2025/26
END:VEVENT
BEGIN:VEVENT
DTSTAMP:20260424T110654Z
DTSTART;TZID=Europe/Berlin:20250918T200000
DTEND;TZID=Europe/Berlin:20250918T230000
SUMMARY:HE 2. Liga Gr. 1 KV Liestal vs Copains Birsfelden (0)
UID:9c6a1503-2489-40ab-9d38-2a96fed3fc22
STATUS:CONFIRMED
LAST-MODIFIED:20250919T080033Z
DESCRIPTION:2. Liga Herren Gruppe 1\nBegegnungs-Nr: 0\nHeim: KV Liestal\nGast: Copains Birsfelden\n\nAdresse: Büchelistrasse\, 4410 Liestal\n
LOCATION:Büchelistrasse\, 4410 Liestal
CATEGORIES:Saison 2025/26
END:VEVENT
BEGIN:VEVENT
DTSTAMP:20260424T110654Z
DTSTART;TZID=Europe/Berlin:20251017T200000
DTEND;TZID=Europe/Berlin:20251017T230000
SUMMARY:HE 2. Liga Gr. 1 Frick vs Copains Birsfelden (0)
UID:c9faa41d-b09a-406f-94df-6b9af6efbf09
STATUS:CONFIRMED
LAST-MODIFIED:20251020T112844Z
DESCRIPTION:2. Liga Herren Gruppe 1\nBegegnungs-Nr: 0\nHeim: Frick\nGast: Copains Birsfelden\n\nAdresse: Schulstrasse 51\, 5070 Frick\n
LOCATION:Schulstrasse 51\, 5070 Frick
CATEGORIES:Saison 2025/26
END:VEVENT
BEGIN:VEVENT
DTSTAMP:20260424T110654Z
DTSTART;TZID=Europe/Berlin:20251119T200000
DTEND;TZID=Europe/Berlin:20251119T230000
SUMMARY:HE 2. Liga Gr. 1 Olten III vs Copains Birsfelden (0)
UID:8e1b027e-379c-49bb-ae8a-5694bd7ab97f
STATUS:CONFIRMED
LAST-MODIFIED:20251121T093343Z
DESCRIPTION:2. Liga Herren Gruppe 1\nBegegnungs-Nr: 0\nHeim: Olten III\nGast: Copains Birsfelden\n\nAdresse: Stockackerstrasse 17\, 5013 Niedergösgen\n
LOCATION:Stockackerstrasse 17\, 5013 Niedergösgen
CATEGORIES:Saison 2025/26
END:VEVENT
BEGIN:VEVENT
DTSTAMP:20260424T110654Z
DTSTART;TZID=Europe/Berlin:20251217T200000
DTEND;TZID=Europe/Berlin:20251217T230000
SUMMARY:HE 2. Liga Gr. 1 Basel V vs Copains Birsfelden (0)
UID:d6c0b21b-bb0f-4258-a42d-3824da020047
STATUS:CONFIRMED
LAST-MODIFIED:20251218T122619Z
DESCRIPTION:2. Liga Herren Gruppe 1\nBegegnungs-Nr: 0\nHeim: Basel V\nGast: Copains Birsfelden\n\nAdresse: Schwarzwaldallee 107\, 4058 Basel\n
LOCATION:Schwarzwaldallee 107\, 4058 Basel
CATEGORIES:Saison 2025/26
END:VEVENT
BEGIN:VEVENT
DTSTAMP:20260424T110654Z
DTSTART;TZID=Europe/Berlin:20251218T193000
DTEND;TZID=Europe/Berlin:20251218T223000
SUMMARY:HE 2. Liga Gr. 1 Aesch II vs Copains Birsfelden (0)
UID:97204a17-acf1-4cd7-b285-f160721a119b
STATUS:CONFIRMED
LAST-MODIFIED:20260109T073839Z
DESCRIPTION:2. Liga Herren Gruppe 1\nBegegnungs-Nr: 0\nHeim: Aesch II\nGast: Copains Birsfelden\n\nAdresse: Dornacherstrasse\, 4147 Aesch\n
LOCATION:Dornacherstrasse\, 4147 Aesch
CATEGORIES:Saison 2025/26
END:VEVENT
BEGIN:VEVENT
DTSTAMP:20260424T110654Z
DTSTART;TZID=Europe/Berlin:20260319T194500
DTEND;TZID=Europe/Berlin:20260319T224500
SUMMARY:HE 2. Liga Gr. 1 Rio-Star Muttenz IV vs Copains Birsfelden (0)
UID:577639ba-6a6e-4bd1-a2bd-61a3b231da83
STATUS:CONFIRMED
LAST-MODIFIED:20260320T140344Z
DESCRIPTION:2. Liga Herren Gruppe 1\nBegegnungs-Nr: 0\nHeim: Rio-Star Muttenz IV\nGast: Copains Birsfelden\n\nAdresse: Gründenstrasse 32\, 4132 Muttenz\n
LOCATION:Gründenstrasse 32\, 4132 Muttenz
CATEGORIES:Saison 2025/26
END:VEVENT
BEGIN:VEVENT
DTSTAMP:20260424T110654Z
DTSTART;TZID=Europe/Berlin:20250902T200000
DTEND;TZID=Europe/Berlin:20250902T230000
SUMMARY:HE 2. Liga Gr. 1 Basel IV vs Copains Birsfelden (0)
UID:2b0484b0-8f86-4656-9663-24c883aa2371
STATUS:CONFIRMED
LAST-MODIFIED:20250918T094643Z
DESCRIPTION:2. Liga Herren Gruppe 1\nBegegnungs-Nr: 0\nHeim: Basel IV\nGast: Copains Birsfelden\n\nAdresse: Schwarzwaldallee 107\, 4058 Basel\n
LOCATION:Schwarzwaldallee 107\, 4058 Basel
CATEGORIES:Saison 2025/26
END:VEVENT
END:VCALENDAR
