BEGIN:VCALENDAR
PRODID:-//nuDatenautomaten//framework iCal4j //DE
VERSION:2.0
CALSCALE:GREGORIAN
BEGIN:VTIMEZONE
TZID:Europe/Berlin
LAST-MODIFIED:20260306T231828Z
TZURL:https://www.tzurl.org/zoneinfo/Europe/Berlin
X-LIC-LOCATION:Europe/Berlin
X-PROLEPTIC-TZNAME:LMT
BEGIN:STANDARD
TZNAME:CET
TZOFFSETFROM:+005328
TZOFFSETTO:+0100
DTSTART:18930401T000000
END:STANDARD
BEGIN:DAYLIGHT
TZNAME:CEST
TZOFFSETFROM:+0100
TZOFFSETTO:+0200
DTSTART:19160430T230000
RDATE:19400401T020000
RDATE:19430329T020000
RDATE:19460414T020000
RDATE:19470406T030000
RDATE:19480418T020000
RDATE:19490410T020000
RDATE:19800406T020000
END:DAYLIGHT
BEGIN:STANDARD
TZNAME:CET
TZOFFSETFROM:+0200
TZOFFSETTO:+0100
DTSTART:19161001T010000
RDATE:19421102T030000
RDATE:19431004T030000
RDATE:19441002T030000
RDATE:19451118T030000
RDATE:19461007T030000
END:STANDARD
BEGIN:DAYLIGHT
TZNAME:CEST
TZOFFSETFROM:+0100
TZOFFSETTO:+0200
DTSTART:19170416T020000
RRULE:FREQ=YEARLY;UNTIL=19180415T010000Z;BYMONTH=4;BYDAY=3MO
END:DAYLIGHT
BEGIN:STANDARD
TZNAME:CET
TZOFFSETFROM:+0200
TZOFFSETTO:+0100
DTSTART:19170917T030000
RRULE:FREQ=YEARLY;UNTIL=19180916T010000Z;BYMONTH=9;BYDAY=3MO
END:STANDARD
BEGIN:DAYLIGHT
TZNAME:CEST
TZOFFSETFROM:+0100
TZOFFSETTO:+0200
DTSTART:19440403T020000
RRULE:FREQ=YEARLY;UNTIL=19450402T010000Z;BYMONTH=4;BYDAY=1MO
END:DAYLIGHT
BEGIN:DAYLIGHT
TZNAME:CEMT
TZOFFSETFROM:+0200
TZOFFSETTO:+0300
DTSTART:19450524T020000
RDATE:19470511T030000
END:DAYLIGHT
BEGIN:DAYLIGHT
TZNAME:CEST
TZOFFSETFROM:+0300
TZOFFSETTO:+0200
DTSTART:19450924T030000
RDATE:19470629T030000
END:DAYLIGHT
BEGIN:STANDARD
TZNAME:CET
TZOFFSETFROM:+0100
TZOFFSETTO:+0100
DTSTART:19460101T000000
RDATE:19800101T000000
END:STANDARD
BEGIN:STANDARD
TZNAME:CET
TZOFFSETFROM:+0200
TZOFFSETTO:+0100
DTSTART:19471005T030000
RRULE:FREQ=YEARLY;UNTIL=19491002T010000Z;BYMONTH=10;BYDAY=1SU
END:STANDARD
BEGIN:STANDARD
TZNAME:CET
TZOFFSETFROM:+0200
TZOFFSETTO:+0100
DTSTART:19800928T030000
RRULE:FREQ=YEARLY;UNTIL=19950924T010000Z;BYMONTH=9;BYDAY=-1SU
END:STANDARD
BEGIN:DAYLIGHT
TZNAME:CEST
TZOFFSETFROM:+0100
TZOFFSETTO:+0200
DTSTART:19810329T020000
RRULE:FREQ=YEARLY;BYMONTH=3;BYDAY=-1SU
END:DAYLIGHT
BEGIN:STANDARD
TZNAME:CET
TZOFFSETFROM:+0200
TZOFFSETTO:+0100
DTSTART:19961027T030000
RRULE:FREQ=YEARLY;BYMONTH=10;BYDAY=-1SU
END:STANDARD
END:VTIMEZONE
BEGIN:VEVENT
DTSTAMP:20260424T175826Z
DTSTART;TZID=Europe/Berlin:20250830T160000
DTEND;TZID=Europe/Berlin:20250830T190000
SUMMARY:JUG 1.Li\, Gr.1\, VR Neuhausen vs Horgen (6)
UID:c19cbaed-1b2c-46ae-8053-45d7b105480e
STATUS:CONFIRMED
LAST-MODIFIED:20250902T093709Z
DESCRIPTION:1. Liga Jugend\, Gruppe 1\, Vorrunde\nBegegnungs-Nr: 6\nHeim: Neuhausen\nGast: Horgen\n\nAdresse: Ebnatstrasse 35\, 8200 Schaffhausen\n
LOCATION:Ebnatstrasse 35\, 8200 Schaffhausen
CATEGORIES:Saison 2025/26
END:VEVENT
BEGIN:VEVENT
DTSTAMP:20260424T175826Z
DTSTART;TZID=Europe/Berlin:20260117T150000
DTEND;TZID=Europe/Berlin:20260117T180000
SUMMARY:JUG 1. Li\, Gr.1\, Final Neuhausen vs Young Stars ZH (5)
UID:3830173b-dc65-4141-9afc-9bcd7d9d2da8
STATUS:CONFIRMED
LAST-MODIFIED:20260119T092730Z
DESCRIPTION:1. Liga Jugend\, Gruppe 1\, Final\nBegegnungs-Nr: 5\nHeim: Neuhausen\nGast: Young Stars ZH\n\nAdresse: Ebnatstrasse 35\, 8200 Schaffhausen\n
LOCATION:Ebnatstrasse 35\, 8200 Schaffhausen
CATEGORIES:Saison 2025/26
END:VEVENT
BEGIN:VEVENT
DTSTAMP:20260424T175826Z
DTSTART;TZID=Europe/Berlin:20260117T120000
DTEND;TZID=Europe/Berlin:20260117T150000
SUMMARY:JUG 1. Li\, Gr.1\, Final Neuhausen vs St. Gallen (2)
UID:b88e97e9-5f08-4c16-8610-d43216264ec9
STATUS:CONFIRMED
LAST-MODIFIED:20260119T092012Z
DESCRIPTION:1. Liga Jugend\, Gruppe 1\, Final\nBegegnungs-Nr: 2\nHeim: Neuhausen\nGast: St. Gallen\n\nAdresse: Ebnatstrasse 35\, 8200 Schaffhausen\n
LOCATION:Ebnatstrasse 35\, 8200 Schaffhausen
CATEGORIES:Saison 2025/26
END:VEVENT
BEGIN:VEVENT
DTSTAMP:20260424T175826Z
DTSTART;TZID=Europe/Berlin:20250830T130000
DTEND;TZID=Europe/Berlin:20250830T160000
SUMMARY:JUG 1.Li\, Gr.1\, VR Young Stars ZH vs Neuhausen (2)
UID:2ac8c690-af0a-418c-88eb-0185d687c107
STATUS:CONFIRMED
LAST-MODIFIED:20250902T093548Z
DESCRIPTION:1. Liga Jugend\, Gruppe 1\, Vorrunde\nBegegnungs-Nr: 2\nHeim: Young Stars ZH\nGast: Neuhausen\n\nAdresse: Balgriststrasse 55\, 8008 Zürich\n
LOCATION:Balgriststrasse 55\, 8008 Zürich
CATEGORIES:Saison 2025/26
END:VEVENT
BEGIN:VEVENT
DTSTAMP:20260424T175826Z
DTSTART;TZID=Europe/Berlin:20250830T143000
DTEND;TZID=Europe/Berlin:20250830T173000
SUMMARY:JUG 1.Li\, Gr.1\, VR Zürich-Affoltern vs Neuhausen (3)
UID:cc52b6ab-7d27-4e08-9e70-9741f7bac445
STATUS:CONFIRMED
LAST-MODIFIED:20250902T093607Z
DESCRIPTION:1. Liga Jugend\, Gruppe 1\, Vorrunde\nBegegnungs-Nr: 3\nHeim: Zürich-Affoltern\nGast: Neuhausen\n\nAdresse: Rümlangstr. 89\, 8052 Zürich\n
LOCATION:Rümlangstr. 89\, 8052 Zürich
CATEGORIES:Saison 2025/26
END:VEVENT
BEGIN:VEVENT
DTSTAMP:20260424T175826Z
DTSTART;TZID=Europe/Berlin:20260117T133000
DTEND;TZID=Europe/Berlin:20260117T163000
SUMMARY:JUG 1. Li\, Gr.1\, Final Kloten vs Neuhausen (4)
UID:5ebc877b-0616-4a45-bbe8-90cae69ab182
STATUS:CONFIRMED
LAST-MODIFIED:20260119T092712Z
DESCRIPTION:1. Liga Jugend\, Gruppe 1\, Final\nBegegnungs-Nr: 4\nHeim: Kloten\nGast: Neuhausen\n\nAdresse: Schluefweg 10\, 8302 Kloten\n
LOCATION:Schluefweg 10\, 8302 Kloten
CATEGORIES:Saison 2025/26
END:VEVENT
END:VCALENDAR
