BEGIN:VCALENDAR
PRODID:-//nuDatenautomaten//framework iCal4j //DE
VERSION:2.0
CALSCALE:GREGORIAN
BEGIN:VTIMEZONE
TZID:Europe/Berlin
LAST-MODIFIED:20260306T231828Z
TZURL:https://www.tzurl.org/zoneinfo/Europe/Berlin
X-LIC-LOCATION:Europe/Berlin
X-PROLEPTIC-TZNAME:LMT
BEGIN:STANDARD
TZNAME:CET
TZOFFSETFROM:+005328
TZOFFSETTO:+0100
DTSTART:18930401T000000
END:STANDARD
BEGIN:DAYLIGHT
TZNAME:CEST
TZOFFSETFROM:+0100
TZOFFSETTO:+0200
DTSTART:19160430T230000
RDATE:19400401T020000
RDATE:19430329T020000
RDATE:19460414T020000
RDATE:19470406T030000
RDATE:19480418T020000
RDATE:19490410T020000
RDATE:19800406T020000
END:DAYLIGHT
BEGIN:STANDARD
TZNAME:CET
TZOFFSETFROM:+0200
TZOFFSETTO:+0100
DTSTART:19161001T010000
RDATE:19421102T030000
RDATE:19431004T030000
RDATE:19441002T030000
RDATE:19451118T030000
RDATE:19461007T030000
END:STANDARD
BEGIN:DAYLIGHT
TZNAME:CEST
TZOFFSETFROM:+0100
TZOFFSETTO:+0200
DTSTART:19170416T020000
RRULE:FREQ=YEARLY;UNTIL=19180415T010000Z;BYMONTH=4;BYDAY=3MO
END:DAYLIGHT
BEGIN:STANDARD
TZNAME:CET
TZOFFSETFROM:+0200
TZOFFSETTO:+0100
DTSTART:19170917T030000
RRULE:FREQ=YEARLY;UNTIL=19180916T010000Z;BYMONTH=9;BYDAY=3MO
END:STANDARD
BEGIN:DAYLIGHT
TZNAME:CEST
TZOFFSETFROM:+0100
TZOFFSETTO:+0200
DTSTART:19440403T020000
RRULE:FREQ=YEARLY;UNTIL=19450402T010000Z;BYMONTH=4;BYDAY=1MO
END:DAYLIGHT
BEGIN:DAYLIGHT
TZNAME:CEMT
TZOFFSETFROM:+0200
TZOFFSETTO:+0300
DTSTART:19450524T020000
RDATE:19470511T030000
END:DAYLIGHT
BEGIN:DAYLIGHT
TZNAME:CEST
TZOFFSETFROM:+0300
TZOFFSETTO:+0200
DTSTART:19450924T030000
RDATE:19470629T030000
END:DAYLIGHT
BEGIN:STANDARD
TZNAME:CET
TZOFFSETFROM:+0100
TZOFFSETTO:+0100
DTSTART:19460101T000000
RDATE:19800101T000000
END:STANDARD
BEGIN:STANDARD
TZNAME:CET
TZOFFSETFROM:+0200
TZOFFSETTO:+0100
DTSTART:19471005T030000
RRULE:FREQ=YEARLY;UNTIL=19491002T010000Z;BYMONTH=10;BYDAY=1SU
END:STANDARD
BEGIN:STANDARD
TZNAME:CET
TZOFFSETFROM:+0200
TZOFFSETTO:+0100
DTSTART:19800928T030000
RRULE:FREQ=YEARLY;UNTIL=19950924T010000Z;BYMONTH=9;BYDAY=-1SU
END:STANDARD
BEGIN:DAYLIGHT
TZNAME:CEST
TZOFFSETFROM:+0100
TZOFFSETTO:+0200
DTSTART:19810329T020000
RRULE:FREQ=YEARLY;BYMONTH=3;BYDAY=-1SU
END:DAYLIGHT
BEGIN:STANDARD
TZNAME:CET
TZOFFSETFROM:+0200
TZOFFSETTO:+0100
DTSTART:19961027T030000
RRULE:FREQ=YEARLY;BYMONTH=10;BYDAY=-1SU
END:STANDARD
END:VTIMEZONE
BEGIN:VEVENT
DTSTAMP:20260424T181712Z
DTSTART;TZID=Europe/Berlin:20251206T170000
DTEND;TZID=Europe/Berlin:20251206T200000
SUMMARY:HE NLC Gr. 3 Rapid Luzern II vs Schöftland (27)
UID:ba6c6628-dd6e-493a-8cc9-70f5028eaef8
STATUS:CONFIRMED
LAST-MODIFIED:20251209T094852Z
DESCRIPTION:Herren Nationalliga C Gruppe 3\nBegegnungs-Nr: 27\nHeim: Rapid Luzern II\nGast: Schöftland\n\nAdresse: Kreuzbuchstr. 60\, 6006 Luzern\n
LOCATION:Kreuzbuchstr. 60\, 6006 Luzern
CATEGORIES:Saison 2025/26
END:VEVENT
BEGIN:VEVENT
DTSTAMP:20260424T181712Z
DTSTART;TZID=Europe/Berlin:20250927T170000
DTEND;TZID=Europe/Berlin:20250927T200000
SUMMARY:HE NLC Gr. 3 Rapid Luzern II vs Burgdorf (6)
UID:42dac08d-08af-4c65-a784-00272c9e25b9
STATUS:CONFIRMED
LAST-MODIFIED:20251009T194357Z
DESCRIPTION:Herren Nationalliga C Gruppe 3\nBegegnungs-Nr: 6\nHeim: Rapid Luzern II\nGast: Burgdorf\n\nAdresse: Kreuzbuchstr. 60\, 6006 Luzern\n
LOCATION:Kreuzbuchstr. 60\, 6006 Luzern
CATEGORIES:Saison 2025/26
END:VEVENT
BEGIN:VEVENT
DTSTAMP:20260424T181712Z
DTSTART;TZID=Europe/Berlin:20260110T170000
DTEND;TZID=Europe/Berlin:20260110T200000
SUMMARY:HE NLC Gr. 3 Rapid Luzern II vs Ostermundigen (4)
UID:2e700f3e-05d7-4348-a51b-33a34dee024b
STATUS:CONFIRMED
LAST-MODIFIED:20260112T203337Z
DESCRIPTION:Herren Nationalliga C Gruppe 3\nBegegnungs-Nr: 4\nHeim: Rapid Luzern II\nGast: Ostermundigen\n\nAdresse: Kreuzbuchstr. 60\, 6006 Luzern\n
LOCATION:Kreuzbuchstr. 60\, 6006 Luzern
CATEGORIES:Saison 2025/26
END:VEVENT
BEGIN:VEVENT
DTSTAMP:20260424T181712Z
DTSTART;TZID=Europe/Berlin:20260228T130000
DTEND;TZID=Europe/Berlin:20260228T160000
SUMMARY:HE NLC Gr. 3 Rapid Luzern II vs Bremgarten (13)
UID:5af016fb-f831-40c9-9331-3bd33c4f01a6
STATUS:CONFIRMED
LAST-MODIFIED:20260302T214902Z
DESCRIPTION:Herren Nationalliga C Gruppe 3\nBegegnungs-Nr: 13\nHeim: Rapid Luzern II\nGast: Bremgarten\n\nAdresse: Kreuzbuchstr. 60\, 6006 Luzern\n
LOCATION:Kreuzbuchstr. 60\, 6006 Luzern
CATEGORIES:Saison 2025/26
END:VEVENT
BEGIN:VEVENT
DTSTAMP:20260424T181712Z
DTSTART;TZID=Europe/Berlin:20260328T130000
DTEND;TZID=Europe/Berlin:20260328T160000
SUMMARY:HE NLC Gr. 3 Rapid Luzern II vs Delémont (18)
UID:c5dfab13-2159-40ff-8e81-bc686304681b
STATUS:CONFIRMED
LAST-MODIFIED:20260330T080033Z
DESCRIPTION:Herren Nationalliga C Gruppe 3\nBegegnungs-Nr: 18\nHeim: Rapid Luzern II\nGast: Delémont\n\nAdresse: Kreuzbuchstr. 60\, 6006 Luzern\n
LOCATION:Kreuzbuchstr. 60\, 6006 Luzern
CATEGORIES:Saison 2025/26
END:VEVENT
BEGIN:VEVENT
DTSTAMP:20260424T181712Z
DTSTART;TZID=Europe/Berlin:20260418T170000
DTEND;TZID=Europe/Berlin:20260418T200000
SUMMARY:HE NLC Gr. 3 Rapid Luzern II vs Basel II (24)
UID:6a705001-d488-4d7c-ba51-03a04364ee76
STATUS:CONFIRMED
LAST-MODIFIED:20260420T083317Z
DESCRIPTION:Herren Nationalliga C Gruppe 3\nBegegnungs-Nr: 24\nHeim: Rapid Luzern II\nGast: Basel II\n\nAdresse: Kreuzbuchstr. 60\, 6006 Luzern\n
LOCATION:Kreuzbuchstr. 60\, 6006 Luzern
CATEGORIES:Saison 2025/26
END:VEVENT
BEGIN:VEVENT
DTSTAMP:20260424T181712Z
DTSTART;TZID=Europe/Berlin:20260221T130000
DTEND;TZID=Europe/Berlin:20260221T160000
SUMMARY:HE NLC Gr. 3 Rapid Luzern II vs Sarnen (11)
UID:f8dabd35-a150-4ea1-8aec-472e731cf34f
STATUS:CONFIRMED
LAST-MODIFIED:20260223T153626Z
DESCRIPTION:Herren Nationalliga C Gruppe 3\nBegegnungs-Nr: 11\nHeim: Rapid Luzern II\nGast: Sarnen\n\nAdresse: Kreuzbuchstr. 60\, 6006 Luzern\n
LOCATION:Kreuzbuchstr. 60\, 6006 Luzern
CATEGORIES:Saison 2025/26
END:VEVENT
BEGIN:VEVENT
DTSTAMP:20260424T181712Z
DTSTART;TZID=Europe/Berlin:20251011T163000
DTEND;TZID=Europe/Berlin:20251011T193000
SUMMARY:HE NLC Gr. 3 Sarnen vs Rapid Luzern II (11)
UID:81bef9c9-c91b-4601-a22a-dcfd46d1abe1
STATUS:CONFIRMED
LAST-MODIFIED:20251013T102115Z
DESCRIPTION:Herren Nationalliga C Gruppe 3\nBegegnungs-Nr: 11\nHeim: Sarnen\nGast: Rapid Luzern II\n\nAdresse: Wilerstr. 65\, 6062 Wilen (Sarnen)\n
LOCATION:Wilerstr. 65\, 6062 Wilen (Sarnen)
CATEGORIES:Saison 2025/26
END:VEVENT
BEGIN:VEVENT
DTSTAMP:20260424T181712Z
DTSTART;TZID=Europe/Berlin:20251122T130000
DTEND;TZID=Europe/Berlin:20251122T160000
SUMMARY:HE NLC Gr. 3 Basel II vs Rapid Luzern II (24)
UID:6b51a26a-3116-453b-990d-0631f81097fb
STATUS:CONFIRMED
LAST-MODIFIED:20251126T101708Z
DESCRIPTION:Herren Nationalliga C Gruppe 3\nBegegnungs-Nr: 24\nHeim: Basel II\nGast: Rapid Luzern II\n\nAdresse: Schwarzwaldallee 107\, 4058 Basel\n
LOCATION:Schwarzwaldallee 107\, 4058 Basel
CATEGORIES:Saison 2025/26
END:VEVENT
BEGIN:VEVENT
DTSTAMP:20260424T181712Z
DTSTART;TZID=Europe/Berlin:20250913T140000
DTEND;TZID=Europe/Berlin:20250913T170000
SUMMARY:HE NLC Gr. 3 Ostermundigen vs Rapid Luzern II (4)
UID:61ab3753-d228-4ae1-be44-acc951190e69
STATUS:CONFIRMED
LAST-MODIFIED:20250918T112419Z
DESCRIPTION:Herren Nationalliga C Gruppe 3\nBegegnungs-Nr: 4\nHeim: Ostermundigen\nGast: Rapid Luzern II\n\nAdresse: Dennigkofenweg 169\, 3072 Ostermundigen\n
LOCATION:Dennigkofenweg 169\, 3072 Ostermundigen
CATEGORIES:Saison 2025/26
END:VEVENT
BEGIN:VEVENT
DTSTAMP:20260424T181712Z
DTSTART;TZID=Europe/Berlin:20251025T143000
DTEND;TZID=Europe/Berlin:20251025T173000
SUMMARY:HE NLC Gr. 3 Bremgarten vs Rapid Luzern II (13)
UID:c0232442-cf97-4c49-afea-50fab719181e
STATUS:CONFIRMED
LAST-MODIFIED:20251029T082357Z
DESCRIPTION:Herren Nationalliga C Gruppe 3\nBegegnungs-Nr: 13\nHeim: Bremgarten\nGast: Rapid Luzern II\n\nAdresse: Badstrasse 3\, 5620 Bremgarten\n
LOCATION:Badstrasse 3\, 5620 Bremgarten
CATEGORIES:Saison 2025/26
END:VEVENT
BEGIN:VEVENT
DTSTAMP:20260424T181712Z
DTSTART;TZID=Europe/Berlin:20251101T160000
DTEND;TZID=Europe/Berlin:20251101T190000
SUMMARY:HE NLC Gr. 3 Delémont vs Rapid Luzern II (18)
UID:053c195b-445d-44f1-a564-6a4db1555d03
STATUS:CONFIRMED
LAST-MODIFIED:20251103T080339Z
DESCRIPTION:Herren Nationalliga C Gruppe 3\nBegegnungs-Nr: 18\nHeim: Delémont\nGast: Rapid Luzern II\n\nAdresse: Rue de la Blancherie 4\, 2800 Delémont\n
LOCATION:Rue de la Blancherie 4\, 2800 Delémont
CATEGORIES:Saison 2025/26
END:VEVENT
BEGIN:VEVENT
DTSTAMP:20260424T181712Z
DTSTART;TZID=Europe/Berlin:20260131T140000
DTEND;TZID=Europe/Berlin:20260131T170000
SUMMARY:HE NLC Gr. 3 Burgdorf vs Rapid Luzern II (6)
UID:4b075e01-4937-43ce-9e3b-96a609f23d93
STATUS:CONFIRMED
LAST-MODIFIED:20260203T081416Z
DESCRIPTION:Herren Nationalliga C Gruppe 3\nBegegnungs-Nr: 6\nHeim: Burgdorf\nGast: Rapid Luzern II\n\nAdresse: Pestalozzistrasse 69\, 3400 Burgdorf\n
LOCATION:Pestalozzistrasse 69\, 3400 Burgdorf
CATEGORIES:Saison 2025/26
END:VEVENT
BEGIN:VEVENT
DTSTAMP:20260424T181712Z
DTSTART;TZID=Europe/Berlin:20260419T140000
DTEND;TZID=Europe/Berlin:20260419T170000
SUMMARY:HE NLC Gr. 3 Schöftland vs Rapid Luzern II (27)
UID:8ee8eacf-acd9-45b0-a16d-72253e2644d2
STATUS:CONFIRMED
LAST-MODIFIED:20260420T083333Z
DESCRIPTION:Herren Nationalliga C Gruppe 3\nBegegnungs-Nr: 27\nHeim: Schöftland\nGast: Rapid Luzern II\n\nAdresse: Birkenweg\, 5040 Schöftland\n
LOCATION:Birkenweg\, 5040 Schöftland
CATEGORIES:Saison 2025/26
END:VEVENT
END:VCALENDAR
