BEGIN:VCALENDAR
PRODID:-//nuDatenautomaten//framework iCal4j //DE
VERSION:2.0
CALSCALE:GREGORIAN
BEGIN:VTIMEZONE
TZID:Europe/Berlin
LAST-MODIFIED:20260306T231828Z
TZURL:https://www.tzurl.org/zoneinfo/Europe/Berlin
X-LIC-LOCATION:Europe/Berlin
X-PROLEPTIC-TZNAME:LMT
BEGIN:STANDARD
TZNAME:CET
TZOFFSETFROM:+005328
TZOFFSETTO:+0100
DTSTART:18930401T000000
END:STANDARD
BEGIN:DAYLIGHT
TZNAME:CEST
TZOFFSETFROM:+0100
TZOFFSETTO:+0200
DTSTART:19160430T230000
RDATE:19400401T020000
RDATE:19430329T020000
RDATE:19460414T020000
RDATE:19470406T030000
RDATE:19480418T020000
RDATE:19490410T020000
RDATE:19800406T020000
END:DAYLIGHT
BEGIN:STANDARD
TZNAME:CET
TZOFFSETFROM:+0200
TZOFFSETTO:+0100
DTSTART:19161001T010000
RDATE:19421102T030000
RDATE:19431004T030000
RDATE:19441002T030000
RDATE:19451118T030000
RDATE:19461007T030000
END:STANDARD
BEGIN:DAYLIGHT
TZNAME:CEST
TZOFFSETFROM:+0100
TZOFFSETTO:+0200
DTSTART:19170416T020000
RRULE:FREQ=YEARLY;UNTIL=19180415T010000Z;BYMONTH=4;BYDAY=3MO
END:DAYLIGHT
BEGIN:STANDARD
TZNAME:CET
TZOFFSETFROM:+0200
TZOFFSETTO:+0100
DTSTART:19170917T030000
RRULE:FREQ=YEARLY;UNTIL=19180916T010000Z;BYMONTH=9;BYDAY=3MO
END:STANDARD
BEGIN:DAYLIGHT
TZNAME:CEST
TZOFFSETFROM:+0100
TZOFFSETTO:+0200
DTSTART:19440403T020000
RRULE:FREQ=YEARLY;UNTIL=19450402T010000Z;BYMONTH=4;BYDAY=1MO
END:DAYLIGHT
BEGIN:DAYLIGHT
TZNAME:CEMT
TZOFFSETFROM:+0200
TZOFFSETTO:+0300
DTSTART:19450524T020000
RDATE:19470511T030000
END:DAYLIGHT
BEGIN:DAYLIGHT
TZNAME:CEST
TZOFFSETFROM:+0300
TZOFFSETTO:+0200
DTSTART:19450924T030000
RDATE:19470629T030000
END:DAYLIGHT
BEGIN:STANDARD
TZNAME:CET
TZOFFSETFROM:+0100
TZOFFSETTO:+0100
DTSTART:19460101T000000
RDATE:19800101T000000
END:STANDARD
BEGIN:STANDARD
TZNAME:CET
TZOFFSETFROM:+0200
TZOFFSETTO:+0100
DTSTART:19471005T030000
RRULE:FREQ=YEARLY;UNTIL=19491002T010000Z;BYMONTH=10;BYDAY=1SU
END:STANDARD
BEGIN:STANDARD
TZNAME:CET
TZOFFSETFROM:+0200
TZOFFSETTO:+0100
DTSTART:19800928T030000
RRULE:FREQ=YEARLY;UNTIL=19950924T010000Z;BYMONTH=9;BYDAY=-1SU
END:STANDARD
BEGIN:DAYLIGHT
TZNAME:CEST
TZOFFSETFROM:+0100
TZOFFSETTO:+0200
DTSTART:19810329T020000
RRULE:FREQ=YEARLY;BYMONTH=3;BYDAY=-1SU
END:DAYLIGHT
BEGIN:STANDARD
TZNAME:CET
TZOFFSETFROM:+0200
TZOFFSETTO:+0100
DTSTART:19961027T030000
RRULE:FREQ=YEARLY;BYMONTH=10;BYDAY=-1SU
END:STANDARD
END:VTIMEZONE
BEGIN:VEVENT
DTSTAMP:20260424T194812Z
DTSTART;TZID=Europe/Berlin:20250913T130000
DTEND;TZID=Europe/Berlin:20250913T160000
SUMMARY:DA NLB Gr. 1 Thun vs Châtelaine (2)
UID:79116cbe-aa73-4a30-8960-2aa2a2c15b40
STATUS:CONFIRMED
LAST-MODIFIED:20250918T112654Z
DESCRIPTION:Damen Nationalliga B Gruppe 1\nBegegnungs-Nr: 2\nHeim: Thun\nGast: Châtelaine\n\nAdresse: Hallerstrasse 28\, 3604 Thun\n
LOCATION:Hallerstrasse 28\, 3604 Thun
CATEGORIES:Saison 2025/26
END:VEVENT
BEGIN:VEVENT
DTSTAMP:20260424T194812Z
DTSTART;TZID=Europe/Berlin:20250920T160000
DTEND;TZID=Europe/Berlin:20250920T190000
SUMMARY:DA NLB Gr. 1 Thun vs Martigny (5)
UID:36ced176-7f24-4bad-b373-f6266e8003ef
STATUS:CONFIRMED
LAST-MODIFIED:20250922T073744Z
DESCRIPTION:Damen Nationalliga B Gruppe 1\nBegegnungs-Nr: 5\nHeim: Thun\nGast: Martigny\n\nAdresse: Hallerstrasse 28\, 3604 Thun\n
LOCATION:Hallerstrasse 28\, 3604 Thun
CATEGORIES:Saison 2025/26
END:VEVENT
BEGIN:VEVENT
DTSTAMP:20260424T194812Z
DTSTART;TZID=Europe/Berlin:20251115T130000
DTEND;TZID=Europe/Berlin:20251115T160000
SUMMARY:DA NLB Gr. 1 Thun vs ZZ-Lancy II (11)
UID:0e56f72e-6a41-4f0c-a05d-b7c24277a815
STATUS:CONFIRMED
LAST-MODIFIED:20251117T125055Z
DESCRIPTION:Damen Nationalliga B Gruppe 1\nBegegnungs-Nr: 11\nHeim: Thun\nGast: ZZ-Lancy II\n\nAdresse: Hallerstrasse 28\, 3604 Thun\n
LOCATION:Hallerstrasse 28\, 3604 Thun
CATEGORIES:Saison 2025/26
END:VEVENT
BEGIN:VEVENT
DTSTAMP:20260424T194812Z
DTSTART;TZID=Europe/Berlin:20260320T193000
DTEND;TZID=Europe/Berlin:20260320T223000
SUMMARY:DA NLB Gr. 1 Thun vs Rapid Luzern (14)
UID:28a2f476-7c03-41b5-ab82-eac3de84ed65
STATUS:CONFIRMED
LAST-MODIFIED:20260327T074737Z
DESCRIPTION:Damen Nationalliga B Gruppe 1\nBegegnungs-Nr: 14\nHeim: Thun\nGast: Rapid Luzern\n\nAdresse: Hallerstrasse 28\, 3604 Thun\n
LOCATION:Hallerstrasse 28\, 3604 Thun
CATEGORIES:Saison 2025/26
END:VEVENT
BEGIN:VEVENT
DTSTAMP:20260424T194812Z
DTSTART;TZID=Europe/Berlin:20260221T160000
DTEND;TZID=Europe/Berlin:20260221T190000
SUMMARY:DA NLB Gr. 1 Thun vs Lausanne (7)
UID:8cc11b60-1d34-460b-b0ca-5eb20d74aec0
STATUS:CONFIRMED
LAST-MODIFIED:20260223T153807Z
DESCRIPTION:Damen Nationalliga B Gruppe 1\nBegegnungs-Nr: 7\nHeim: Thun\nGast: Lausanne\n\nAdresse: Hallerstrasse 28\, 3604 Thun\n
LOCATION:Hallerstrasse 28\, 3604 Thun
CATEGORIES:Saison 2025/26
END:VEVENT
BEGIN:VEVENT
DTSTAMP:20260424T194812Z
DTSTART;TZID=Europe/Berlin:20251206T130000
DTEND;TZID=Europe/Berlin:20251206T160000
SUMMARY:DA NLB Gr. 1 Rapid Luzern vs Thun (14)
UID:cb07dce0-52c9-4b3d-937b-56480a8d9b92
STATUS:CONFIRMED
LAST-MODIFIED:20251209T095011Z
DESCRIPTION:Damen Nationalliga B Gruppe 1\nBegegnungs-Nr: 14\nHeim: Rapid Luzern\nGast: Thun\n\nAdresse: Kreuzbuchstr. 60\, 6006 Luzern\n
LOCATION:Kreuzbuchstr. 60\, 6006 Luzern
CATEGORIES:Saison 2025/26
END:VEVENT
BEGIN:VEVENT
DTSTAMP:20260424T194812Z
DTSTART;TZID=Europe/Berlin:20251026T120000
DTEND;TZID=Europe/Berlin:20251026T150000
SUMMARY:DA NLB Gr. 1 Lausanne vs Thun (7)
UID:95054e74-6ae8-42f2-838e-fa7fc746f678
STATUS:CONFIRMED
LAST-MODIFIED:20251029T082108Z
DESCRIPTION:Damen Nationalliga B Gruppe 1\nBegegnungs-Nr: 7\nHeim: Lausanne\nGast: Thun\n\nAdresse: Vaudoise Aréna\, Ch. du Viaduc 14\, 1008 Prilly\n
LOCATION:Vaudoise Aréna\, Ch. du Viaduc 14\, 1008 Prilly
CATEGORIES:Saison 2025/26
END:VEVENT
BEGIN:VEVENT
DTSTAMP:20260424T194812Z
DTSTART;TZID=Europe/Berlin:20260110T140000
DTEND;TZID=Europe/Berlin:20260110T170000
SUMMARY:DA NLB Gr. 1 Châtelaine vs Thun (2)
UID:db974e66-5672-4f18-a487-4dd78fc1ce69
STATUS:CONFIRMED
LAST-MODIFIED:20260113T064456Z
DESCRIPTION:Damen Nationalliga B Gruppe 1\nBegegnungs-Nr: 2\nHeim: Châtelaine\nGast: Thun\n\nAdresse: Avenue de Pailly 15\, 1219 Châtelaine\n
LOCATION:Avenue de Pailly 15\, 1219 Châtelaine
CATEGORIES:Saison 2025/26
END:VEVENT
BEGIN:VEVENT
DTSTAMP:20260424T194812Z
DTSTART;TZID=Europe/Berlin:20260131T150000
DTEND;TZID=Europe/Berlin:20260131T180000
SUMMARY:DA NLB Gr. 1 Martigny vs Thun (5)
UID:69ca2572-c82a-4338-983d-8ec0475b8347
STATUS:CONFIRMED
LAST-MODIFIED:20260203T081942Z
DESCRIPTION:Damen Nationalliga B Gruppe 1\nBegegnungs-Nr: 5\nHeim: Martigny\nGast: Thun\n\nAdresse: Rue des Ecoles 9\, 1920 Martigny\n
LOCATION:Rue des Ecoles 9\, 1920 Martigny
CATEGORIES:Saison 2025/26
END:VEVENT
BEGIN:VEVENT
DTSTAMP:20260424T194812Z
DTSTART;TZID=Europe/Berlin:20260307T150000
DTEND;TZID=Europe/Berlin:20260307T180000
SUMMARY:DA NLB Gr. 1 ZZ-Lancy II vs Thun (11)
UID:742f14af-470c-4d9b-85e1-7d8d4e729079
STATUS:CONFIRMED
LAST-MODIFIED:20260310T065126Z
DESCRIPTION:Damen Nationalliga B Gruppe 1\nBegegnungs-Nr: 11\nHeim: ZZ-Lancy II\nGast: Thun\n\nAdresse: Avenue du Curé-Baud 40\, 1212 Grand-Lancy\n
LOCATION:Avenue du Curé-Baud 40\, 1212 Grand-Lancy
CATEGORIES:Saison 2025/26
END:VEVENT
END:VCALENDAR
