BEGIN:VCALENDAR
PRODID:-//nuDatenautomaten//framework iCal4j //DE
VERSION:2.0
CALSCALE:GREGORIAN
BEGIN:VTIMEZONE
TZID:Europe/Berlin
LAST-MODIFIED:20260306T231828Z
TZURL:https://www.tzurl.org/zoneinfo/Europe/Berlin
X-LIC-LOCATION:Europe/Berlin
X-PROLEPTIC-TZNAME:LMT
BEGIN:STANDARD
TZNAME:CET
TZOFFSETFROM:+005328
TZOFFSETTO:+0100
DTSTART:18930401T000000
END:STANDARD
BEGIN:DAYLIGHT
TZNAME:CEST
TZOFFSETFROM:+0100
TZOFFSETTO:+0200
DTSTART:19160430T230000
RDATE:19400401T020000
RDATE:19430329T020000
RDATE:19460414T020000
RDATE:19470406T030000
RDATE:19480418T020000
RDATE:19490410T020000
RDATE:19800406T020000
END:DAYLIGHT
BEGIN:STANDARD
TZNAME:CET
TZOFFSETFROM:+0200
TZOFFSETTO:+0100
DTSTART:19161001T010000
RDATE:19421102T030000
RDATE:19431004T030000
RDATE:19441002T030000
RDATE:19451118T030000
RDATE:19461007T030000
END:STANDARD
BEGIN:DAYLIGHT
TZNAME:CEST
TZOFFSETFROM:+0100
TZOFFSETTO:+0200
DTSTART:19170416T020000
RRULE:FREQ=YEARLY;UNTIL=19180415T010000Z;BYMONTH=4;BYDAY=3MO
END:DAYLIGHT
BEGIN:STANDARD
TZNAME:CET
TZOFFSETFROM:+0200
TZOFFSETTO:+0100
DTSTART:19170917T030000
RRULE:FREQ=YEARLY;UNTIL=19180916T010000Z;BYMONTH=9;BYDAY=3MO
END:STANDARD
BEGIN:DAYLIGHT
TZNAME:CEST
TZOFFSETFROM:+0100
TZOFFSETTO:+0200
DTSTART:19440403T020000
RRULE:FREQ=YEARLY;UNTIL=19450402T010000Z;BYMONTH=4;BYDAY=1MO
END:DAYLIGHT
BEGIN:DAYLIGHT
TZNAME:CEMT
TZOFFSETFROM:+0200
TZOFFSETTO:+0300
DTSTART:19450524T020000
RDATE:19470511T030000
END:DAYLIGHT
BEGIN:DAYLIGHT
TZNAME:CEST
TZOFFSETFROM:+0300
TZOFFSETTO:+0200
DTSTART:19450924T030000
RDATE:19470629T030000
END:DAYLIGHT
BEGIN:STANDARD
TZNAME:CET
TZOFFSETFROM:+0100
TZOFFSETTO:+0100
DTSTART:19460101T000000
RDATE:19800101T000000
END:STANDARD
BEGIN:STANDARD
TZNAME:CET
TZOFFSETFROM:+0200
TZOFFSETTO:+0100
DTSTART:19471005T030000
RRULE:FREQ=YEARLY;UNTIL=19491002T010000Z;BYMONTH=10;BYDAY=1SU
END:STANDARD
BEGIN:STANDARD
TZNAME:CET
TZOFFSETFROM:+0200
TZOFFSETTO:+0100
DTSTART:19800928T030000
RRULE:FREQ=YEARLY;UNTIL=19950924T010000Z;BYMONTH=9;BYDAY=-1SU
END:STANDARD
BEGIN:DAYLIGHT
TZNAME:CEST
TZOFFSETFROM:+0100
TZOFFSETTO:+0200
DTSTART:19810329T020000
RRULE:FREQ=YEARLY;BYMONTH=3;BYDAY=-1SU
END:DAYLIGHT
BEGIN:STANDARD
TZNAME:CET
TZOFFSETFROM:+0200
TZOFFSETTO:+0100
DTSTART:19961027T030000
RRULE:FREQ=YEARLY;BYMONTH=10;BYDAY=-1SU
END:STANDARD
END:VTIMEZONE
BEGIN:VEVENT
DTSTAMP:20260424T181429Z
DTSTART;TZID=Europe/Berlin:20251122T140000
DTEND;TZID=Europe/Berlin:20251122T170000
SUMMARY:HE NLC Gr. 3 Burgdorf vs Bremgarten (23)
UID:32c713ea-ae9b-4739-aa42-fb8bdb1aef3e
STATUS:CONFIRMED
LAST-MODIFIED:20251126T101729Z
DESCRIPTION:Herren Nationalliga C Gruppe 3\nBegegnungs-Nr: 23\nHeim: Burgdorf\nGast: Bremgarten\n\nAdresse: Pestalozzistrasse 69\, 3400 Burgdorf\n
LOCATION:Pestalozzistrasse 69\, 3400 Burgdorf
CATEGORIES:Saison 2025/26
END:VEVENT
BEGIN:VEVENT
DTSTAMP:20260424T181429Z
DTSTART;TZID=Europe/Berlin:20251206T140000
DTEND;TZID=Europe/Berlin:20251206T170000
SUMMARY:HE NLC Gr. 3 Burgdorf vs Ostermundigen (28)
UID:5044192f-0e97-4b5d-b1ed-be201de5d3e9
STATUS:CONFIRMED
LAST-MODIFIED:20251209T094824Z
DESCRIPTION:Herren Nationalliga C Gruppe 3\nBegegnungs-Nr: 28\nHeim: Burgdorf\nGast: Ostermundigen\n\nAdresse: Pestalozzistrasse 69\, 3400 Burgdorf\n
LOCATION:Pestalozzistrasse 69\, 3400 Burgdorf
CATEGORIES:Saison 2025/26
END:VEVENT
BEGIN:VEVENT
DTSTAMP:20260424T181429Z
DTSTART;TZID=Europe/Berlin:20250913T140000
DTEND;TZID=Europe/Berlin:20250913T170000
SUMMARY:HE NLC Gr. 3 Burgdorf vs Schöftland (3)
UID:e6859496-93c5-4a42-bf42-e44fe6d88e7c
STATUS:CONFIRMED
LAST-MODIFIED:20250918T112409Z
DESCRIPTION:Herren Nationalliga C Gruppe 3\nBegegnungs-Nr: 3\nHeim: Burgdorf\nGast: Schöftland\n\nAdresse: Pestalozzistrasse 69\, 3400 Burgdorf\n
LOCATION:Pestalozzistrasse 69\, 3400 Burgdorf
CATEGORIES:Saison 2025/26
END:VEVENT
BEGIN:VEVENT
DTSTAMP:20260424T181429Z
DTSTART;TZID=Europe/Berlin:20251108T140000
DTEND;TZID=Europe/Berlin:20251108T170000
SUMMARY:HE NLC Gr. 3 Burgdorf vs Sarnen (17)
UID:02c7f2fe-4a9d-40d7-8d3b-466427fefe12
STATUS:CONFIRMED
LAST-MODIFIED:20251110T074642Z
DESCRIPTION:Herren Nationalliga C Gruppe 3\nBegegnungs-Nr: 17\nHeim: Burgdorf\nGast: Sarnen\n\nAdresse: Pestalozzistrasse 69\, 3400 Burgdorf\n
LOCATION:Pestalozzistrasse 69\, 3400 Burgdorf
CATEGORIES:Saison 2025/26
END:VEVENT
BEGIN:VEVENT
DTSTAMP:20260424T181429Z
DTSTART;TZID=Europe/Berlin:20251011T140000
DTEND;TZID=Europe/Berlin:20251011T170000
SUMMARY:HE NLC Gr. 3 Burgdorf vs Basel II (10)
UID:39aa27d3-d2c3-495a-8fe6-5a2e7185fa8e
STATUS:CONFIRMED
LAST-MODIFIED:20251013T102213Z
DESCRIPTION:Herren Nationalliga C Gruppe 3\nBegegnungs-Nr: 10\nHeim: Burgdorf\nGast: Basel II\n\nAdresse: Pestalozzistrasse 69\, 3400 Burgdorf\n
LOCATION:Pestalozzistrasse 69\, 3400 Burgdorf
CATEGORIES:Saison 2025/26
END:VEVENT
BEGIN:VEVENT
DTSTAMP:20260424T181429Z
DTSTART;TZID=Europe/Berlin:20260131T140000
DTEND;TZID=Europe/Berlin:20260131T170000
SUMMARY:HE NLC Gr. 3 Burgdorf vs Rapid Luzern II (6)
UID:4b075e01-4937-43ce-9e3b-96a609f23d93
STATUS:CONFIRMED
LAST-MODIFIED:20260203T081416Z
DESCRIPTION:Herren Nationalliga C Gruppe 3\nBegegnungs-Nr: 6\nHeim: Burgdorf\nGast: Rapid Luzern II\n\nAdresse: Pestalozzistrasse 69\, 3400 Burgdorf\n
LOCATION:Pestalozzistrasse 69\, 3400 Burgdorf
CATEGORIES:Saison 2025/26
END:VEVENT
BEGIN:VEVENT
DTSTAMP:20260424T181429Z
DTSTART;TZID=Europe/Berlin:20260228T140000
DTEND;TZID=Europe/Berlin:20260228T170000
SUMMARY:HE NLC Gr. 3 Burgdorf vs Delémont (15)
UID:445ae243-92ed-424a-8b3f-cc48948ce45a
STATUS:CONFIRMED
LAST-MODIFIED:20260302T215001Z
DESCRIPTION:Herren Nationalliga C Gruppe 3\nBegegnungs-Nr: 15\nHeim: Burgdorf\nGast: Delémont\n\nAdresse: Pestalozzistrasse 69\, 3400 Burgdorf\n
LOCATION:Pestalozzistrasse 69\, 3400 Burgdorf
CATEGORIES:Saison 2025/26
END:VEVENT
BEGIN:VEVENT
DTSTAMP:20260424T181429Z
DTSTART;TZID=Europe/Berlin:20260424T200000
DTEND;TZID=Europe/Berlin:20260424T230000
SUMMARY:HE NLC Play-Off 1/4-Final Burgdorf vs Affoltern A/A (2)
UID:b79dc7d1-81f4-4f2d-a167-4dcebef2fad1
STATUS:CONFIRMED
DESCRIPTION:Herren Nationalliga C Play-Off 1/4-Final \nBegegnungs-Nr: 2\nHeim: Burgdorf\nGast: Affoltern A/A\n\nAdresse: Pestalozzistrasse 69\, 3400 Burgdorf\n
LOCATION:Pestalozzistrasse 69\, 3400 Burgdorf
CATEGORIES:Saison 2025/26
END:VEVENT
BEGIN:VEVENT
DTSTAMP:20260424T181429Z
DTSTART;TZID=Europe/Berlin:20250927T170000
DTEND;TZID=Europe/Berlin:20250927T200000
SUMMARY:HE NLC Gr. 3 Rapid Luzern II vs Burgdorf (6)
UID:42dac08d-08af-4c65-a784-00272c9e25b9
STATUS:CONFIRMED
LAST-MODIFIED:20251009T194357Z
DESCRIPTION:Herren Nationalliga C Gruppe 3\nBegegnungs-Nr: 6\nHeim: Rapid Luzern II\nGast: Burgdorf\n\nAdresse: Kreuzbuchstr. 60\, 6006 Luzern\n
LOCATION:Kreuzbuchstr. 60\, 6006 Luzern
CATEGORIES:Saison 2025/26
END:VEVENT
BEGIN:VEVENT
DTSTAMP:20260424T181429Z
DTSTART;TZID=Europe/Berlin:20251026T160000
DTEND;TZID=Europe/Berlin:20251026T190000
SUMMARY:HE NLC Gr. 3 Delémont vs Burgdorf (15)
UID:b6f44902-1ec1-43ad-a233-416bc680e993
STATUS:CONFIRMED
LAST-MODIFIED:20251029T082347Z
DESCRIPTION:Herren Nationalliga C Gruppe 3\nBegegnungs-Nr: 15\nHeim: Delémont\nGast: Burgdorf\n\nAdresse: Rue de la Blancherie 4\, 2800 Delémont\n
LOCATION:Rue de la Blancherie 4\, 2800 Delémont
CATEGORIES:Saison 2025/26
END:VEVENT
BEGIN:VEVENT
DTSTAMP:20260424T181429Z
DTSTART;TZID=Europe/Berlin:20260112T200000
DTEND;TZID=Europe/Berlin:20260112T230000
SUMMARY:HE NLC Gr. 3 Schöftland vs Burgdorf (3)
UID:c029a454-dcdb-4aa1-b145-988eee1fb717
STATUS:CONFIRMED
LAST-MODIFIED:20260113T124700Z
DESCRIPTION:Herren Nationalliga C Gruppe 3\nBegegnungs-Nr: 3\nHeim: Schöftland\nGast: Burgdorf\n\nAdresse: Birkenweg\, 5040 Schöftland\n
LOCATION:Birkenweg\, 5040 Schöftland
CATEGORIES:Saison 2025/26
END:VEVENT
BEGIN:VEVENT
DTSTAMP:20260424T181429Z
DTSTART;TZID=Europe/Berlin:20260328T163000
DTEND;TZID=Europe/Berlin:20260328T193000
SUMMARY:HE NLC Gr. 3 Sarnen vs Burgdorf (17)
UID:aec7d9e5-bc9e-4cfb-b834-0f94fcafc7ff
STATUS:CONFIRMED
LAST-MODIFIED:20260330T080103Z
DESCRIPTION:Herren Nationalliga C Gruppe 3\nBegegnungs-Nr: 17\nHeim: Sarnen\nGast: Burgdorf\n\nAdresse: Wilerstr. 65\, 6062 Wilen (Sarnen)\n
LOCATION:Wilerstr. 65\, 6062 Wilen (Sarnen)
CATEGORIES:Saison 2025/26
END:VEVENT
BEGIN:VEVENT
DTSTAMP:20260424T181429Z
DTSTART;TZID=Europe/Berlin:20260221T130000
DTEND;TZID=Europe/Berlin:20260221T160000
SUMMARY:HE NLC Gr. 3 Basel II vs Burgdorf (10)
UID:9af27cb0-f2dd-4bc2-8941-0459f43c2f21
STATUS:CONFIRMED
LAST-MODIFIED:20260224T100759Z
DESCRIPTION:Herren Nationalliga C Gruppe 3\nBegegnungs-Nr: 10\nHeim: Basel II\nGast: Burgdorf\n\nAdresse: Schwarzwaldallee 107\, 4058 Basel\n
LOCATION:Schwarzwaldallee 107\, 4058 Basel
CATEGORIES:Saison 2025/26
END:VEVENT
BEGIN:VEVENT
DTSTAMP:20260424T181429Z
DTSTART;TZID=Europe/Berlin:20260418T123000
DTEND;TZID=Europe/Berlin:20260418T153000
SUMMARY:HE NLC Gr. 3 Bremgarten vs Burgdorf (23)
UID:64db0974-46f4-498a-a821-70445b18594a
STATUS:CONFIRMED
LAST-MODIFIED:20260420T083219Z
DESCRIPTION:Herren Nationalliga C Gruppe 3\nBegegnungs-Nr: 23\nHeim: Bremgarten\nGast: Burgdorf\n\nAdresse: Badstrasse 3\, 5620 Bremgarten\n
LOCATION:Badstrasse 3\, 5620 Bremgarten
CATEGORIES:Saison 2025/26
END:VEVENT
BEGIN:VEVENT
DTSTAMP:20260424T181429Z
DTSTART;TZID=Europe/Berlin:20260419T140000
DTEND;TZID=Europe/Berlin:20260419T170000
SUMMARY:HE NLC Gr. 3 Ostermundigen vs Burgdorf (28)
UID:fcf97ccd-62aa-4245-971b-c6d3cee84147
STATUS:CONFIRMED
LAST-MODIFIED:20260420T094506Z
DESCRIPTION:Herren Nationalliga C Gruppe 3\nBegegnungs-Nr: 28\nHeim: Ostermundigen\nGast: Burgdorf\n\nAdresse: Dennigkofenweg 169\, 3072 Ostermundigen\n
LOCATION:Dennigkofenweg 169\, 3072 Ostermundigen
CATEGORIES:Saison 2025/26
END:VEVENT
BEGIN:VEVENT
DTSTAMP:20260424T181429Z
DTSTART;TZID=Europe/Berlin:20260426T100000
DTEND;TZID=Europe/Berlin:20260426T130000
SUMMARY:HE NLC Play-Off 1/4-Final Affoltern A/A vs Burgdorf (2)
UID:605b0fa6-95b6-483b-baae-20d6e99c4afa
STATUS:CONFIRMED
LAST-MODIFIED:20260423T100310Z
DESCRIPTION:Herren Nationalliga C Play-Off 1/4-Final \nBegegnungs-Nr: 2\nHeim: Affoltern A/A\nGast: Burgdorf\nHalle: Freizeitanlage Riesbach Seefeldstrasse 93\, 8008 Zürich\nAdresse: Butzenstrasse 8\, 8910 Affoltern am Albis\n
LOCATION:Freizeitanlage Riesbach Seefeldstrasse 93\, 8008 Zürich Butzenstrasse 8\, 8910 Affoltern am Albis
CATEGORIES:Saison 2025/26
END:VEVENT
BEGIN:VEVENT
DTSTAMP:20260424T181429Z
DTSTART;TZID=Europe/Berlin:20260425T141500
DTEND;TZID=Europe/Berlin:20260425T171500
SUMMARY:HE NLC Play-Off 1/4-Final Affoltern A/A vs Burgdorf (2)
UID:e2a99e7c-59a9-4c6d-aed9-a75acbf80d74
STATUS:CONFIRMED
LAST-MODIFIED:20260423T100310Z
DESCRIPTION:Herren Nationalliga C Play-Off 1/4-Final \nBegegnungs-Nr: 2\nHeim: Affoltern A/A\nGast: Burgdorf\nHalle: Freizeitanlage Riesbach Seefeldstrasse 93\, 8008 Zürich\nAdresse: Butzenstrasse 8\, 8910 Affoltern am Albis\n
LOCATION:Freizeitanlage Riesbach Seefeldstrasse 93\, 8008 Zürich Butzenstrasse 8\, 8910 Affoltern am Albis
CATEGORIES:Saison 2025/26
END:VEVENT
END:VCALENDAR
