BEGIN:VCALENDAR
PRODID:-//nuDatenautomaten//framework iCal4j //DE
VERSION:2.0
CALSCALE:GREGORIAN
BEGIN:VTIMEZONE
TZID:Europe/Berlin
LAST-MODIFIED:20260306T231828Z
TZURL:https://www.tzurl.org/zoneinfo/Europe/Berlin
X-LIC-LOCATION:Europe/Berlin
X-PROLEPTIC-TZNAME:LMT
BEGIN:STANDARD
TZNAME:CET
TZOFFSETFROM:+005328
TZOFFSETTO:+0100
DTSTART:18930401T000000
END:STANDARD
BEGIN:DAYLIGHT
TZNAME:CEST
TZOFFSETFROM:+0100
TZOFFSETTO:+0200
DTSTART:19160430T230000
RDATE:19400401T020000
RDATE:19430329T020000
RDATE:19460414T020000
RDATE:19470406T030000
RDATE:19480418T020000
RDATE:19490410T020000
RDATE:19800406T020000
END:DAYLIGHT
BEGIN:STANDARD
TZNAME:CET
TZOFFSETFROM:+0200
TZOFFSETTO:+0100
DTSTART:19161001T010000
RDATE:19421102T030000
RDATE:19431004T030000
RDATE:19441002T030000
RDATE:19451118T030000
RDATE:19461007T030000
END:STANDARD
BEGIN:DAYLIGHT
TZNAME:CEST
TZOFFSETFROM:+0100
TZOFFSETTO:+0200
DTSTART:19170416T020000
RRULE:FREQ=YEARLY;UNTIL=19180415T010000Z;BYMONTH=4;BYDAY=3MO
END:DAYLIGHT
BEGIN:STANDARD
TZNAME:CET
TZOFFSETFROM:+0200
TZOFFSETTO:+0100
DTSTART:19170917T030000
RRULE:FREQ=YEARLY;UNTIL=19180916T010000Z;BYMONTH=9;BYDAY=3MO
END:STANDARD
BEGIN:DAYLIGHT
TZNAME:CEST
TZOFFSETFROM:+0100
TZOFFSETTO:+0200
DTSTART:19440403T020000
RRULE:FREQ=YEARLY;UNTIL=19450402T010000Z;BYMONTH=4;BYDAY=1MO
END:DAYLIGHT
BEGIN:DAYLIGHT
TZNAME:CEMT
TZOFFSETFROM:+0200
TZOFFSETTO:+0300
DTSTART:19450524T020000
RDATE:19470511T030000
END:DAYLIGHT
BEGIN:DAYLIGHT
TZNAME:CEST
TZOFFSETFROM:+0300
TZOFFSETTO:+0200
DTSTART:19450924T030000
RDATE:19470629T030000
END:DAYLIGHT
BEGIN:STANDARD
TZNAME:CET
TZOFFSETFROM:+0100
TZOFFSETTO:+0100
DTSTART:19460101T000000
RDATE:19800101T000000
END:STANDARD
BEGIN:STANDARD
TZNAME:CET
TZOFFSETFROM:+0200
TZOFFSETTO:+0100
DTSTART:19471005T030000
RRULE:FREQ=YEARLY;UNTIL=19491002T010000Z;BYMONTH=10;BYDAY=1SU
END:STANDARD
BEGIN:STANDARD
TZNAME:CET
TZOFFSETFROM:+0200
TZOFFSETTO:+0100
DTSTART:19800928T030000
RRULE:FREQ=YEARLY;UNTIL=19950924T010000Z;BYMONTH=9;BYDAY=-1SU
END:STANDARD
BEGIN:DAYLIGHT
TZNAME:CEST
TZOFFSETFROM:+0100
TZOFFSETTO:+0200
DTSTART:19810329T020000
RRULE:FREQ=YEARLY;BYMONTH=3;BYDAY=-1SU
END:DAYLIGHT
BEGIN:STANDARD
TZNAME:CET
TZOFFSETFROM:+0200
TZOFFSETTO:+0100
DTSTART:19961027T030000
RRULE:FREQ=YEARLY;BYMONTH=10;BYDAY=-1SU
END:STANDARD
END:VTIMEZONE
BEGIN:VEVENT
DTSTAMP:20260424T203559Z
DTSTART;TZID=Europe/Berlin:20251023T193000
DTEND;TZID=Europe/Berlin:20251023T223000
SUMMARY:L5G2P1 Porrentruy II vs Omega V (0)
UID:5c5ed0fc-baa8-4ac1-aa1a-c3b3a183e7fe
STATUS:CONFIRMED
LAST-MODIFIED:20251027T182613Z
DESCRIPTION:Ligue 5\, groupe 2 phase 1\nBegegnungs-Nr: 0\nHeim: Porrentruy II\nGast: Omega V\n\nAdresse: Rue du Banné 14\, 2900 Porrentruy\n
LOCATION:Rue du Banné 14\, 2900 Porrentruy
CATEGORIES:Saison 2025/26
END:VEVENT
BEGIN:VEVENT
DTSTAMP:20260424T203559Z
DTSTART;TZID=Europe/Berlin:20251113T193000
DTEND;TZID=Europe/Berlin:20251113T223000
SUMMARY:L5G2P1 Porrentruy II vs Delémont VIII (0)
UID:cc73a75d-82f4-4741-93c0-2c019617c1c2
STATUS:CONFIRMED
LAST-MODIFIED:20251119T051255Z
DESCRIPTION:Ligue 5\, groupe 2 phase 1\nBegegnungs-Nr: 0\nHeim: Porrentruy II\nGast: Delémont VIII\n\nAdresse: Rue du Banné 14\, 2900 Porrentruy\n
LOCATION:Rue du Banné 14\, 2900 Porrentruy
CATEGORIES:Saison 2025/26
END:VEVENT
BEGIN:VEVENT
DTSTAMP:20260424T203559Z
DTSTART;TZID=Europe/Berlin:20250911T193000
DTEND;TZID=Europe/Berlin:20250911T223000
SUMMARY:L5G2P1 Porrentruy II vs Hauterive II (0)
UID:265405ea-804f-47fe-89da-0e3cee3e0d3c
STATUS:CONFIRMED
LAST-MODIFIED:20250915T072208Z
DESCRIPTION:Ligue 5\, groupe 2 phase 1\nBegegnungs-Nr: 0\nHeim: Porrentruy II\nGast: Hauterive II\n\nAdresse: Rue du Banné 14\, 2900 Porrentruy\n
LOCATION:Rue du Banné 14\, 2900 Porrentruy
CATEGORIES:Saison 2025/26
END:VEVENT
BEGIN:VEVENT
DTSTAMP:20260424T203559Z
DTSTART;TZID=Europe/Berlin:20251002T193000
DTEND;TZID=Europe/Berlin:20251002T223000
SUMMARY:L5G2P1 Porrentruy II vs Delémont VI (0)
UID:c198a868-3fb1-4d6b-bfbf-726b195c6cd1
STATUS:CONFIRMED
LAST-MODIFIED:20251006T150601Z
DESCRIPTION:Ligue 5\, groupe 2 phase 1\nBegegnungs-Nr: 0\nHeim: Porrentruy II\nGast: Delémont VI\n\nAdresse: Rue du Banné 14\, 2900 Porrentruy\n
LOCATION:Rue du Banné 14\, 2900 Porrentruy
CATEGORIES:Saison 2025/26
END:VEVENT
BEGIN:VEVENT
DTSTAMP:20260424T203559Z
DTSTART;TZID=Europe/Berlin:20260122T193000
DTEND;TZID=Europe/Berlin:20260122T223000
SUMMARY:L5G1P2 Porrentruy II vs Delémont VIII (0)
UID:3da77402-b687-4008-a058-5eebde998e5d
STATUS:CONFIRMED
LAST-MODIFIED:20260126T180432Z
DESCRIPTION:Ligue 5\, groupe 1 phase 2\nBegegnungs-Nr: 0\nHeim: Porrentruy II\nGast: Delémont VIII\n\nAdresse: Rue du Banné 14\, 2900 Porrentruy\n
LOCATION:Rue du Banné 14\, 2900 Porrentruy
CATEGORIES:Saison 2025/26
END:VEVENT
BEGIN:VEVENT
DTSTAMP:20260424T203559Z
DTSTART;TZID=Europe/Berlin:20260205T193000
DTEND;TZID=Europe/Berlin:20260205T223000
SUMMARY:L5G1P2 Porrentruy II vs Val-de-Ruz IV (0)
UID:3d1c6cba-f41c-4eae-9a8f-aa5251f70adf
STATUS:CONFIRMED
LAST-MODIFIED:20260216T162230Z
DESCRIPTION:Ligue 5\, groupe 1 phase 2\nBegegnungs-Nr: 0\nHeim: Porrentruy II\nGast: Val-de-Ruz IV\n\nAdresse: Rue du Banné 14\, 2900 Porrentruy\n
LOCATION:Rue du Banné 14\, 2900 Porrentruy
CATEGORIES:Saison 2025/26
END:VEVENT
BEGIN:VEVENT
DTSTAMP:20260424T203559Z
DTSTART;TZID=Europe/Berlin:20260319T193000
DTEND;TZID=Europe/Berlin:20260319T223000
SUMMARY:L5G1P2 Porrentruy II vs Tavannes II (0)
UID:bf6501b1-5deb-4be2-81e7-e58a6f5f057e
STATUS:CONFIRMED
LAST-MODIFIED:20260331T150238Z
DESCRIPTION:Ligue 5\, groupe 1 phase 2\nBegegnungs-Nr: 0\nHeim: Porrentruy II\nGast: Tavannes II\n\nAdresse: Rue du Banné 14\, 2900 Porrentruy\n
LOCATION:Rue du Banné 14\, 2900 Porrentruy
CATEGORIES:Saison 2025/26
END:VEVENT
BEGIN:VEVENT
DTSTAMP:20260424T203559Z
DTSTART;TZID=Europe/Berlin:20260430T193000
DTEND;TZID=Europe/Berlin:20260430T223000
SUMMARY:L5G1P2 Porrentruy II vs Tramelan IV (0)
UID:ae8825cf-c5f9-4bd9-8193-4aa896a143b0
STATUS:CONFIRMED
LAST-MODIFIED:20260120T165824Z
DESCRIPTION:Ligue 5\, groupe 1 phase 2\nBegegnungs-Nr: 0\nHeim: Porrentruy II\nGast: Tramelan IV\n\nAdresse: Rue du Banné 14\, 2900 Porrentruy\n
LOCATION:Rue du Banné 14\, 2900 Porrentruy
CATEGORIES:Saison 2025/26
END:VEVENT
BEGIN:VEVENT
DTSTAMP:20260424T203559Z
DTSTART;TZID=Europe/Berlin:20260514T193000
DTEND;TZID=Europe/Berlin:20260514T223000
SUMMARY:L5G1P2 Porrentruy II vs Moutier III (0)
UID:71eac1ad-4e88-42af-81fa-a34b64a0de17
STATUS:CONFIRMED
LAST-MODIFIED:20260120T165905Z
DESCRIPTION:Ligue 5\, groupe 1 phase 2\nBegegnungs-Nr: 0\nHeim: Porrentruy II\nGast: Moutier III\n\nAdresse: Rue du Banné 14\, 2900 Porrentruy\n
LOCATION:Rue du Banné 14\, 2900 Porrentruy
CATEGORIES:Saison 2025/26
END:VEVENT
BEGIN:VEVENT
DTSTAMP:20260424T203559Z
DTSTART;TZID=Europe/Berlin:20250919T201500
DTEND;TZID=Europe/Berlin:20250919T231500
SUMMARY:L5G2P1 Delémont VIII vs Porrentruy II (0)
UID:fd15ba4a-5d6b-48e9-8412-240e217bb916
STATUS:CONFIRMED
LAST-MODIFIED:20250923T211541Z
DESCRIPTION:Ligue 5\, groupe 2 phase 1\nBegegnungs-Nr: 0\nHeim: Delémont VIII\nGast: Porrentruy II\n\nAdresse: Rue de la Blancherie 4\, 2800 Delémont\n
LOCATION:Rue de la Blancherie 4\, 2800 Delémont
CATEGORIES:Saison 2025/26
END:VEVENT
BEGIN:VEVENT
DTSTAMP:20260424T203559Z
DTSTART;TZID=Europe/Berlin:20251107T193000
DTEND;TZID=Europe/Berlin:20251107T223000
SUMMARY:L5G2P1 Hauterive II vs Porrentruy II (0)
UID:b671a3a5-6100-46c6-8f98-fe1395758c44
STATUS:CONFIRMED
LAST-MODIFIED:20251114T142505Z
DESCRIPTION:Ligue 5\, groupe 2 phase 1\nBegegnungs-Nr: 0\nHeim: Hauterive II\nGast: Porrentruy II\n\nAdresse: Rue des Longschamps 10\, 2068 Hauterive NE\n
LOCATION:Rue des Longschamps 10\, 2068 Hauterive NE
CATEGORIES:Saison 2025/26
END:VEVENT
BEGIN:VEVENT
DTSTAMP:20260424T203559Z
DTSTART;TZID=Europe/Berlin:20251125T193000
DTEND;TZID=Europe/Berlin:20251125T223000
SUMMARY:L5G2P1 Delémont VI vs Porrentruy II (0)
UID:694b3b40-b5d3-4948-94bd-e37eab440f54
STATUS:CONFIRMED
LAST-MODIFIED:20251128T161205Z
DESCRIPTION:Ligue 5\, groupe 2 phase 1\nBegegnungs-Nr: 0\nHeim: Delémont VI\nGast: Porrentruy II\n\nAdresse: Rue de la Blancherie 4\, 2800 Delémont\n
LOCATION:Rue de la Blancherie 4\, 2800 Delémont
CATEGORIES:Saison 2025/26
END:VEVENT
BEGIN:VEVENT
DTSTAMP:20260424T203559Z
DTSTART;TZID=Europe/Berlin:20251217T193000
DTEND;TZID=Europe/Berlin:20251217T223000
SUMMARY:L5G2P1 Omega V vs Porrentruy II (0)
UID:7dc50e8e-f3ea-4dc7-9f48-a311b727e589
STATUS:CONFIRMED
LAST-MODIFIED:20251218T062354Z
DESCRIPTION:Ligue 5\, groupe 2 phase 1\nBegegnungs-Nr: 0\nHeim: Omega V\nGast: Porrentruy II\n\nAdresse: Tennisweg 1\, 2504 Biel-Bienne\n
LOCATION:Tennisweg 1\, 2504 Biel-Bienne
CATEGORIES:Saison 2025/26
END:VEVENT
BEGIN:VEVENT
DTSTAMP:20260424T203559Z
DTSTART;TZID=Europe/Berlin:20260120T194500
DTEND;TZID=Europe/Berlin:20260120T224500
SUMMARY:L5G1P2 Tavannes II vs Porrentruy II (0)
UID:55ae0203-c43b-4dc1-912b-81f79651ab2c
STATUS:CONFIRMED
LAST-MODIFIED:20260123T101514Z
DESCRIPTION:Ligue 5\, groupe 1 phase 2\nBegegnungs-Nr: 0\nHeim: Tavannes II\nGast: Porrentruy II\n\nAdresse: Sources 1\, 2710 Tavannes\n
LOCATION:Sources 1\, 2710 Tavannes
CATEGORIES:Saison 2025/26
END:VEVENT
BEGIN:VEVENT
DTSTAMP:20260424T203559Z
DTSTART;TZID=Europe/Berlin:20260225T193000
DTEND;TZID=Europe/Berlin:20260225T223000
SUMMARY:L5G1P2 Tramelan IV vs Porrentruy II (0)
UID:6d0f2b32-0cc8-4b15-81cd-6af42c5fcf9b
STATUS:CONFIRMED
LAST-MODIFIED:20260228T105434Z
DESCRIPTION:Ligue 5\, groupe 1 phase 2\nBegegnungs-Nr: 0\nHeim: Tramelan IV\nGast: Porrentruy II\n\nAdresse: Rue du Collège 13\, 2720 Tramelan\n
LOCATION:Rue du Collège 13\, 2720 Tramelan
CATEGORIES:Saison 2025/26
END:VEVENT
BEGIN:VEVENT
DTSTAMP:20260424T203559Z
DTSTART;TZID=Europe/Berlin:20260306T200000
DTEND;TZID=Europe/Berlin:20260306T230000
SUMMARY:L5G1P2 Moutier III vs Porrentruy II (0)
UID:84b31a43-246d-4b61-b182-7332c660e970
STATUS:CONFIRMED
LAST-MODIFIED:20260312T051511Z
DESCRIPTION:Ligue 5\, groupe 1 phase 2\nBegegnungs-Nr: 0\nHeim: Moutier III\nGast: Porrentruy II\n\nAdresse: Place Beseran\, 2740 Moutier\n
LOCATION:Place Beseran\, 2740 Moutier
CATEGORIES:Saison 2025/26
END:VEVENT
BEGIN:VEVENT
DTSTAMP:20260424T203559Z
DTSTART;TZID=Europe/Berlin:20260327T201500
DTEND;TZID=Europe/Berlin:20260327T231500
SUMMARY:L5G1P2 Delémont VIII vs Porrentruy II (0)
UID:e5b2a4e0-e729-4e80-b1fb-b61af4a960cd
STATUS:CONFIRMED
LAST-MODIFIED:20260331T150337Z
DESCRIPTION:Ligue 5\, groupe 1 phase 2\nBegegnungs-Nr: 0\nHeim: Delémont VIII\nGast: Porrentruy II\n\nAdresse: Rue de la Blancherie 4\, 2800 Delémont\n
LOCATION:Rue de la Blancherie 4\, 2800 Delémont
CATEGORIES:Saison 2025/26
END:VEVENT
BEGIN:VEVENT
DTSTAMP:20260424T203559Z
DTSTART;TZID=Europe/Berlin:20260417T193000
DTEND;TZID=Europe/Berlin:20260417T223000
SUMMARY:L5G1P2 Val-de-Ruz IV vs Porrentruy II (0)
UID:4052fcb3-bd48-4fad-a55d-e50511b77005
STATUS:CONFIRMED
LAST-MODIFIED:20260422T062653Z
DESCRIPTION:Ligue 5\, groupe 1 phase 2\nBegegnungs-Nr: 0\nHeim: Val-de-Ruz IV\nGast: Porrentruy II\n\nAdresse: Rue de Chasseral 3\, 2053 Cernier\n
LOCATION:Rue de Chasseral 3\, 2053 Cernier
CATEGORIES:Saison 2025/26
END:VEVENT
END:VCALENDAR
