BEGIN:VCALENDAR
PRODID:-//nuDatenautomaten//framework iCal4j //DE
VERSION:2.0
CALSCALE:GREGORIAN
BEGIN:VTIMEZONE
TZID:Europe/Berlin
LAST-MODIFIED:20260306T231828Z
TZURL:https://www.tzurl.org/zoneinfo/Europe/Berlin
X-LIC-LOCATION:Europe/Berlin
X-PROLEPTIC-TZNAME:LMT
BEGIN:STANDARD
TZNAME:CET
TZOFFSETFROM:+005328
TZOFFSETTO:+0100
DTSTART:18930401T000000
END:STANDARD
BEGIN:DAYLIGHT
TZNAME:CEST
TZOFFSETFROM:+0100
TZOFFSETTO:+0200
DTSTART:19160430T230000
RDATE:19400401T020000
RDATE:19430329T020000
RDATE:19460414T020000
RDATE:19470406T030000
RDATE:19480418T020000
RDATE:19490410T020000
RDATE:19800406T020000
END:DAYLIGHT
BEGIN:STANDARD
TZNAME:CET
TZOFFSETFROM:+0200
TZOFFSETTO:+0100
DTSTART:19161001T010000
RDATE:19421102T030000
RDATE:19431004T030000
RDATE:19441002T030000
RDATE:19451118T030000
RDATE:19461007T030000
END:STANDARD
BEGIN:DAYLIGHT
TZNAME:CEST
TZOFFSETFROM:+0100
TZOFFSETTO:+0200
DTSTART:19170416T020000
RRULE:FREQ=YEARLY;UNTIL=19180415T010000Z;BYMONTH=4;BYDAY=3MO
END:DAYLIGHT
BEGIN:STANDARD
TZNAME:CET
TZOFFSETFROM:+0200
TZOFFSETTO:+0100
DTSTART:19170917T030000
RRULE:FREQ=YEARLY;UNTIL=19180916T010000Z;BYMONTH=9;BYDAY=3MO
END:STANDARD
BEGIN:DAYLIGHT
TZNAME:CEST
TZOFFSETFROM:+0100
TZOFFSETTO:+0200
DTSTART:19440403T020000
RRULE:FREQ=YEARLY;UNTIL=19450402T010000Z;BYMONTH=4;BYDAY=1MO
END:DAYLIGHT
BEGIN:DAYLIGHT
TZNAME:CEMT
TZOFFSETFROM:+0200
TZOFFSETTO:+0300
DTSTART:19450524T020000
RDATE:19470511T030000
END:DAYLIGHT
BEGIN:DAYLIGHT
TZNAME:CEST
TZOFFSETFROM:+0300
TZOFFSETTO:+0200
DTSTART:19450924T030000
RDATE:19470629T030000
END:DAYLIGHT
BEGIN:STANDARD
TZNAME:CET
TZOFFSETFROM:+0100
TZOFFSETTO:+0100
DTSTART:19460101T000000
RDATE:19800101T000000
END:STANDARD
BEGIN:STANDARD
TZNAME:CET
TZOFFSETFROM:+0200
TZOFFSETTO:+0100
DTSTART:19471005T030000
RRULE:FREQ=YEARLY;UNTIL=19491002T010000Z;BYMONTH=10;BYDAY=1SU
END:STANDARD
BEGIN:STANDARD
TZNAME:CET
TZOFFSETFROM:+0200
TZOFFSETTO:+0100
DTSTART:19800928T030000
RRULE:FREQ=YEARLY;UNTIL=19950924T010000Z;BYMONTH=9;BYDAY=-1SU
END:STANDARD
BEGIN:DAYLIGHT
TZNAME:CEST
TZOFFSETFROM:+0100
TZOFFSETTO:+0200
DTSTART:19810329T020000
RRULE:FREQ=YEARLY;BYMONTH=3;BYDAY=-1SU
END:DAYLIGHT
BEGIN:STANDARD
TZNAME:CET
TZOFFSETFROM:+0200
TZOFFSETTO:+0100
DTSTART:19961027T030000
RRULE:FREQ=YEARLY;BYMONTH=10;BYDAY=-1SU
END:STANDARD
END:VTIMEZONE
BEGIN:VEVENT
DTSTAMP:20260424T140455Z
DTSTART;TZID=Europe/Berlin:20260114T200000
DTEND;TZID=Europe/Berlin:20260114T230000
SUMMARY:HE 5. Liga Gr. 4 Menziken II vs Oberrohrdorf II (0)
UID:316cec85-0424-47ea-9572-23d809b5d0e0
STATUS:CONFIRMED
LAST-MODIFIED:20260115T094956Z
DESCRIPTION:5. Liga Herren Gruppe 4\nBegegnungs-Nr: 0\nHeim: Menziken II\nGast: Oberrohrdorf II\n\nAdresse: Turnplatzstrasse\, 5737 Menziken\n
LOCATION:Turnplatzstrasse\, 5737 Menziken
CATEGORIES:Saison 2025/26
END:VEVENT
BEGIN:VEVENT
DTSTAMP:20260424T140455Z
DTSTART;TZID=Europe/Berlin:20260121T200000
DTEND;TZID=Europe/Berlin:20260121T230000
SUMMARY:HE 5. Liga Gr. 4 Menziken II vs Mellingen II (0)
UID:c2b08304-50ee-4526-8c35-c7c46c35c24d
STATUS:CONFIRMED
LAST-MODIFIED:20260123T081913Z
DESCRIPTION:5. Liga Herren Gruppe 4\nBegegnungs-Nr: 0\nHeim: Menziken II\nGast: Mellingen II\n\nAdresse: Turnplatzstrasse\, 5737 Menziken\n
LOCATION:Turnplatzstrasse\, 5737 Menziken
CATEGORIES:Saison 2025/26
END:VEVENT
BEGIN:VEVENT
DTSTAMP:20260424T140455Z
DTSTART;TZID=Europe/Berlin:20260311T200000
DTEND;TZID=Europe/Berlin:20260311T230000
SUMMARY:HE 5. Liga Gr. 4 Menziken II vs Zofingen III (0)
UID:52b9e792-88b9-44f9-8953-5da71eebf818
STATUS:CONFIRMED
LAST-MODIFIED:20260313T125713Z
DESCRIPTION:5. Liga Herren Gruppe 4\nBegegnungs-Nr: 0\nHeim: Menziken II\nGast: Zofingen III\n\nAdresse: Turnplatzstrasse\, 5737 Menziken\n
LOCATION:Turnplatzstrasse\, 5737 Menziken
CATEGORIES:Saison 2025/26
END:VEVENT
BEGIN:VEVENT
DTSTAMP:20260424T140455Z
DTSTART;TZID=Europe/Berlin:20250903T200000
DTEND;TZID=Europe/Berlin:20250903T230000
SUMMARY:HE 5. Liga Gr. 4 Menziken II vs Baden-Wettingen VI (0)
UID:19ea1f3b-d19b-44b6-b694-9fc0f0e8b930
STATUS:CONFIRMED
LAST-MODIFIED:20250905T121830Z
DESCRIPTION:5. Liga Herren Gruppe 4\nBegegnungs-Nr: 0\nHeim: Menziken II\nGast: Baden-Wettingen VI\n\nAdresse: Turnplatzstrasse\, 5737 Menziken\n
LOCATION:Turnplatzstrasse\, 5737 Menziken
CATEGORIES:Saison 2025/26
END:VEVENT
BEGIN:VEVENT
DTSTAMP:20260424T140455Z
DTSTART;TZID=Europe/Berlin:20251015T200000
DTEND;TZID=Europe/Berlin:20251015T230000
SUMMARY:HE 5. Liga Gr. 4 Menziken II vs Schöftland V (0)
UID:b6a45dee-d0ac-49c8-b895-dc2328380ab0
STATUS:CONFIRMED
LAST-MODIFIED:20251016T150004Z
DESCRIPTION:5. Liga Herren Gruppe 4\nBegegnungs-Nr: 0\nHeim: Menziken II\nGast: Schöftland V\n\nAdresse: Turnplatzstrasse\, 5737 Menziken\n
LOCATION:Turnplatzstrasse\, 5737 Menziken
CATEGORIES:Saison 2025/26
END:VEVENT
BEGIN:VEVENT
DTSTAMP:20260424T140455Z
DTSTART;TZID=Europe/Berlin:20251029T200000
DTEND;TZID=Europe/Berlin:20251029T230000
SUMMARY:HE 5. Liga Gr. 4 Menziken II vs Aarau V (0)
UID:89ae6fa3-405c-4650-a8dc-808367aad82b
STATUS:CONFIRMED
LAST-MODIFIED:20251031T143306Z
DESCRIPTION:5. Liga Herren Gruppe 4\nBegegnungs-Nr: 0\nHeim: Menziken II\nGast: Aarau V\n\nAdresse: Turnplatzstrasse\, 5737 Menziken\n
LOCATION:Turnplatzstrasse\, 5737 Menziken
CATEGORIES:Saison 2025/26
END:VEVENT
BEGIN:VEVENT
DTSTAMP:20260424T140455Z
DTSTART;TZID=Europe/Berlin:20260325T200000
DTEND;TZID=Europe/Berlin:20260325T230000
SUMMARY:HE 5. Liga Gr. 4 Menziken II vs Bremgarten VIII (0)
UID:61dbb42d-2fc8-4850-85e4-d6c14d0da738
STATUS:CONFIRMED
LAST-MODIFIED:20260420T134244Z
DESCRIPTION:5. Liga Herren Gruppe 4\nBegegnungs-Nr: 0\nHeim: Menziken II\nGast: Bremgarten VIII\n\nAdresse: Turnplatzstrasse\, 5737 Menziken\n
LOCATION:Turnplatzstrasse\, 5737 Menziken
CATEGORIES:Saison 2025/26
END:VEVENT
BEGIN:VEVENT
DTSTAMP:20260424T140455Z
DTSTART;TZID=Europe/Berlin:20260107T194500
DTEND;TZID=Europe/Berlin:20260107T224500
SUMMARY:HE 5. Liga Gr. 4 Baden-Wettingen VI vs Menziken II (0)
UID:3dcd3a1e-e54f-4b2c-a926-b1f8740baac5
STATUS:CONFIRMED
LAST-MODIFIED:20260109T074455Z
DESCRIPTION:5. Liga Herren Gruppe 4\nBegegnungs-Nr: 0\nHeim: Baden-Wettingen VI\nGast: Menziken II\n\nAdresse: Wiesenstrasse 32 (Parkhaus Schmiede Fabrikstrasse)\, 5400 Baden\n
LOCATION:Wiesenstrasse 32 (Parkhaus Schmiede Fabrikstrasse)\, 5400 Baden
CATEGORIES:Saison 2025/26
END:VEVENT
BEGIN:VEVENT
DTSTAMP:20260424T140455Z
DTSTART;TZID=Europe/Berlin:20260209T200000
DTEND;TZID=Europe/Berlin:20260209T230000
SUMMARY:HE 5. Liga Gr. 4 Schöftland V vs Menziken II (0)
UID:4759a9a8-aaff-40f9-8c14-8602e1c75cc1
STATUS:CONFIRMED
LAST-MODIFIED:20260211T100220Z
DESCRIPTION:5. Liga Herren Gruppe 4\nBegegnungs-Nr: 0\nHeim: Schöftland V\nGast: Menziken II\n\nAdresse: Birkenweg\, 5040 Schöftland\n
LOCATION:Birkenweg\, 5040 Schöftland
CATEGORIES:Saison 2025/26
END:VEVENT
BEGIN:VEVENT
DTSTAMP:20260424T140455Z
DTSTART;TZID=Europe/Berlin:20260225T194500
DTEND;TZID=Europe/Berlin:20260225T224500
SUMMARY:HE 5. Liga Gr. 4 Aarau V vs Menziken II (0)
UID:10b91edc-ea0b-43a8-b0cd-3f95f27ee917
STATUS:CONFIRMED
LAST-MODIFIED:20260302T112457Z
DESCRIPTION:5. Liga Herren Gruppe 4\nBegegnungs-Nr: 0\nHeim: Aarau V\nGast: Menziken II\n\nAdresse: Weltistrasse 20\, 5000 Aarau\n
LOCATION:Weltistrasse 20\, 5000 Aarau
CATEGORIES:Saison 2025/26
END:VEVENT
BEGIN:VEVENT
DTSTAMP:20260424T140455Z
DTSTART;TZID=Europe/Berlin:20250820T200000
DTEND;TZID=Europe/Berlin:20250820T230000
SUMMARY:HE 5. Liga Gr. 4 Oberrohrdorf II vs Menziken II (0)
UID:714c04ef-0195-480b-be95-6582cf9e3c5d
STATUS:CONFIRMED
LAST-MODIFIED:20250825T070429Z
DESCRIPTION:5. Liga Herren Gruppe 4\nBegegnungs-Nr: 0\nHeim: Oberrohrdorf II\nGast: Menziken II\n\nAdresse: Hinterbächlistrasse\, 5452 Oberrohrdorf\n
LOCATION:Hinterbächlistrasse\, 5452 Oberrohrdorf
CATEGORIES:Saison 2025/26
END:VEVENT
BEGIN:VEVENT
DTSTAMP:20260424T140455Z
DTSTART;TZID=Europe/Berlin:20251117T194500
DTEND;TZID=Europe/Berlin:20251117T224500
SUMMARY:HE 5. Liga Gr. 4 Zofingen III vs Menziken II (0)
UID:000800b4-550b-4492-8a5f-c8921cfcab1f
STATUS:CONFIRMED
LAST-MODIFIED:20251120T083551Z
DESCRIPTION:5. Liga Herren Gruppe 4\nBegegnungs-Nr: 0\nHeim: Zofingen III\nGast: Menziken II\n\nAdresse: Kreuzplatz\, 4802 Strengelbach\n
LOCATION:Kreuzplatz\, 4802 Strengelbach
CATEGORIES:Saison 2025/26
END:VEVENT
BEGIN:VEVENT
DTSTAMP:20260424T140455Z
DTSTART;TZID=Europe/Berlin:20250925T200000
DTEND;TZID=Europe/Berlin:20250925T230000
SUMMARY:HE 5. Liga Gr. 4 Mellingen II vs Menziken II (0)
UID:bfd5fe3c-b9b9-47a0-8a37-13f822207f15
STATUS:CONFIRMED
LAST-MODIFIED:20250926T123808Z
DESCRIPTION:5. Liga Herren Gruppe 4\nBegegnungs-Nr: 0\nHeim: Mellingen II\nGast: Menziken II\n\nAdresse: Bahnhofstrasse 22\, 5507 Mellingen\n
LOCATION:Bahnhofstrasse 22\, 5507 Mellingen
CATEGORIES:Saison 2025/26
END:VEVENT
BEGIN:VEVENT
DTSTAMP:20260424T140455Z
DTSTART;TZID=Europe/Berlin:20251209T201500
DTEND;TZID=Europe/Berlin:20251209T231500
SUMMARY:HE 5. Liga Gr. 4 Bremgarten VIII vs Menziken II (0)
UID:8d403574-4d3b-4085-87a3-26ee718df573
STATUS:CONFIRMED
LAST-MODIFIED:20251211T112213Z
DESCRIPTION:5. Liga Herren Gruppe 4\nBegegnungs-Nr: 0\nHeim: Bremgarten VIII\nGast: Menziken II\n\nAdresse: Badstrasse 3\, 5620 Bremgarten\n
LOCATION:Badstrasse 3\, 5620 Bremgarten
CATEGORIES:Saison 2025/26
END:VEVENT
END:VCALENDAR
