BEGIN:VCALENDAR
PRODID:-//nuDatenautomaten//framework iCal4j //DE
VERSION:2.0
CALSCALE:GREGORIAN
BEGIN:VTIMEZONE
TZID:Europe/Berlin
LAST-MODIFIED:20260306T231828Z
TZURL:https://www.tzurl.org/zoneinfo/Europe/Berlin
X-LIC-LOCATION:Europe/Berlin
X-PROLEPTIC-TZNAME:LMT
BEGIN:STANDARD
TZNAME:CET
TZOFFSETFROM:+005328
TZOFFSETTO:+0100
DTSTART:18930401T000000
END:STANDARD
BEGIN:DAYLIGHT
TZNAME:CEST
TZOFFSETFROM:+0100
TZOFFSETTO:+0200
DTSTART:19160430T230000
RDATE:19400401T020000
RDATE:19430329T020000
RDATE:19460414T020000
RDATE:19470406T030000
RDATE:19480418T020000
RDATE:19490410T020000
RDATE:19800406T020000
END:DAYLIGHT
BEGIN:STANDARD
TZNAME:CET
TZOFFSETFROM:+0200
TZOFFSETTO:+0100
DTSTART:19161001T010000
RDATE:19421102T030000
RDATE:19431004T030000
RDATE:19441002T030000
RDATE:19451118T030000
RDATE:19461007T030000
END:STANDARD
BEGIN:DAYLIGHT
TZNAME:CEST
TZOFFSETFROM:+0100
TZOFFSETTO:+0200
DTSTART:19170416T020000
RRULE:FREQ=YEARLY;UNTIL=19180415T010000Z;BYMONTH=4;BYDAY=3MO
END:DAYLIGHT
BEGIN:STANDARD
TZNAME:CET
TZOFFSETFROM:+0200
TZOFFSETTO:+0100
DTSTART:19170917T030000
RRULE:FREQ=YEARLY;UNTIL=19180916T010000Z;BYMONTH=9;BYDAY=3MO
END:STANDARD
BEGIN:DAYLIGHT
TZNAME:CEST
TZOFFSETFROM:+0100
TZOFFSETTO:+0200
DTSTART:19440403T020000
RRULE:FREQ=YEARLY;UNTIL=19450402T010000Z;BYMONTH=4;BYDAY=1MO
END:DAYLIGHT
BEGIN:DAYLIGHT
TZNAME:CEMT
TZOFFSETFROM:+0200
TZOFFSETTO:+0300
DTSTART:19450524T020000
RDATE:19470511T030000
END:DAYLIGHT
BEGIN:DAYLIGHT
TZNAME:CEST
TZOFFSETFROM:+0300
TZOFFSETTO:+0200
DTSTART:19450924T030000
RDATE:19470629T030000
END:DAYLIGHT
BEGIN:STANDARD
TZNAME:CET
TZOFFSETFROM:+0100
TZOFFSETTO:+0100
DTSTART:19460101T000000
RDATE:19800101T000000
END:STANDARD
BEGIN:STANDARD
TZNAME:CET
TZOFFSETFROM:+0200
TZOFFSETTO:+0100
DTSTART:19471005T030000
RRULE:FREQ=YEARLY;UNTIL=19491002T010000Z;BYMONTH=10;BYDAY=1SU
END:STANDARD
BEGIN:STANDARD
TZNAME:CET
TZOFFSETFROM:+0200
TZOFFSETTO:+0100
DTSTART:19800928T030000
RRULE:FREQ=YEARLY;UNTIL=19950924T010000Z;BYMONTH=9;BYDAY=-1SU
END:STANDARD
BEGIN:DAYLIGHT
TZNAME:CEST
TZOFFSETFROM:+0100
TZOFFSETTO:+0200
DTSTART:19810329T020000
RRULE:FREQ=YEARLY;BYMONTH=3;BYDAY=-1SU
END:DAYLIGHT
BEGIN:STANDARD
TZNAME:CET
TZOFFSETFROM:+0200
TZOFFSETTO:+0100
DTSTART:19961027T030000
RRULE:FREQ=YEARLY;BYMONTH=10;BYDAY=-1SU
END:STANDARD
END:VTIMEZONE
BEGIN:VEVENT
DTSTAMP:20260424T141114Z
DTSTART;TZID=Europe/Berlin:20251218T203000
DTEND;TZID=Europe/Berlin:20251218T233000
SUMMARY:HE 3. Liga Gr. 4 Lenzburg II vs Brugg (0)
UID:33cd7a7e-4bdb-4e5e-8553-d53338068d4c
STATUS:CONFIRMED
LAST-MODIFIED:20260109T074026Z
DESCRIPTION:3. Liga Herren Gruppe 4\nBegegnungs-Nr: 0\nHeim: Lenzburg II\nGast: Brugg\n\nAdresse: Turnerweg\, 5600 Lenzburg\n
LOCATION:Turnerweg\, 5600 Lenzburg
CATEGORIES:Saison 2025/26
END:VEVENT
BEGIN:VEVENT
DTSTAMP:20260424T141114Z
DTSTART;TZID=Europe/Berlin:20260122T203000
DTEND;TZID=Europe/Berlin:20260122T233000
SUMMARY:HE 3. Liga Gr. 4 Lenzburg II vs Döttingen III (0)
UID:24ca0a93-997b-4cc3-b5eb-062111a9e03f
STATUS:CONFIRMED
LAST-MODIFIED:20260129T075114Z
DESCRIPTION:3. Liga Herren Gruppe 4\nBegegnungs-Nr: 0\nHeim: Lenzburg II\nGast: Döttingen III\n\nAdresse: Turnerweg\, 5600 Lenzburg\n
LOCATION:Turnerweg\, 5600 Lenzburg
CATEGORIES:Saison 2025/26
END:VEVENT
BEGIN:VEVENT
DTSTAMP:20260424T141114Z
DTSTART;TZID=Europe/Berlin:20260226T203000
DTEND;TZID=Europe/Berlin:20260226T233000
SUMMARY:HE 3. Liga Gr. 4 Lenzburg II vs Baden-Wettingen III (0)
UID:5166851e-9b00-492a-b3b4-a49a0a78a372
STATUS:CONFIRMED
LAST-MODIFIED:20260302T112718Z
DESCRIPTION:3. Liga Herren Gruppe 4\nBegegnungs-Nr: 0\nHeim: Lenzburg II\nGast: Baden-Wettingen III\n\nAdresse: Turnerweg\, 5600 Lenzburg\n
LOCATION:Turnerweg\, 5600 Lenzburg
CATEGORIES:Saison 2025/26
END:VEVENT
BEGIN:VEVENT
DTSTAMP:20260424T141114Z
DTSTART;TZID=Europe/Berlin:20260326T203000
DTEND;TZID=Europe/Berlin:20260326T233000
SUMMARY:HE 3. Liga Gr. 4 Lenzburg II vs Bremgarten IV (0)
UID:79217236-d510-4191-84f6-e105eb15ce21
STATUS:CONFIRMED
LAST-MODIFIED:20260409T114511Z
DESCRIPTION:3. Liga Herren Gruppe 4\nBegegnungs-Nr: 0\nHeim: Lenzburg II\nGast: Bremgarten IV\n\nAdresse: Turnerweg\, 5600 Lenzburg\n
LOCATION:Turnerweg\, 5600 Lenzburg
CATEGORIES:Saison 2025/26
END:VEVENT
BEGIN:VEVENT
DTSTAMP:20260424T141114Z
DTSTART;TZID=Europe/Berlin:20250904T203000
DTEND;TZID=Europe/Berlin:20250904T233000
SUMMARY:HE 3. Liga Gr. 4 Lenzburg II vs Menziken (0)
UID:86eaf58c-1d15-40e7-ac75-b35be4432d57
STATUS:CONFIRMED
LAST-MODIFIED:20250905T121135Z
DESCRIPTION:3. Liga Herren Gruppe 4\nBegegnungs-Nr: 0\nHeim: Lenzburg II\nGast: Menziken\n\nAdresse: Turnerweg\, 5600 Lenzburg\n
LOCATION:Turnerweg\, 5600 Lenzburg
CATEGORIES:Saison 2025/26
END:VEVENT
BEGIN:VEVENT
DTSTAMP:20260424T141114Z
DTSTART;TZID=Europe/Berlin:20251009T203000
DTEND;TZID=Europe/Berlin:20251009T233000
SUMMARY:HE 3. Liga Gr. 4 Lenzburg II vs Schöftland III (0)
UID:bc9f3ba5-8dcb-409f-a4af-72d14d6f949d
STATUS:CONFIRMED
LAST-MODIFIED:20251016T145647Z
DESCRIPTION:3. Liga Herren Gruppe 4\nBegegnungs-Nr: 0\nHeim: Lenzburg II\nGast: Schöftland III\n\nAdresse: Turnerweg\, 5600 Lenzburg\n
LOCATION:Turnerweg\, 5600 Lenzburg
CATEGORIES:Saison 2025/26
END:VEVENT
BEGIN:VEVENT
DTSTAMP:20260424T141114Z
DTSTART;TZID=Europe/Berlin:20251120T203000
DTEND;TZID=Europe/Berlin:20251120T233000
SUMMARY:HE 3. Liga Gr. 4 Lenzburg II vs Mellingen (0)
UID:208a2548-e625-49c6-8921-a49200cb0014
STATUS:CONFIRMED
LAST-MODIFIED:20251121T093430Z
DESCRIPTION:3. Liga Herren Gruppe 4\nBegegnungs-Nr: 0\nHeim: Lenzburg II\nGast: Mellingen\n\nAdresse: Turnerweg\, 5600 Lenzburg\n
LOCATION:Turnerweg\, 5600 Lenzburg
CATEGORIES:Saison 2025/26
END:VEVENT
BEGIN:VEVENT
DTSTAMP:20260424T141114Z
DTSTART;TZID=Europe/Berlin:20260114T200000
DTEND;TZID=Europe/Berlin:20260114T230000
SUMMARY:HE 3. Liga Gr. 4 Menziken vs Lenzburg II (0)
UID:f11858f0-524e-4d5d-a6aa-141c48131f03
STATUS:CONFIRMED
LAST-MODIFIED:20260123T081345Z
DESCRIPTION:3. Liga Herren Gruppe 4\nBegegnungs-Nr: 0\nHeim: Menziken\nGast: Lenzburg II\n\nAdresse: Turnplatzstrasse\, 5737 Menziken\n
LOCATION:Turnplatzstrasse\, 5737 Menziken
CATEGORIES:Saison 2025/26
END:VEVENT
BEGIN:VEVENT
DTSTAMP:20260424T141114Z
DTSTART;TZID=Europe/Berlin:20260213T200000
DTEND;TZID=Europe/Berlin:20260213T230000
SUMMARY:HE 3. Liga Gr. 4 Schöftland III vs Lenzburg II (0)
UID:b43a3f1a-2338-4ac7-a6ed-cac334bb7f37
STATUS:CONFIRMED
LAST-MODIFIED:20260218T071336Z
DESCRIPTION:3. Liga Herren Gruppe 4\nBegegnungs-Nr: 0\nHeim: Schöftland III\nGast: Lenzburg II\n\nAdresse: Birkenweg\, 5040 Schöftland\n
LOCATION:Birkenweg\, 5040 Schöftland
CATEGORIES:Saison 2025/26
END:VEVENT
BEGIN:VEVENT
DTSTAMP:20260424T141114Z
DTSTART;TZID=Europe/Berlin:20260314T140000
DTEND;TZID=Europe/Berlin:20260314T170000
SUMMARY:HE 3. Liga Gr. 4 Mellingen vs Lenzburg II (0)
UID:76676343-4528-42ec-a54f-4e073c22fe6c
STATUS:CONFIRMED
LAST-MODIFIED:20260409T114454Z
DESCRIPTION:3. Liga Herren Gruppe 4\nBegegnungs-Nr: 0\nHeim: Mellingen\nGast: Lenzburg II\n\nAdresse: Bahnhofstrasse 22\, 5507 Mellingen\n
LOCATION:Bahnhofstrasse 22\, 5507 Mellingen
CATEGORIES:Saison 2025/26
END:VEVENT
BEGIN:VEVENT
DTSTAMP:20260424T141114Z
DTSTART;TZID=Europe/Berlin:20250819T194500
DTEND;TZID=Europe/Berlin:20250819T224500
SUMMARY:HE 3. Liga Gr. 4 Brugg vs Lenzburg II (0)
UID:72dcd7e1-46ce-451d-9f0a-16fb3cd09fad
STATUS:CONFIRMED
LAST-MODIFIED:20250825T070011Z
DESCRIPTION:3. Liga Herren Gruppe 4\nBegegnungs-Nr: 0\nHeim: Brugg\nGast: Lenzburg II\n\nAdresse: Sommerhaldenstrasse 29\, 5200 Brugg/Lauffohr\n
LOCATION:Sommerhaldenstrasse 29\, 5200 Brugg/Lauffohr
CATEGORIES:Saison 2025/26
END:VEVENT
BEGIN:VEVENT
DTSTAMP:20260424T141114Z
DTSTART;TZID=Europe/Berlin:20251023T200000
DTEND;TZID=Europe/Berlin:20251023T230000
SUMMARY:HE 3. Liga Gr. 4 Baden-Wettingen III vs Lenzburg II (0)
UID:25ce6c59-2439-4da7-890b-795ee9e6abd6
STATUS:CONFIRMED
LAST-MODIFIED:20251029T095613Z
DESCRIPTION:3. Liga Herren Gruppe 4\nBegegnungs-Nr: 0\nHeim: Baden-Wettingen III\nGast: Lenzburg II\n\nAdresse: Schulstrasse 14\, 5430 Wettingen\n
LOCATION:Schulstrasse 14\, 5430 Wettingen
CATEGORIES:Saison 2025/26
END:VEVENT
BEGIN:VEVENT
DTSTAMP:20260424T141114Z
DTSTART;TZID=Europe/Berlin:20250910T201500
DTEND;TZID=Europe/Berlin:20250910T231500
SUMMARY:HE 3. Liga Gr. 4 Döttingen III vs Lenzburg II (0)
UID:07a76f62-4295-4451-9df3-6b01ff2b6875
STATUS:CONFIRMED
LAST-MODIFIED:20250911T111053Z
DESCRIPTION:3. Liga Herren Gruppe 4\nBegegnungs-Nr: 0\nHeim: Döttingen III\nGast: Lenzburg II\n\nAdresse: Im Bogen\, Chilbert 25\, 5312 Döttingen\n
LOCATION:Im Bogen\, Chilbert 25\, 5312 Döttingen
CATEGORIES:Saison 2025/26
END:VEVENT
BEGIN:VEVENT
DTSTAMP:20260424T141114Z
DTSTART;TZID=Europe/Berlin:20251202T201500
DTEND;TZID=Europe/Berlin:20251202T231500
SUMMARY:HE 3. Liga Gr. 4 Bremgarten IV vs Lenzburg II (0)
UID:fdc38f78-f7b0-499f-b620-e2ed3f8ed87d
STATUS:CONFIRMED
LAST-MODIFIED:20251205T123244Z
DESCRIPTION:3. Liga Herren Gruppe 4\nBegegnungs-Nr: 0\nHeim: Bremgarten IV\nGast: Lenzburg II\n\nAdresse: Badstrasse 3\, 5620 Bremgarten\n
LOCATION:Badstrasse 3\, 5620 Bremgarten
CATEGORIES:Saison 2025/26
END:VEVENT
END:VCALENDAR
