BEGIN:VCALENDAR
PRODID:-//nuDatenautomaten//framework iCal4j //DE
VERSION:2.0
CALSCALE:GREGORIAN
BEGIN:VTIMEZONE
TZID:Europe/Berlin
LAST-MODIFIED:20260306T231828Z
TZURL:https://www.tzurl.org/zoneinfo/Europe/Berlin
X-LIC-LOCATION:Europe/Berlin
X-PROLEPTIC-TZNAME:LMT
BEGIN:STANDARD
TZNAME:CET
TZOFFSETFROM:+005328
TZOFFSETTO:+0100
DTSTART:18930401T000000
END:STANDARD
BEGIN:DAYLIGHT
TZNAME:CEST
TZOFFSETFROM:+0100
TZOFFSETTO:+0200
DTSTART:19160430T230000
RDATE:19400401T020000
RDATE:19430329T020000
RDATE:19460414T020000
RDATE:19470406T030000
RDATE:19480418T020000
RDATE:19490410T020000
RDATE:19800406T020000
END:DAYLIGHT
BEGIN:STANDARD
TZNAME:CET
TZOFFSETFROM:+0200
TZOFFSETTO:+0100
DTSTART:19161001T010000
RDATE:19421102T030000
RDATE:19431004T030000
RDATE:19441002T030000
RDATE:19451118T030000
RDATE:19461007T030000
END:STANDARD
BEGIN:DAYLIGHT
TZNAME:CEST
TZOFFSETFROM:+0100
TZOFFSETTO:+0200
DTSTART:19170416T020000
RRULE:FREQ=YEARLY;UNTIL=19180415T010000Z;BYMONTH=4;BYDAY=3MO
END:DAYLIGHT
BEGIN:STANDARD
TZNAME:CET
TZOFFSETFROM:+0200
TZOFFSETTO:+0100
DTSTART:19170917T030000
RRULE:FREQ=YEARLY;UNTIL=19180916T010000Z;BYMONTH=9;BYDAY=3MO
END:STANDARD
BEGIN:DAYLIGHT
TZNAME:CEST
TZOFFSETFROM:+0100
TZOFFSETTO:+0200
DTSTART:19440403T020000
RRULE:FREQ=YEARLY;UNTIL=19450402T010000Z;BYMONTH=4;BYDAY=1MO
END:DAYLIGHT
BEGIN:DAYLIGHT
TZNAME:CEMT
TZOFFSETFROM:+0200
TZOFFSETTO:+0300
DTSTART:19450524T020000
RDATE:19470511T030000
END:DAYLIGHT
BEGIN:DAYLIGHT
TZNAME:CEST
TZOFFSETFROM:+0300
TZOFFSETTO:+0200
DTSTART:19450924T030000
RDATE:19470629T030000
END:DAYLIGHT
BEGIN:STANDARD
TZNAME:CET
TZOFFSETFROM:+0100
TZOFFSETTO:+0100
DTSTART:19460101T000000
RDATE:19800101T000000
END:STANDARD
BEGIN:STANDARD
TZNAME:CET
TZOFFSETFROM:+0200
TZOFFSETTO:+0100
DTSTART:19471005T030000
RRULE:FREQ=YEARLY;UNTIL=19491002T010000Z;BYMONTH=10;BYDAY=1SU
END:STANDARD
BEGIN:STANDARD
TZNAME:CET
TZOFFSETFROM:+0200
TZOFFSETTO:+0100
DTSTART:19800928T030000
RRULE:FREQ=YEARLY;UNTIL=19950924T010000Z;BYMONTH=9;BYDAY=-1SU
END:STANDARD
BEGIN:DAYLIGHT
TZNAME:CEST
TZOFFSETFROM:+0100
TZOFFSETTO:+0200
DTSTART:19810329T020000
RRULE:FREQ=YEARLY;BYMONTH=3;BYDAY=-1SU
END:DAYLIGHT
BEGIN:STANDARD
TZNAME:CET
TZOFFSETFROM:+0200
TZOFFSETTO:+0100
DTSTART:19961027T030000
RRULE:FREQ=YEARLY;BYMONTH=10;BYDAY=-1SU
END:STANDARD
END:VTIMEZONE
BEGIN:VEVENT
DTSTAMP:20260424T220634Z
DTSTART;TZID=Europe/Berlin:20250317T194500
DTEND;TZID=Europe/Berlin:20250317T224500
SUMMARY:3. HR Z 2 Wetzikon vs Neuhausen (120)
UID:ee39b14f-56ff-4c34-9266-bc9ed855f9d2
STATUS:CONFIRMED
LAST-MODIFIED:20250320T094554Z
DESCRIPTION:3. Hauptrunde Zone 2\nBegegnungs-Nr: 120\nHeim: Wetzikon\nGast: Neuhausen\n\nAdresse: Usterstrasse 37\, 8620 Wetzikon\n
LOCATION:Usterstrasse 37\, 8620 Wetzikon
CATEGORIES:Saison Cup 2024/25
END:VEVENT
BEGIN:VEVENT
DTSTAMP:20260424T220634Z
DTSTART;TZID=Europe/Berlin:20250519T194500
DTEND;TZID=Europe/Berlin:20250519T224500
SUMMARY:1/8-Final Wetzikon vs Zürich-Affoltern (132)
UID:a5cc5c68-f60c-424c-84bf-b95ff49d6811
STATUS:CONFIRMED
LAST-MODIFIED:20250522T085510Z
DESCRIPTION:1/8-Final\nBegegnungs-Nr: 132\nHeim: Wetzikon\nGast: Zürich-Affoltern\n\nAdresse: Usterstrasse 37\, 8620 Wetzikon\n
LOCATION:Usterstrasse 37\, 8620 Wetzikon
CATEGORIES:Saison Cup 2024/25
END:VEVENT
BEGIN:VEVENT
DTSTAMP:20260424T220634Z
DTSTART;TZID=Europe/Berlin:20241021T200000
DTEND;TZID=Europe/Berlin:20241021T230000
SUMMARY:1. HR Z 4 Bronschhofen vs Wetzikon (79)
UID:8693273f-9478-48f7-9617-c7720f8d697b
STATUS:CONFIRMED
LAST-MODIFIED:20241022T064635Z
DESCRIPTION:1. Hauptrunde Zone 4\nBegegnungs-Nr: 79\nHeim: Bronschhofen\nGast: Wetzikon\n\nAdresse: Schulstrasse 6\, 9552 Bronschhofen\n
LOCATION:Schulstrasse 6\, 9552 Bronschhofen
CATEGORIES:Saison Cup 2024/25
END:VEVENT
BEGIN:VEVENT
DTSTAMP:20260424T220634Z
DTSTART;TZID=Europe/Berlin:20250614T101500
DTEND;TZID=Europe/Berlin:20250614T131500
SUMMARY:1/4-Final Rapid Luzern vs Wetzikon (0)
UID:892c9bd3-5336-474c-99de-89d97aa15a70
STATUS:CONFIRMED
LAST-MODIFIED:20250617T133957Z
DESCRIPTION:1/4-Final\nBegegnungs-Nr: 0\nHeim: Rapid Luzern\nGast: Wetzikon\n
LOCATION:
CATEGORIES:Saison Cup 2024/25
END:VEVENT
BEGIN:VEVENT
DTSTAMP:20260424T220634Z
DTSTART;TZID=Europe/Berlin:20241210T201500
DTEND;TZID=Europe/Berlin:20241210T231500
SUMMARY:2. HR Z 4 Herisau vs Wetzikon (110)
UID:5a9e7822-cb15-447c-9432-c17248f246e6
STATUS:CONFIRMED
LAST-MODIFIED:20241213T083512Z
DESCRIPTION:2. Hauptrunde Zone 4\nBegegnungs-Nr: 110\nHeim: Herisau\nGast: Wetzikon\n
LOCATION:
CATEGORIES:Saison Cup 2024/25
END:VEVENT
END:VCALENDAR
