BEGIN:VCALENDAR
PRODID:-//nuDatenautomaten//framework iCal4j //DE
VERSION:2.0
CALSCALE:GREGORIAN
BEGIN:VTIMEZONE
TZID:Europe/Berlin
LAST-MODIFIED:20260306T231828Z
TZURL:https://www.tzurl.org/zoneinfo/Europe/Berlin
X-LIC-LOCATION:Europe/Berlin
X-PROLEPTIC-TZNAME:LMT
BEGIN:STANDARD
TZNAME:CET
TZOFFSETFROM:+005328
TZOFFSETTO:+0100
DTSTART:18930401T000000
END:STANDARD
BEGIN:DAYLIGHT
TZNAME:CEST
TZOFFSETFROM:+0100
TZOFFSETTO:+0200
DTSTART:19160430T230000
RDATE:19400401T020000
RDATE:19430329T020000
RDATE:19460414T020000
RDATE:19470406T030000
RDATE:19480418T020000
RDATE:19490410T020000
RDATE:19800406T020000
END:DAYLIGHT
BEGIN:STANDARD
TZNAME:CET
TZOFFSETFROM:+0200
TZOFFSETTO:+0100
DTSTART:19161001T010000
RDATE:19421102T030000
RDATE:19431004T030000
RDATE:19441002T030000
RDATE:19451118T030000
RDATE:19461007T030000
END:STANDARD
BEGIN:DAYLIGHT
TZNAME:CEST
TZOFFSETFROM:+0100
TZOFFSETTO:+0200
DTSTART:19170416T020000
RRULE:FREQ=YEARLY;UNTIL=19180415T010000Z;BYMONTH=4;BYDAY=3MO
END:DAYLIGHT
BEGIN:STANDARD
TZNAME:CET
TZOFFSETFROM:+0200
TZOFFSETTO:+0100
DTSTART:19170917T030000
RRULE:FREQ=YEARLY;UNTIL=19180916T010000Z;BYMONTH=9;BYDAY=3MO
END:STANDARD
BEGIN:DAYLIGHT
TZNAME:CEST
TZOFFSETFROM:+0100
TZOFFSETTO:+0200
DTSTART:19440403T020000
RRULE:FREQ=YEARLY;UNTIL=19450402T010000Z;BYMONTH=4;BYDAY=1MO
END:DAYLIGHT
BEGIN:DAYLIGHT
TZNAME:CEMT
TZOFFSETFROM:+0200
TZOFFSETTO:+0300
DTSTART:19450524T020000
RDATE:19470511T030000
END:DAYLIGHT
BEGIN:DAYLIGHT
TZNAME:CEST
TZOFFSETFROM:+0300
TZOFFSETTO:+0200
DTSTART:19450924T030000
RDATE:19470629T030000
END:DAYLIGHT
BEGIN:STANDARD
TZNAME:CET
TZOFFSETFROM:+0100
TZOFFSETTO:+0100
DTSTART:19460101T000000
RDATE:19800101T000000
END:STANDARD
BEGIN:STANDARD
TZNAME:CET
TZOFFSETFROM:+0200
TZOFFSETTO:+0100
DTSTART:19471005T030000
RRULE:FREQ=YEARLY;UNTIL=19491002T010000Z;BYMONTH=10;BYDAY=1SU
END:STANDARD
BEGIN:STANDARD
TZNAME:CET
TZOFFSETFROM:+0200
TZOFFSETTO:+0100
DTSTART:19800928T030000
RRULE:FREQ=YEARLY;UNTIL=19950924T010000Z;BYMONTH=9;BYDAY=-1SU
END:STANDARD
BEGIN:DAYLIGHT
TZNAME:CEST
TZOFFSETFROM:+0100
TZOFFSETTO:+0200
DTSTART:19810329T020000
RRULE:FREQ=YEARLY;BYMONTH=3;BYDAY=-1SU
END:DAYLIGHT
BEGIN:STANDARD
TZNAME:CET
TZOFFSETFROM:+0200
TZOFFSETTO:+0100
DTSTART:19961027T030000
RRULE:FREQ=YEARLY;BYMONTH=10;BYDAY=-1SU
END:STANDARD
END:VTIMEZONE
BEGIN:VEVENT
DTSTAMP:20260424T220537Z
DTSTART;TZID=Europe/Berlin:20250329T190000
DTEND;TZID=Europe/Berlin:20250329T220000
SUMMARY:3. HR Z 2 Affoltern A/A vs Fribourg (126)
UID:6c8d1ac4-91ff-484d-a7bf-bd88421f4330
STATUS:CONFIRMED
LAST-MODIFIED:20250402T080518Z
DESCRIPTION:3. Hauptrunde Zone 2\nBegegnungs-Nr: 126\nHeim: Affoltern A/A\nGast: Fribourg\n\nAdresse: Butzenstrasse 8\, 8910 Affoltern am Albis\n
LOCATION:Butzenstrasse 8\, 8910 Affoltern am Albis
CATEGORIES:Saison Cup 2024/25
END:VEVENT
BEGIN:VEVENT
DTSTAMP:20260424T220537Z
DTSTART;TZID=Europe/Berlin:20250519T193000
DTEND;TZID=Europe/Berlin:20250519T223000
SUMMARY:1/8-Final Affoltern A/A vs Rapperswil-Jona (131)
UID:7ab437e2-9ea2-4b30-8842-fc65c3251892
STATUS:CONFIRMED
LAST-MODIFIED:20250522T085437Z
DESCRIPTION:1/8-Final\nBegegnungs-Nr: 131\nHeim: Affoltern A/A\nGast: Rapperswil-Jona\n\nAdresse: Butzenstr. 2\, 8910 Affoltern am Albis\n
LOCATION:Butzenstr. 2\, 8910 Affoltern am Albis
CATEGORIES:Saison Cup 2024/25
END:VEVENT
BEGIN:VEVENT
DTSTAMP:20260424T220537Z
DTSTART;TZID=Europe/Berlin:20241021T193000
DTEND;TZID=Europe/Berlin:20241021T223000
SUMMARY:1. HR Z 3 Pinguin Zürich vs Affoltern A/A (68)
UID:6477d346-8ad0-4429-aadb-ef04bf1b1842
STATUS:CONFIRMED
LAST-MODIFIED:20241022T064548Z
DESCRIPTION:1. Hauptrunde Zone 3\nBegegnungs-Nr: 68\nHeim: Pinguin Zürich\nGast: Affoltern A/A\n
LOCATION:
CATEGORIES:Saison Cup 2024/25
END:VEVENT
BEGIN:VEVENT
DTSTAMP:20260424T220537Z
DTSTART;TZID=Europe/Berlin:20250114T200000
DTEND;TZID=Europe/Berlin:20250114T230000
SUMMARY:2. HR Z 3 Kriens vs Affoltern A/A (103)
UID:3415a29c-048f-49e5-b2ad-6a873087d073
STATUS:CONFIRMED
LAST-MODIFIED:20250116T092806Z
DESCRIPTION:2. Hauptrunde Zone 3\nBegegnungs-Nr: 103\nHeim: Kriens\nGast: Affoltern A/A\n
LOCATION:
CATEGORIES:Saison Cup 2024/25
END:VEVENT
END:VCALENDAR
