BEGIN:VCALENDAR
PRODID:-//nuDatenautomaten//framework iCal4j //DE
VERSION:2.0
CALSCALE:GREGORIAN
BEGIN:VTIMEZONE
TZID:Europe/Berlin
LAST-MODIFIED:20260306T231828Z
TZURL:https://www.tzurl.org/zoneinfo/Europe/Berlin
X-LIC-LOCATION:Europe/Berlin
X-PROLEPTIC-TZNAME:LMT
BEGIN:STANDARD
TZNAME:CET
TZOFFSETFROM:+005328
TZOFFSETTO:+0100
DTSTART:18930401T000000
END:STANDARD
BEGIN:DAYLIGHT
TZNAME:CEST
TZOFFSETFROM:+0100
TZOFFSETTO:+0200
DTSTART:19160430T230000
RDATE:19400401T020000
RDATE:19430329T020000
RDATE:19460414T020000
RDATE:19470406T030000
RDATE:19480418T020000
RDATE:19490410T020000
RDATE:19800406T020000
END:DAYLIGHT
BEGIN:STANDARD
TZNAME:CET
TZOFFSETFROM:+0200
TZOFFSETTO:+0100
DTSTART:19161001T010000
RDATE:19421102T030000
RDATE:19431004T030000
RDATE:19441002T030000
RDATE:19451118T030000
RDATE:19461007T030000
END:STANDARD
BEGIN:DAYLIGHT
TZNAME:CEST
TZOFFSETFROM:+0100
TZOFFSETTO:+0200
DTSTART:19170416T020000
RRULE:FREQ=YEARLY;UNTIL=19180415T010000Z;BYMONTH=4;BYDAY=3MO
END:DAYLIGHT
BEGIN:STANDARD
TZNAME:CET
TZOFFSETFROM:+0200
TZOFFSETTO:+0100
DTSTART:19170917T030000
RRULE:FREQ=YEARLY;UNTIL=19180916T010000Z;BYMONTH=9;BYDAY=3MO
END:STANDARD
BEGIN:DAYLIGHT
TZNAME:CEST
TZOFFSETFROM:+0100
TZOFFSETTO:+0200
DTSTART:19440403T020000
RRULE:FREQ=YEARLY;UNTIL=19450402T010000Z;BYMONTH=4;BYDAY=1MO
END:DAYLIGHT
BEGIN:DAYLIGHT
TZNAME:CEMT
TZOFFSETFROM:+0200
TZOFFSETTO:+0300
DTSTART:19450524T020000
RDATE:19470511T030000
END:DAYLIGHT
BEGIN:DAYLIGHT
TZNAME:CEST
TZOFFSETFROM:+0300
TZOFFSETTO:+0200
DTSTART:19450924T030000
RDATE:19470629T030000
END:DAYLIGHT
BEGIN:STANDARD
TZNAME:CET
TZOFFSETFROM:+0100
TZOFFSETTO:+0100
DTSTART:19460101T000000
RDATE:19800101T000000
END:STANDARD
BEGIN:STANDARD
TZNAME:CET
TZOFFSETFROM:+0200
TZOFFSETTO:+0100
DTSTART:19471005T030000
RRULE:FREQ=YEARLY;UNTIL=19491002T010000Z;BYMONTH=10;BYDAY=1SU
END:STANDARD
BEGIN:STANDARD
TZNAME:CET
TZOFFSETFROM:+0200
TZOFFSETTO:+0100
DTSTART:19800928T030000
RRULE:FREQ=YEARLY;UNTIL=19950924T010000Z;BYMONTH=9;BYDAY=-1SU
END:STANDARD
BEGIN:DAYLIGHT
TZNAME:CEST
TZOFFSETFROM:+0100
TZOFFSETTO:+0200
DTSTART:19810329T020000
RRULE:FREQ=YEARLY;BYMONTH=3;BYDAY=-1SU
END:DAYLIGHT
BEGIN:STANDARD
TZNAME:CET
TZOFFSETFROM:+0200
TZOFFSETTO:+0100
DTSTART:19961027T030000
RRULE:FREQ=YEARLY;BYMONTH=10;BYDAY=-1SU
END:STANDARD
END:VTIMEZONE
BEGIN:VEVENT
DTSTAMP:20260424T220634Z
DTSTART;TZID=Europe/Berlin:20250614T101500
DTEND;TZID=Europe/Berlin:20250614T131500
SUMMARY:1/4-Final Sierre vs Rapperswil-Jona (0)
UID:6e665e27-46a6-4485-bfcf-5d79d5b82d15
STATUS:CONFIRMED
LAST-MODIFIED:20250617T134120Z
DESCRIPTION:1/4-Final\nBegegnungs-Nr: 0\nHeim: Sierre\nGast: Rapperswil-Jona\n
LOCATION:
CATEGORIES:Saison Cup 2024/25
END:VEVENT
BEGIN:VEVENT
DTSTAMP:20260424T220634Z
DTSTART;TZID=Europe/Berlin:20250308T140000
DTEND;TZID=Europe/Berlin:20250308T170000
SUMMARY:3. HR Z 1 Frick vs Sierre (117)
UID:122ee1f5-ca38-42a8-925f-26976f47a8bf
STATUS:CONFIRMED
LAST-MODIFIED:20250310T070824Z
DESCRIPTION:3. Hauptrunde Zone 1\nBegegnungs-Nr: 117\nHeim: Frick\nGast: Sierre\n
LOCATION:
CATEGORIES:Saison Cup 2024/25
END:VEVENT
BEGIN:VEVENT
DTSTAMP:20260424T220634Z
DTSTART;TZID=Europe/Berlin:20241108T193000
DTEND;TZID=Europe/Berlin:20241108T223000
SUMMARY:1. HR Z 1 Montriond-Ouchy  vs Sierre (49)
UID:b060271b-dca7-4d34-945c-8349e4511d0e
STATUS:CONFIRMED
LAST-MODIFIED:20241114T072301Z
DESCRIPTION:1. Hauptrunde Zone 1\nBegegnungs-Nr: 49\nHeim: Montriond-Ouchy \nGast: Sierre\n
LOCATION:
CATEGORIES:Saison Cup 2024/25
END:VEVENT
BEGIN:VEVENT
DTSTAMP:20260424T220634Z
DTSTART;TZID=Europe/Berlin:20250524T170000
DTEND;TZID=Europe/Berlin:20250524T200000
SUMMARY:1/8-Final Basel vs Sierre (134)
UID:f63181af-08c5-4bc2-8362-96c39dcdfb79
STATUS:CONFIRMED
LAST-MODIFIED:20250603T082646Z
DESCRIPTION:1/8-Final\nBegegnungs-Nr: 134\nHeim: Basel\nGast: Sierre\n
LOCATION:
CATEGORIES:Saison Cup 2024/25
END:VEVENT
BEGIN:VEVENT
DTSTAMP:20260424T220634Z
DTSTART;TZID=Europe/Berlin:20241203T201500
DTEND;TZID=Europe/Berlin:20241203T231500
SUMMARY:2. HR Z 1 Thun vs Sierre (90)
UID:9b7075bb-f592-4fe3-8f5c-3b8b1cce6e0f
STATUS:CONFIRMED
LAST-MODIFIED:20241206T072842Z
DESCRIPTION:2. Hauptrunde Zone 1\nBegegnungs-Nr: 90\nHeim: Thun\nGast: Sierre\n
LOCATION:
CATEGORIES:Saison Cup 2024/25
END:VEVENT
END:VCALENDAR
