BEGIN:VCALENDAR
PRODID:-//nuDatenautomaten//framework iCal4j //DE
VERSION:2.0
CALSCALE:GREGORIAN
BEGIN:VTIMEZONE
TZID:Europe/Berlin
LAST-MODIFIED:20260306T231828Z
TZURL:https://www.tzurl.org/zoneinfo/Europe/Berlin
X-LIC-LOCATION:Europe/Berlin
X-PROLEPTIC-TZNAME:LMT
BEGIN:STANDARD
TZNAME:CET
TZOFFSETFROM:+005328
TZOFFSETTO:+0100
DTSTART:18930401T000000
END:STANDARD
BEGIN:DAYLIGHT
TZNAME:CEST
TZOFFSETFROM:+0100
TZOFFSETTO:+0200
DTSTART:19160430T230000
RDATE:19400401T020000
RDATE:19430329T020000
RDATE:19460414T020000
RDATE:19470406T030000
RDATE:19480418T020000
RDATE:19490410T020000
RDATE:19800406T020000
END:DAYLIGHT
BEGIN:STANDARD
TZNAME:CET
TZOFFSETFROM:+0200
TZOFFSETTO:+0100
DTSTART:19161001T010000
RDATE:19421102T030000
RDATE:19431004T030000
RDATE:19441002T030000
RDATE:19451118T030000
RDATE:19461007T030000
END:STANDARD
BEGIN:DAYLIGHT
TZNAME:CEST
TZOFFSETFROM:+0100
TZOFFSETTO:+0200
DTSTART:19170416T020000
RRULE:FREQ=YEARLY;UNTIL=19180415T010000Z;BYMONTH=4;BYDAY=3MO
END:DAYLIGHT
BEGIN:STANDARD
TZNAME:CET
TZOFFSETFROM:+0200
TZOFFSETTO:+0100
DTSTART:19170917T030000
RRULE:FREQ=YEARLY;UNTIL=19180916T010000Z;BYMONTH=9;BYDAY=3MO
END:STANDARD
BEGIN:DAYLIGHT
TZNAME:CEST
TZOFFSETFROM:+0100
TZOFFSETTO:+0200
DTSTART:19440403T020000
RRULE:FREQ=YEARLY;UNTIL=19450402T010000Z;BYMONTH=4;BYDAY=1MO
END:DAYLIGHT
BEGIN:DAYLIGHT
TZNAME:CEMT
TZOFFSETFROM:+0200
TZOFFSETTO:+0300
DTSTART:19450524T020000
RDATE:19470511T030000
END:DAYLIGHT
BEGIN:DAYLIGHT
TZNAME:CEST
TZOFFSETFROM:+0300
TZOFFSETTO:+0200
DTSTART:19450924T030000
RDATE:19470629T030000
END:DAYLIGHT
BEGIN:STANDARD
TZNAME:CET
TZOFFSETFROM:+0100
TZOFFSETTO:+0100
DTSTART:19460101T000000
RDATE:19800101T000000
END:STANDARD
BEGIN:STANDARD
TZNAME:CET
TZOFFSETFROM:+0200
TZOFFSETTO:+0100
DTSTART:19471005T030000
RRULE:FREQ=YEARLY;UNTIL=19491002T010000Z;BYMONTH=10;BYDAY=1SU
END:STANDARD
BEGIN:STANDARD
TZNAME:CET
TZOFFSETFROM:+0200
TZOFFSETTO:+0100
DTSTART:19800928T030000
RRULE:FREQ=YEARLY;UNTIL=19950924T010000Z;BYMONTH=9;BYDAY=-1SU
END:STANDARD
BEGIN:DAYLIGHT
TZNAME:CEST
TZOFFSETFROM:+0100
TZOFFSETTO:+0200
DTSTART:19810329T020000
RRULE:FREQ=YEARLY;BYMONTH=3;BYDAY=-1SU
END:DAYLIGHT
BEGIN:STANDARD
TZNAME:CET
TZOFFSETFROM:+0200
TZOFFSETTO:+0100
DTSTART:19961027T030000
RRULE:FREQ=YEARLY;BYMONTH=10;BYDAY=-1SU
END:STANDARD
END:VTIMEZONE
BEGIN:VEVENT
DTSTAMP:20260424T220632Z
DTSTART;TZID=Europe/Berlin:20241209T200000
DTEND;TZID=Europe/Berlin:20241209T230000
SUMMARY:2. HR Z 4 Frauenfeld vs Romanshorn (111)
UID:3a613cb7-b55f-4245-bd7b-8f7badec44cb
STATUS:CONFIRMED
LAST-MODIFIED:20241211T063224Z
DESCRIPTION:2. Hauptrunde Zone 4\nBegegnungs-Nr: 111\nHeim: Frauenfeld\nGast: Romanshorn\n
LOCATION:
CATEGORIES:Saison Cup 2024/25
END:VEVENT
BEGIN:VEVENT
DTSTAMP:20260424T220632Z
DTSTART;TZID=Europe/Berlin:20240826T200000
DTEND;TZID=Europe/Berlin:20240826T230000
SUMMARY:2. VR Z 8 Frauenfeld vs Wallenwil (45)
UID:cc147025-7bf2-47f7-b123-e8a21274046f
STATUS:CONFIRMED
LAST-MODIFIED:20240828T082529Z
DESCRIPTION:2. Vorrunde Zone 8\nBegegnungs-Nr: 45\nHeim: Frauenfeld\nGast: Wallenwil\n
LOCATION:
CATEGORIES:Saison Cup 2024/25
END:VEVENT
BEGIN:VEVENT
DTSTAMP:20260424T220632Z
DTSTART;TZID=Europe/Berlin:20241014T200000
DTEND;TZID=Europe/Berlin:20241014T230000
SUMMARY:1. HR Z 4 Balzers vs Frauenfeld (81)
UID:f091d447-cec7-402a-afe6-b81f9f17ebf7
STATUS:CONFIRMED
LAST-MODIFIED:20241021T125123Z
DESCRIPTION:1. Hauptrunde Zone 4\nBegegnungs-Nr: 81\nHeim: Balzers\nGast: Frauenfeld\n
LOCATION:
CATEGORIES:Saison Cup 2024/25
END:VEVENT
END:VCALENDAR
