BEGIN:VCALENDAR
PRODID:-//nuDatenautomaten//framework iCal4j //DE
VERSION:2.0
CALSCALE:GREGORIAN
BEGIN:VTIMEZONE
TZID:Europe/Berlin
LAST-MODIFIED:20260306T231828Z
TZURL:https://www.tzurl.org/zoneinfo/Europe/Berlin
X-LIC-LOCATION:Europe/Berlin
X-PROLEPTIC-TZNAME:LMT
BEGIN:STANDARD
TZNAME:CET
TZOFFSETFROM:+005328
TZOFFSETTO:+0100
DTSTART:18930401T000000
END:STANDARD
BEGIN:DAYLIGHT
TZNAME:CEST
TZOFFSETFROM:+0100
TZOFFSETTO:+0200
DTSTART:19160430T230000
RDATE:19400401T020000
RDATE:19430329T020000
RDATE:19460414T020000
RDATE:19470406T030000
RDATE:19480418T020000
RDATE:19490410T020000
RDATE:19800406T020000
END:DAYLIGHT
BEGIN:STANDARD
TZNAME:CET
TZOFFSETFROM:+0200
TZOFFSETTO:+0100
DTSTART:19161001T010000
RDATE:19421102T030000
RDATE:19431004T030000
RDATE:19441002T030000
RDATE:19451118T030000
RDATE:19461007T030000
END:STANDARD
BEGIN:DAYLIGHT
TZNAME:CEST
TZOFFSETFROM:+0100
TZOFFSETTO:+0200
DTSTART:19170416T020000
RRULE:FREQ=YEARLY;UNTIL=19180415T010000Z;BYMONTH=4;BYDAY=3MO
END:DAYLIGHT
BEGIN:STANDARD
TZNAME:CET
TZOFFSETFROM:+0200
TZOFFSETTO:+0100
DTSTART:19170917T030000
RRULE:FREQ=YEARLY;UNTIL=19180916T010000Z;BYMONTH=9;BYDAY=3MO
END:STANDARD
BEGIN:DAYLIGHT
TZNAME:CEST
TZOFFSETFROM:+0100
TZOFFSETTO:+0200
DTSTART:19440403T020000
RRULE:FREQ=YEARLY;UNTIL=19450402T010000Z;BYMONTH=4;BYDAY=1MO
END:DAYLIGHT
BEGIN:DAYLIGHT
TZNAME:CEMT
TZOFFSETFROM:+0200
TZOFFSETTO:+0300
DTSTART:19450524T020000
RDATE:19470511T030000
END:DAYLIGHT
BEGIN:DAYLIGHT
TZNAME:CEST
TZOFFSETFROM:+0300
TZOFFSETTO:+0200
DTSTART:19450924T030000
RDATE:19470629T030000
END:DAYLIGHT
BEGIN:STANDARD
TZNAME:CET
TZOFFSETFROM:+0100
TZOFFSETTO:+0100
DTSTART:19460101T000000
RDATE:19800101T000000
END:STANDARD
BEGIN:STANDARD
TZNAME:CET
TZOFFSETFROM:+0200
TZOFFSETTO:+0100
DTSTART:19471005T030000
RRULE:FREQ=YEARLY;UNTIL=19491002T010000Z;BYMONTH=10;BYDAY=1SU
END:STANDARD
BEGIN:STANDARD
TZNAME:CET
TZOFFSETFROM:+0200
TZOFFSETTO:+0100
DTSTART:19800928T030000
RRULE:FREQ=YEARLY;UNTIL=19950924T010000Z;BYMONTH=9;BYDAY=-1SU
END:STANDARD
BEGIN:DAYLIGHT
TZNAME:CEST
TZOFFSETFROM:+0100
TZOFFSETTO:+0200
DTSTART:19810329T020000
RRULE:FREQ=YEARLY;BYMONTH=3;BYDAY=-1SU
END:DAYLIGHT
BEGIN:STANDARD
TZNAME:CET
TZOFFSETFROM:+0200
TZOFFSETTO:+0100
DTSTART:19961027T030000
RRULE:FREQ=YEARLY;BYMONTH=10;BYDAY=-1SU
END:STANDARD
END:VTIMEZONE
BEGIN:VEVENT
DTSTAMP:20260425T005052Z
DTSTART;TZID=Europe/Berlin:20240912T200000
DTEND;TZID=Europe/Berlin:20240912T230000
SUMMARY:O50 1.Liga Gr.1 Embrachertal vs Affoltern A/A (2)
UID:38b076bc-1b39-4ad0-aef9-defee1005d87
STATUS:CONFIRMED
LAST-MODIFIED:20240913T134227Z
DESCRIPTION:1. Liga O50 Gruppe 1\nBegegnungs-Nr: 2\nHeim: Embrachertal\nGast: Affoltern A/A\n\nAdresse: Schützenhausstrasse 20\, 8424 Embrach\n
LOCATION:Schützenhausstrasse 20\, 8424 Embrach
CATEGORIES:Saison 2024/25
END:VEVENT
BEGIN:VEVENT
DTSTAMP:20260425T005052Z
DTSTART;TZID=Europe/Berlin:20250125T160000
DTEND;TZID=Europe/Berlin:20250125T190000
SUMMARY:O50 1.Liga Gr.1 Embrachertal vs Buchs Zürich (15)
UID:3f5ef698-3fa6-4e66-9b43-83b53798088a
STATUS:CONFIRMED
LAST-MODIFIED:20250129T133703Z
DESCRIPTION:1. Liga O50 Gruppe 1\nBegegnungs-Nr: 15\nHeim: Embrachertal\nGast: Buchs Zürich\n
LOCATION:
CATEGORIES:Saison 2024/25
END:VEVENT
BEGIN:VEVENT
DTSTAMP:20260425T005052Z
DTSTART;TZID=Europe/Berlin:20250329T140000
DTEND;TZID=Europe/Berlin:20250329T170000
SUMMARY:O50 1.Liga Gr.1 Embrachertal vs Zürich-Affoltern (16)
UID:037c1601-c669-4735-8809-526973701caa
STATUS:CONFIRMED
LAST-MODIFIED:20250404T084240Z
DESCRIPTION:1. Liga O50 Gruppe 1\nBegegnungs-Nr: 16\nHeim: Embrachertal\nGast: Zürich-Affoltern\n
LOCATION:
CATEGORIES:Saison 2024/25
END:VEVENT
BEGIN:VEVENT
DTSTAMP:20260425T005052Z
DTSTART;TZID=Europe/Berlin:20241003T200000
DTEND;TZID=Europe/Berlin:20241003T230000
SUMMARY:O50 1.Liga Gr.1 Wädenswil vs Embrachertal (5)
UID:d9bc5d9c-8803-481f-a3ea-4f41e286befd
STATUS:CONFIRMED
LAST-MODIFIED:20241010T110034Z
DESCRIPTION:1. Liga O50 Gruppe 1\nBegegnungs-Nr: 5\nHeim: Wädenswil\nGast: Embrachertal\n\nAdresse: Fuhrstrasse 16b\, 8820 Wädenswil\n
LOCATION:Fuhrstrasse 16b\, 8820 Wädenswil
CATEGORIES:Saison 2024/25
END:VEVENT
BEGIN:VEVENT
DTSTAMP:20260425T005052Z
DTSTART;TZID=Europe/Berlin:20250125T140000
DTEND;TZID=Europe/Berlin:20250125T170000
SUMMARY:O50 1.Liga Gr.1 Pinguin Zürich vs Embrachertal (13)
UID:4ba5384e-401d-43df-ae4e-7befe72eb32f
STATUS:CONFIRMED
LAST-MODIFIED:20250129T133331Z
DESCRIPTION:1. Liga O50 Gruppe 1\nBegegnungs-Nr: 13\nHeim: Pinguin Zürich\nGast: Embrachertal\n
LOCATION:
CATEGORIES:Saison 2024/25
END:VEVENT
BEGIN:VEVENT
DTSTAMP:20260425T005052Z
DTSTART;TZID=Europe/Berlin:20250329T160000
DTEND;TZID=Europe/Berlin:20250329T190000
SUMMARY:O50 1.Liga Gr.1 Neuhausen vs Embrachertal (20)
UID:2eb5c7f1-e104-421a-8744-ef5059045db8
STATUS:CONFIRMED
LAST-MODIFIED:20250404T084329Z
DESCRIPTION:1. Liga O50 Gruppe 1\nBegegnungs-Nr: 20\nHeim: Neuhausen\nGast: Embrachertal\n
LOCATION:
CATEGORIES:Saison 2024/25
END:VEVENT
END:VCALENDAR
