BEGIN:VCALENDAR
PRODID:-//nuDatenautomaten//framework iCal4j //DE
VERSION:2.0
CALSCALE:GREGORIAN
BEGIN:VTIMEZONE
TZID:Europe/Berlin
LAST-MODIFIED:20260306T231828Z
TZURL:https://www.tzurl.org/zoneinfo/Europe/Berlin
X-LIC-LOCATION:Europe/Berlin
X-PROLEPTIC-TZNAME:LMT
BEGIN:STANDARD
TZNAME:CET
TZOFFSETFROM:+005328
TZOFFSETTO:+0100
DTSTART:18930401T000000
END:STANDARD
BEGIN:DAYLIGHT
TZNAME:CEST
TZOFFSETFROM:+0100
TZOFFSETTO:+0200
DTSTART:19160430T230000
RDATE:19400401T020000
RDATE:19430329T020000
RDATE:19460414T020000
RDATE:19470406T030000
RDATE:19480418T020000
RDATE:19490410T020000
RDATE:19800406T020000
END:DAYLIGHT
BEGIN:STANDARD
TZNAME:CET
TZOFFSETFROM:+0200
TZOFFSETTO:+0100
DTSTART:19161001T010000
RDATE:19421102T030000
RDATE:19431004T030000
RDATE:19441002T030000
RDATE:19451118T030000
RDATE:19461007T030000
END:STANDARD
BEGIN:DAYLIGHT
TZNAME:CEST
TZOFFSETFROM:+0100
TZOFFSETTO:+0200
DTSTART:19170416T020000
RRULE:FREQ=YEARLY;UNTIL=19180415T010000Z;BYMONTH=4;BYDAY=3MO
END:DAYLIGHT
BEGIN:STANDARD
TZNAME:CET
TZOFFSETFROM:+0200
TZOFFSETTO:+0100
DTSTART:19170917T030000
RRULE:FREQ=YEARLY;UNTIL=19180916T010000Z;BYMONTH=9;BYDAY=3MO
END:STANDARD
BEGIN:DAYLIGHT
TZNAME:CEST
TZOFFSETFROM:+0100
TZOFFSETTO:+0200
DTSTART:19440403T020000
RRULE:FREQ=YEARLY;UNTIL=19450402T010000Z;BYMONTH=4;BYDAY=1MO
END:DAYLIGHT
BEGIN:DAYLIGHT
TZNAME:CEMT
TZOFFSETFROM:+0200
TZOFFSETTO:+0300
DTSTART:19450524T020000
RDATE:19470511T030000
END:DAYLIGHT
BEGIN:DAYLIGHT
TZNAME:CEST
TZOFFSETFROM:+0300
TZOFFSETTO:+0200
DTSTART:19450924T030000
RDATE:19470629T030000
END:DAYLIGHT
BEGIN:STANDARD
TZNAME:CET
TZOFFSETFROM:+0100
TZOFFSETTO:+0100
DTSTART:19460101T000000
RDATE:19800101T000000
END:STANDARD
BEGIN:STANDARD
TZNAME:CET
TZOFFSETFROM:+0200
TZOFFSETTO:+0100
DTSTART:19471005T030000
RRULE:FREQ=YEARLY;UNTIL=19491002T010000Z;BYMONTH=10;BYDAY=1SU
END:STANDARD
BEGIN:STANDARD
TZNAME:CET
TZOFFSETFROM:+0200
TZOFFSETTO:+0100
DTSTART:19800928T030000
RRULE:FREQ=YEARLY;UNTIL=19950924T010000Z;BYMONTH=9;BYDAY=-1SU
END:STANDARD
BEGIN:DAYLIGHT
TZNAME:CEST
TZOFFSETFROM:+0100
TZOFFSETTO:+0200
DTSTART:19810329T020000
RRULE:FREQ=YEARLY;BYMONTH=3;BYDAY=-1SU
END:DAYLIGHT
BEGIN:STANDARD
TZNAME:CET
TZOFFSETFROM:+0200
TZOFFSETTO:+0100
DTSTART:19961027T030000
RRULE:FREQ=YEARLY;BYMONTH=10;BYDAY=-1SU
END:STANDARD
END:VTIMEZONE
BEGIN:VEVENT
DTSTAMP:20260419T220111Z
DTSTART;TZID=Europe/Berlin:20250118T140000
DTEND;TZID=Europe/Berlin:20250118T170000
SUMMARY:O40 Tramelan II vs Delémont (0)
UID:7b415cf2-6640-4672-8e98-65d8ff3d4cd9
STATUS:CONFIRMED
LAST-MODIFIED:20250123T063043Z
DESCRIPTION:Seniors O40\nBegegnungs-Nr: 0\nHeim: Tramelan II\nGast: Delémont\n\nAdresse: Rue du Collège 13\, 2720 Tramelan\n
LOCATION:Rue du Collège 13\, 2720 Tramelan
CATEGORIES:Saison 2024/25
END:VEVENT
BEGIN:VEVENT
DTSTAMP:20260419T220111Z
DTSTART;TZID=Europe/Berlin:20250322T130000
DTEND;TZID=Europe/Berlin:20250322T160000
SUMMARY:O40 Tramelan II vs Le Locle (0)
UID:766f45e0-e0f8-41c2-a048-4dc43ad292a1
STATUS:CONFIRMED
LAST-MODIFIED:20250312T145216Z
DESCRIPTION:Seniors O40\nBegegnungs-Nr: 0\nHeim: Tramelan II\nGast: Le Locle\n\nAdresse: Rue du Collège 13\, 2720 Tramelan\n
LOCATION:Rue du Collège 13\, 2720 Tramelan
CATEGORIES:Saison 2024/25
END:VEVENT
BEGIN:VEVENT
DTSTAMP:20260419T220111Z
DTSTART;TZID=Europe/Berlin:20250118T123000
DTEND;TZID=Europe/Berlin:20250118T153000
SUMMARY:O40 Porrentruy vs Tramelan II (0)
UID:b1b019d6-8b5d-4efb-8b95-1203c39676ac
STATUS:CONFIRMED
LAST-MODIFIED:20250123T062741Z
DESCRIPTION:Seniors O40\nBegegnungs-Nr: 0\nHeim: Porrentruy\nGast: Tramelan II\n\nAdresse: Rue du Banné 14\, 2900 Porrentruy\n
LOCATION:Rue du Banné 14\, 2900 Porrentruy
CATEGORIES:Saison 2024/25
END:VEVENT
BEGIN:VEVENT
DTSTAMP:20260419T220111Z
DTSTART;TZID=Europe/Berlin:20250308T170000
DTEND;TZID=Europe/Berlin:20250308T200000
SUMMARY:O40 La Chaux-de-Fonds vs Tramelan II (0)
UID:6c1730d8-3c9a-444e-ab79-37adafcce33f
STATUS:CONFIRMED
LAST-MODIFIED:20250308T111531Z
DESCRIPTION:Seniors O40\nBegegnungs-Nr: 0\nHeim: La Chaux-de-Fonds\nGast: Tramelan II\n\nAdresse: Rue du Docteur-Kern 14\, 2300 La Chaux-de-Fonds\n
LOCATION:Rue du Docteur-Kern 14\, 2300 La Chaux-de-Fonds
CATEGORIES:Saison 2024/25
END:VEVENT
BEGIN:VEVENT
DTSTAMP:20260419T220111Z
DTSTART;TZID=Europe/Berlin:20250322T163000
DTEND;TZID=Europe/Berlin:20250322T193000
SUMMARY:O40 Val-de-Ruz vs Tramelan II (0)
UID:2d15de16-91a5-42ec-9583-64dd14537bc4
STATUS:CONFIRMED
LAST-MODIFIED:20250325T055202Z
DESCRIPTION:Seniors O40\nBegegnungs-Nr: 0\nHeim: Val-de-Ruz\nGast: Tramelan II\n\nAdresse: Rue de Chasseral 3\, 2053 Cernier\n
LOCATION:Rue de Chasseral 3\, 2053 Cernier
CATEGORIES:Saison 2024/25
END:VEVENT
BEGIN:VEVENT
DTSTAMP:20260419T220111Z
DTSTART;TZID=Europe/Berlin:20250308T150000
DTEND;TZID=Europe/Berlin:20250308T180000
SUMMARY:O40 Entente Pongiste Neuchâteloise vs Tramelan II (0)
UID:850d3db7-352c-4785-bb6d-23148504e333
STATUS:CONFIRMED
LAST-MODIFIED:20250308T105908Z
DESCRIPTION:Seniors O40\nBegegnungs-Nr: 0\nHeim: Entente Pongiste Neuchâteloise\nGast: Tramelan II\n\nAdresse: Allée du 700e\, 2525 Le Landeron\n
LOCATION:Allée du 700e\, 2525 Le Landeron
CATEGORIES:Saison 2024/25
END:VEVENT
BEGIN:VEVENT
DTSTAMP:20260419T220111Z
DTSTART;TZID=Europe/Berlin:20250118T160000
DTEND;TZID=Europe/Berlin:20250118T190000
SUMMARY:O40 Entente Pongiste Neuchâteloise II vs Tramelan II (0)
UID:7d706ab0-8406-435c-b26d-4a94a81747ce
STATUS:CONFIRMED
LAST-MODIFIED:20250123T063201Z
DESCRIPTION:Seniors O40\nBegegnungs-Nr: 0\nHeim: Entente Pongiste Neuchâteloise II\nGast: Tramelan II\n\nAdresse: Allée du 700e\, 2525 Le Landeron\n
LOCATION:Allée du 700e\, 2525 Le Landeron
CATEGORIES:Saison 2024/25
END:VEVENT
BEGIN:VEVENT
DTSTAMP:20260419T220111Z
DTSTART;TZID=Europe/Berlin:20241025T193000
DTEND;TZID=Europe/Berlin:20241025T223000
SUMMARY:O40 Tramelan vs Tramelan II (0)
UID:cde959f1-9b31-4e2b-8e55-742c047c6646
STATUS:CONFIRMED
DESCRIPTION:Seniors O40\nBegegnungs-Nr: 0\nHeim: Tramelan\nGast: Tramelan II\n\nAdresse: Rue du Collège 13\, 2720 Tramelan\n
LOCATION:Rue du Collège 13\, 2720 Tramelan
CATEGORIES:Saison 2024/25
END:VEVENT
END:VCALENDAR
