BEGIN:VCALENDAR
PRODID:-//nuDatenautomaten//framework iCal4j //DE
VERSION:2.0
CALSCALE:GREGORIAN
BEGIN:VTIMEZONE
TZID:Europe/Berlin
LAST-MODIFIED:20260306T231828Z
TZURL:https://www.tzurl.org/zoneinfo/Europe/Berlin
X-LIC-LOCATION:Europe/Berlin
X-PROLEPTIC-TZNAME:LMT
BEGIN:STANDARD
TZNAME:CET
TZOFFSETFROM:+005328
TZOFFSETTO:+0100
DTSTART:18930401T000000
END:STANDARD
BEGIN:DAYLIGHT
TZNAME:CEST
TZOFFSETFROM:+0100
TZOFFSETTO:+0200
DTSTART:19160430T230000
RDATE:19400401T020000
RDATE:19430329T020000
RDATE:19460414T020000
RDATE:19470406T030000
RDATE:19480418T020000
RDATE:19490410T020000
RDATE:19800406T020000
END:DAYLIGHT
BEGIN:STANDARD
TZNAME:CET
TZOFFSETFROM:+0200
TZOFFSETTO:+0100
DTSTART:19161001T010000
RDATE:19421102T030000
RDATE:19431004T030000
RDATE:19441002T030000
RDATE:19451118T030000
RDATE:19461007T030000
END:STANDARD
BEGIN:DAYLIGHT
TZNAME:CEST
TZOFFSETFROM:+0100
TZOFFSETTO:+0200
DTSTART:19170416T020000
RRULE:FREQ=YEARLY;UNTIL=19180415T010000Z;BYMONTH=4;BYDAY=3MO
END:DAYLIGHT
BEGIN:STANDARD
TZNAME:CET
TZOFFSETFROM:+0200
TZOFFSETTO:+0100
DTSTART:19170917T030000
RRULE:FREQ=YEARLY;UNTIL=19180916T010000Z;BYMONTH=9;BYDAY=3MO
END:STANDARD
BEGIN:DAYLIGHT
TZNAME:CEST
TZOFFSETFROM:+0100
TZOFFSETTO:+0200
DTSTART:19440403T020000
RRULE:FREQ=YEARLY;UNTIL=19450402T010000Z;BYMONTH=4;BYDAY=1MO
END:DAYLIGHT
BEGIN:DAYLIGHT
TZNAME:CEMT
TZOFFSETFROM:+0200
TZOFFSETTO:+0300
DTSTART:19450524T020000
RDATE:19470511T030000
END:DAYLIGHT
BEGIN:DAYLIGHT
TZNAME:CEST
TZOFFSETFROM:+0300
TZOFFSETTO:+0200
DTSTART:19450924T030000
RDATE:19470629T030000
END:DAYLIGHT
BEGIN:STANDARD
TZNAME:CET
TZOFFSETFROM:+0100
TZOFFSETTO:+0100
DTSTART:19460101T000000
RDATE:19800101T000000
END:STANDARD
BEGIN:STANDARD
TZNAME:CET
TZOFFSETFROM:+0200
TZOFFSETTO:+0100
DTSTART:19471005T030000
RRULE:FREQ=YEARLY;UNTIL=19491002T010000Z;BYMONTH=10;BYDAY=1SU
END:STANDARD
BEGIN:STANDARD
TZNAME:CET
TZOFFSETFROM:+0200
TZOFFSETTO:+0100
DTSTART:19800928T030000
RRULE:FREQ=YEARLY;UNTIL=19950924T010000Z;BYMONTH=9;BYDAY=-1SU
END:STANDARD
BEGIN:DAYLIGHT
TZNAME:CEST
TZOFFSETFROM:+0100
TZOFFSETTO:+0200
DTSTART:19810329T020000
RRULE:FREQ=YEARLY;BYMONTH=3;BYDAY=-1SU
END:DAYLIGHT
BEGIN:STANDARD
TZNAME:CET
TZOFFSETFROM:+0200
TZOFFSETTO:+0100
DTSTART:19961027T030000
RRULE:FREQ=YEARLY;BYMONTH=10;BYDAY=-1SU
END:STANDARD
END:VTIMEZONE
BEGIN:VEVENT
DTSTAMP:20260425T004238Z
DTSTART;TZID=Europe/Berlin:20240917T194500
DTEND;TZID=Europe/Berlin:20240917T224500
SUMMARY:Ligue 5 Gr.3 Ph.A Collex-Bossy II vs Onex IV (5)
UID:5ee0b32d-30e8-4d7b-a0c2-af08b0aeed39
STATUS:CONFIRMED
LAST-MODIFIED:20240918T065937Z
DESCRIPTION:5ème ligue Hommes Gr.3 Phase A\nBegegnungs-Nr: 5\nHeim: Collex-Bossy II\nGast: Onex IV\n
LOCATION:
CATEGORIES:Saison 2024/25
END:VEVENT
BEGIN:VEVENT
DTSTAMP:20260425T004238Z
DTSTART;TZID=Europe/Berlin:20241008T194500
DTEND;TZID=Europe/Berlin:20241008T224500
SUMMARY:Ligue 5 Gr.3 Ph.A Collex-Bossy II vs Meyrin VI (11)
UID:c644c25c-646d-40b3-ac3b-cdbdecb18795
STATUS:CONFIRMED
LAST-MODIFIED:20241009T190451Z
DESCRIPTION:5ème ligue Hommes Gr.3 Phase A\nBegegnungs-Nr: 11\nHeim: Collex-Bossy II\nGast: Meyrin VI\n
LOCATION:
CATEGORIES:Saison 2024/25
END:VEVENT
BEGIN:VEVENT
DTSTAMP:20260425T004238Z
DTSTART;TZID=Europe/Berlin:20241029T194500
DTEND;TZID=Europe/Berlin:20241029T224500
SUMMARY:Ligue 5 Gr.3 Ph.A Collex-Bossy II vs Châtelaine IX (16)
UID:7bc26a08-714b-420c-901c-e00e83d3c9bd
STATUS:CONFIRMED
LAST-MODIFIED:20241030T112509Z
DESCRIPTION:5ème ligue Hommes Gr.3 Phase A\nBegegnungs-Nr: 16\nHeim: Collex-Bossy II\nGast: Châtelaine IX\n
LOCATION:
CATEGORIES:Saison 2024/25
END:VEVENT
BEGIN:VEVENT
DTSTAMP:20260425T004238Z
DTSTART;TZID=Europe/Berlin:20241119T194500
DTEND;TZID=Europe/Berlin:20241119T224500
SUMMARY:Ligue 5 Gr.3 Ph.A Collex-Bossy II vs Silver Star IX (24)
UID:aeab5b18-65a9-46b0-9c0a-e9f419941350
STATUS:CONFIRMED
LAST-MODIFIED:20241120T182356Z
DESCRIPTION:5ème ligue Hommes Gr.3 Phase A\nBegegnungs-Nr: 24\nHeim: Collex-Bossy II\nGast: Silver Star IX\n
LOCATION:
CATEGORIES:Saison 2024/25
END:VEVENT
BEGIN:VEVENT
DTSTAMP:20260425T004238Z
DTSTART;TZID=Europe/Berlin:20241203T194500
DTEND;TZID=Europe/Berlin:20241203T224500
SUMMARY:Ligue 5 Gr.3 Ph.A Collex-Bossy II vs Grand-Saconnex V (29)
UID:5a7cb77a-8aea-4689-8aba-967ce892b5e4
STATUS:CONFIRMED
LAST-MODIFIED:20241204T153835Z
DESCRIPTION:5ème ligue Hommes Gr.3 Phase A\nBegegnungs-Nr: 29\nHeim: Collex-Bossy II\nGast: Grand-Saconnex V\n
LOCATION:
CATEGORIES:Saison 2024/25
END:VEVENT
BEGIN:VEVENT
DTSTAMP:20260425T004238Z
DTSTART;TZID=Europe/Berlin:20250113T194500
DTEND;TZID=Europe/Berlin:20250113T224500
SUMMARY:Ligue 5 Gr.2 Ph.B Collex-Bossy II vs Grand-Saconnex IV (3)
UID:bdcf488b-9d13-4825-86a6-434951c5dfbc
STATUS:CONFIRMED
LAST-MODIFIED:20250114T165958Z
DESCRIPTION:5ème ligue Hommes Gr.2 Phase B\nBegegnungs-Nr: 3\nHeim: Collex-Bossy II\nGast: Grand-Saconnex IV\n
LOCATION:
CATEGORIES:Saison 2024/25
END:VEVENT
BEGIN:VEVENT
DTSTAMP:20260425T004238Z
DTSTART;TZID=Europe/Berlin:20250401T194500
DTEND;TZID=Europe/Berlin:20250401T224500
SUMMARY:Ligue 5 Gr.2 Ph.B Collex-Bossy II vs Veyrier III (23)
UID:e7231f00-069f-4ce8-b33d-5a3140b25b88
STATUS:CONFIRMED
LAST-MODIFIED:20250402T122245Z
DESCRIPTION:5ème ligue Hommes Gr.2 Phase B\nBegegnungs-Nr: 23\nHeim: Collex-Bossy II\nGast: Veyrier III\n
LOCATION:
CATEGORIES:Saison 2024/25
END:VEVENT
BEGIN:VEVENT
DTSTAMP:20260425T004238Z
DTSTART;TZID=Europe/Berlin:20250317T194500
DTEND;TZID=Europe/Berlin:20250317T224500
SUMMARY:Ligue 5 Gr.2 Ph.B Collex-Bossy II vs Châtelaine IX (19)
UID:314be692-6b64-49a2-8199-568f32aa2039
STATUS:CONFIRMED
LAST-MODIFIED:20250318T201353Z
DESCRIPTION:5ème ligue Hommes Gr.2 Phase B\nBegegnungs-Nr: 19\nHeim: Collex-Bossy II\nGast: Châtelaine IX\n
LOCATION:
CATEGORIES:Saison 2024/25
END:VEVENT
BEGIN:VEVENT
DTSTAMP:20260425T004238Z
DTSTART;TZID=Europe/Berlin:20250217T194500
DTEND;TZID=Europe/Berlin:20250217T224500
SUMMARY:Ligue 5 Gr.2 Ph.B Collex-Bossy II vs Puplinge III (14)
UID:1992e3b8-e29a-42f3-abd1-65e6c5b6183e
STATUS:CONFIRMED
LAST-MODIFIED:20250219T162018Z
DESCRIPTION:5ème ligue Hommes Gr.2 Phase B\nBegegnungs-Nr: 14\nHeim: Collex-Bossy II\nGast: Puplinge III\n
LOCATION:
CATEGORIES:Saison 2024/25
END:VEVENT
BEGIN:VEVENT
DTSTAMP:20260425T004238Z
DTSTART;TZID=Europe/Berlin:20250210T194500
DTEND;TZID=Europe/Berlin:20250210T224500
SUMMARY:Ligue 5 Gr.2 Ph.B Collex-Bossy II vs Meyrin VI (10)
UID:f87a49df-bd6c-4dc1-84d5-59702ef5e0d2
STATUS:CONFIRMED
LAST-MODIFIED:20250211T171018Z
DESCRIPTION:5ème ligue Hommes Gr.2 Phase B\nBegegnungs-Nr: 10\nHeim: Collex-Bossy II\nGast: Meyrin VI\n
LOCATION:
CATEGORIES:Saison 2024/25
END:VEVENT
BEGIN:VEVENT
DTSTAMP:20260425T004238Z
DTSTART;TZID=Europe/Berlin:20240923T194500
DTEND;TZID=Europe/Berlin:20240923T224500
SUMMARY:Ligue 5 Gr.3 Ph.A Silver Star IX vs Collex-Bossy II (9)
UID:144b1ea5-a0aa-4dac-8268-322d38c8e5d2
STATUS:CONFIRMED
LAST-MODIFIED:20240924T073233Z
DESCRIPTION:5ème ligue Hommes Gr.3 Phase A\nBegegnungs-Nr: 9\nHeim: Silver Star IX\nGast: Collex-Bossy II\n
LOCATION:
CATEGORIES:Saison 2024/25
END:VEVENT
BEGIN:VEVENT
DTSTAMP:20260425T004238Z
DTSTART;TZID=Europe/Berlin:20241014T194500
DTEND;TZID=Europe/Berlin:20241014T224500
SUMMARY:Ligue 5 Gr.3 Ph.A Grand-Saconnex V vs Collex-Bossy II (14)
UID:96d41646-de02-4131-bff6-d2b29c321375
STATUS:CONFIRMED
LAST-MODIFIED:20241015T082949Z
DESCRIPTION:5ème ligue Hommes Gr.3 Phase A\nBegegnungs-Nr: 14\nHeim: Grand-Saconnex V\nGast: Collex-Bossy II\n
LOCATION:
CATEGORIES:Saison 2024/25
END:VEVENT
BEGIN:VEVENT
DTSTAMP:20260425T004238Z
DTSTART;TZID=Europe/Berlin:20240911T194500
DTEND;TZID=Europe/Berlin:20240911T224500
SUMMARY:Ligue 5 Gr.3 Ph.A Châtelaine IX vs Collex-Bossy II (1)
UID:b70c1930-159c-48d6-a444-01f340dc560e
STATUS:CONFIRMED
LAST-MODIFIED:20240912T101822Z
DESCRIPTION:5ème ligue Hommes Gr.3 Phase A\nBegegnungs-Nr: 1\nHeim: Châtelaine IX\nGast: Collex-Bossy II\n
LOCATION:
CATEGORIES:Saison 2024/25
END:VEVENT
BEGIN:VEVENT
DTSTAMP:20260425T004238Z
DTSTART;TZID=Europe/Berlin:20241114T200000
DTEND;TZID=Europe/Berlin:20241114T230000
SUMMARY:Ligue 5 Gr.3 Ph.A Onex IV vs Collex-Bossy II (20)
UID:8ca61d68-f19d-4f81-8561-a1a1e44df8c7
STATUS:CONFIRMED
LAST-MODIFIED:20241115T103204Z
DESCRIPTION:5ème ligue Hommes Gr.3 Phase A\nBegegnungs-Nr: 20\nHeim: Onex IV\nGast: Collex-Bossy II\n
LOCATION:
CATEGORIES:Saison 2024/25
END:VEVENT
BEGIN:VEVENT
DTSTAMP:20260425T004238Z
DTSTART;TZID=Europe/Berlin:20241127T194500
DTEND;TZID=Europe/Berlin:20241127T224500
SUMMARY:Ligue 5 Gr.3 Ph.A Meyrin VI vs Collex-Bossy II (26)
UID:8a5bf422-0f71-45d4-9a6b-c843dfae44ed
STATUS:CONFIRMED
LAST-MODIFIED:20241128T090255Z
DESCRIPTION:5ème ligue Hommes Gr.3 Phase A\nBegegnungs-Nr: 26\nHeim: Meyrin VI\nGast: Collex-Bossy II\n
LOCATION:
CATEGORIES:Saison 2024/25
END:VEVENT
BEGIN:VEVENT
DTSTAMP:20260425T004238Z
DTSTART;TZID=Europe/Berlin:20250122T194500
DTEND;TZID=Europe/Berlin:20250122T224500
SUMMARY:Ligue 5 Gr.2 Ph.B Châtelaine IX vs Collex-Bossy II (4)
UID:186ed9e1-4466-42b8-adb7-6a7adeb72344
STATUS:CONFIRMED
LAST-MODIFIED:20250123T081731Z
DESCRIPTION:5ème ligue Hommes Gr.2 Phase B\nBegegnungs-Nr: 4\nHeim: Châtelaine IX\nGast: Collex-Bossy II\n
LOCATION:
CATEGORIES:Saison 2024/25
END:VEVENT
BEGIN:VEVENT
DTSTAMP:20260425T004238Z
DTSTART;TZID=Europe/Berlin:20250414T194500
DTEND;TZID=Europe/Berlin:20250414T224500
SUMMARY:Ligue 5 Gr.2 Ph.B Puplinge III vs Collex-Bossy II (29)
UID:79c3b42b-64c7-4ea3-a454-7e36f4d4bcd8
STATUS:CONFIRMED
LAST-MODIFIED:20250415T165224Z
DESCRIPTION:5ème ligue Hommes Gr.2 Phase B\nBegegnungs-Nr: 29\nHeim: Puplinge III\nGast: Collex-Bossy II\n\nAdresse: Chemin de la Brenaz\,  15\, 1241 Puplinge\n
LOCATION:Chemin de la Brenaz\,  15\, 1241 Puplinge
CATEGORIES:Saison 2024/25
END:VEVENT
BEGIN:VEVENT
DTSTAMP:20260425T004238Z
DTSTART;TZID=Europe/Berlin:20250409T194500
DTEND;TZID=Europe/Berlin:20250409T224500
SUMMARY:Ligue 5 Gr.2 Ph.B Meyrin VI vs Collex-Bossy II (25)
UID:f08de8df-fb46-4fea-8e89-1733f7ef1487
STATUS:CONFIRMED
LAST-MODIFIED:20250410T142603Z
DESCRIPTION:5ème ligue Hommes Gr.2 Phase B\nBegegnungs-Nr: 25\nHeim: Meyrin VI\nGast: Collex-Bossy II\n
LOCATION:
CATEGORIES:Saison 2024/25
END:VEVENT
BEGIN:VEVENT
DTSTAMP:20260425T004238Z
DTSTART;TZID=Europe/Berlin:20250310T194500
DTEND;TZID=Europe/Berlin:20250310T224500
SUMMARY:Ligue 5 Gr.2 Ph.B Grand-Saconnex IV vs Collex-Bossy II (18)
UID:2c27aa3a-833b-46b2-b6c6-0c09554396a6
STATUS:CONFIRMED
LAST-MODIFIED:20250312T083052Z
DESCRIPTION:5ème ligue Hommes Gr.2 Phase B\nBegegnungs-Nr: 18\nHeim: Grand-Saconnex IV\nGast: Collex-Bossy II\n
LOCATION:
CATEGORIES:Saison 2024/25
END:VEVENT
BEGIN:VEVENT
DTSTAMP:20260425T004238Z
DTSTART;TZID=Europe/Berlin:20250129T194500
DTEND;TZID=Europe/Berlin:20250129T224500
SUMMARY:Ligue 5 Gr.2 Ph.B Veyrier III vs Collex-Bossy II (8)
UID:e777b956-d8ff-43dc-811a-e62ba722b4ac
STATUS:CONFIRMED
LAST-MODIFIED:20250130T092044Z
DESCRIPTION:5ème ligue Hommes Gr.2 Phase B\nBegegnungs-Nr: 8\nHeim: Veyrier III\nGast: Collex-Bossy II\n\nAdresse: -\, 1255 Veyrier\n
LOCATION:-\, 1255 Veyrier
CATEGORIES:Saison 2024/25
END:VEVENT
END:VCALENDAR
