BEGIN:VCALENDAR
PRODID:-//nuDatenautomaten//framework iCal4j //DE
VERSION:2.0
CALSCALE:GREGORIAN
BEGIN:VTIMEZONE
TZID:Europe/Berlin
LAST-MODIFIED:20260306T231828Z
TZURL:https://www.tzurl.org/zoneinfo/Europe/Berlin
X-LIC-LOCATION:Europe/Berlin
X-PROLEPTIC-TZNAME:LMT
BEGIN:STANDARD
TZNAME:CET
TZOFFSETFROM:+005328
TZOFFSETTO:+0100
DTSTART:18930401T000000
END:STANDARD
BEGIN:DAYLIGHT
TZNAME:CEST
TZOFFSETFROM:+0100
TZOFFSETTO:+0200
DTSTART:19160430T230000
RDATE:19400401T020000
RDATE:19430329T020000
RDATE:19460414T020000
RDATE:19470406T030000
RDATE:19480418T020000
RDATE:19490410T020000
RDATE:19800406T020000
END:DAYLIGHT
BEGIN:STANDARD
TZNAME:CET
TZOFFSETFROM:+0200
TZOFFSETTO:+0100
DTSTART:19161001T010000
RDATE:19421102T030000
RDATE:19431004T030000
RDATE:19441002T030000
RDATE:19451118T030000
RDATE:19461007T030000
END:STANDARD
BEGIN:DAYLIGHT
TZNAME:CEST
TZOFFSETFROM:+0100
TZOFFSETTO:+0200
DTSTART:19170416T020000
RRULE:FREQ=YEARLY;UNTIL=19180415T010000Z;BYMONTH=4;BYDAY=3MO
END:DAYLIGHT
BEGIN:STANDARD
TZNAME:CET
TZOFFSETFROM:+0200
TZOFFSETTO:+0100
DTSTART:19170917T030000
RRULE:FREQ=YEARLY;UNTIL=19180916T010000Z;BYMONTH=9;BYDAY=3MO
END:STANDARD
BEGIN:DAYLIGHT
TZNAME:CEST
TZOFFSETFROM:+0100
TZOFFSETTO:+0200
DTSTART:19440403T020000
RRULE:FREQ=YEARLY;UNTIL=19450402T010000Z;BYMONTH=4;BYDAY=1MO
END:DAYLIGHT
BEGIN:DAYLIGHT
TZNAME:CEMT
TZOFFSETFROM:+0200
TZOFFSETTO:+0300
DTSTART:19450524T020000
RDATE:19470511T030000
END:DAYLIGHT
BEGIN:DAYLIGHT
TZNAME:CEST
TZOFFSETFROM:+0300
TZOFFSETTO:+0200
DTSTART:19450924T030000
RDATE:19470629T030000
END:DAYLIGHT
BEGIN:STANDARD
TZNAME:CET
TZOFFSETFROM:+0100
TZOFFSETTO:+0100
DTSTART:19460101T000000
RDATE:19800101T000000
END:STANDARD
BEGIN:STANDARD
TZNAME:CET
TZOFFSETFROM:+0200
TZOFFSETTO:+0100
DTSTART:19471005T030000
RRULE:FREQ=YEARLY;UNTIL=19491002T010000Z;BYMONTH=10;BYDAY=1SU
END:STANDARD
BEGIN:STANDARD
TZNAME:CET
TZOFFSETFROM:+0200
TZOFFSETTO:+0100
DTSTART:19800928T030000
RRULE:FREQ=YEARLY;UNTIL=19950924T010000Z;BYMONTH=9;BYDAY=-1SU
END:STANDARD
BEGIN:DAYLIGHT
TZNAME:CEST
TZOFFSETFROM:+0100
TZOFFSETTO:+0200
DTSTART:19810329T020000
RRULE:FREQ=YEARLY;BYMONTH=3;BYDAY=-1SU
END:DAYLIGHT
BEGIN:STANDARD
TZNAME:CET
TZOFFSETFROM:+0200
TZOFFSETTO:+0100
DTSTART:19961027T030000
RRULE:FREQ=YEARLY;BYMONTH=10;BYDAY=-1SU
END:STANDARD
END:VTIMEZONE
BEGIN:VEVENT
DTSTAMP:20260425T004230Z
DTSTART;TZID=Europe/Berlin:20240831T160000
DTEND;TZID=Europe/Berlin:20240831T190000
SUMMARY:JUG\, 3.Liga\, Gr.2\, Vorrunde Affoltern A/A IV vs Horgen II (6)
UID:04e3d395-9eda-4073-b4f4-d52cc6b6f3dc
STATUS:CONFIRMED
LAST-MODIFIED:20240904T131450Z
DESCRIPTION:Jugend\, 3. Liga\,Gruppe 2\, Vorrunde\nBegegnungs-Nr: 6\nHeim: Affoltern A/A IV\nGast: Horgen II\n
LOCATION:
CATEGORIES:Saison 2024/25
END:VEVENT
BEGIN:VEVENT
DTSTAMP:20260425T004230Z
DTSTART;TZID=Europe/Berlin:20241116T130000
DTEND;TZID=Europe/Berlin:20241116T160000
SUMMARY:JUG\, 3.Liga\, Gr.5\, Zw-Runde Affoltern A/A IV vs Horgen III (1)
UID:75514d63-b0c3-41c4-be34-7afadcaed1be
STATUS:CONFIRMED
LAST-MODIFIED:20241122T153222Z
DESCRIPTION:Jugend\, 3. Liga\, Gruppe 5\, Zw-Runde\nBegegnungs-Nr: 1\nHeim: Affoltern A/A IV\nGast: Horgen III\n
LOCATION:
CATEGORIES:Saison 2024/25
END:VEVENT
BEGIN:VEVENT
DTSTAMP:20260425T004230Z
DTSTART;TZID=Europe/Berlin:20241116T143000
DTEND;TZID=Europe/Berlin:20241116T173000
SUMMARY:JUG\, 3.Liga\, Gr.5\, Zw-Runde Affoltern A/A IV vs Rapperswil-Jona IV (4)
UID:caf85e52-c851-4a43-be5c-14c346d3ca00
STATUS:CONFIRMED
LAST-MODIFIED:20241122T153253Z
DESCRIPTION:Jugend\, 3. Liga\, Gruppe 5\, Zw-Runde\nBegegnungs-Nr: 4\nHeim: Affoltern A/A IV\nGast: Rapperswil-Jona IV\n
LOCATION:
CATEGORIES:Saison 2024/25
END:VEVENT
BEGIN:VEVENT
DTSTAMP:20260425T004230Z
DTSTART;TZID=Europe/Berlin:20250329T143000
DTEND;TZID=Europe/Berlin:20250329T173000
SUMMARY:JUG\, 3.Liga\, Gr.5\, Final Affoltern A/A IV vs Dübendorf-Volketswil (3)
UID:82f50a8e-745e-44df-af25-95643775e37f
STATUS:CONFIRMED
LAST-MODIFIED:20250404T085441Z
DESCRIPTION:Jugend\, 3. Liga\, Gruppe 5\, Final\nBegegnungs-Nr: 3\nHeim: Affoltern A/A IV\nGast: Dübendorf-Volketswil\n\nAdresse: Butzenstrasse 8\, 8910 Affoltern am Albis\n
LOCATION:Butzenstrasse 8\, 8910 Affoltern am Albis
CATEGORIES:Saison 2024/25
END:VEVENT
BEGIN:VEVENT
DTSTAMP:20260425T004230Z
DTSTART;TZID=Europe/Berlin:20240831T143000
DTEND;TZID=Europe/Berlin:20240831T173000
SUMMARY:JUG\, 3.Liga\, Gr.2\, Vorrunde Bülach vs Affoltern A/A IV (3)
UID:ea2f9952-71db-422a-b0cf-6df211c258c9
STATUS:CONFIRMED
LAST-MODIFIED:20240904T131222Z
DESCRIPTION:Jugend\, 3. Liga\,Gruppe 2\, Vorrunde\nBegegnungs-Nr: 3\nHeim: Bülach\nGast: Affoltern A/A IV\n
LOCATION:
CATEGORIES:Saison 2024/25
END:VEVENT
BEGIN:VEVENT
DTSTAMP:20260425T004230Z
DTSTART;TZID=Europe/Berlin:20240831T130000
DTEND;TZID=Europe/Berlin:20240831T160000
SUMMARY:JUG\, 3.Liga\, Gr.2\, Vorrunde Zürich-Affoltern III vs Affoltern A/A IV (2)
UID:27014999-4d1e-4f80-af0d-a92495ac4cf7
STATUS:CONFIRMED
LAST-MODIFIED:20240904T131210Z
DESCRIPTION:Jugend\, 3. Liga\,Gruppe 2\, Vorrunde\nBegegnungs-Nr: 2\nHeim: Zürich-Affoltern III\nGast: Affoltern A/A IV\n
LOCATION:
CATEGORIES:Saison 2024/25
END:VEVENT
BEGIN:VEVENT
DTSTAMP:20260425T004230Z
DTSTART;TZID=Europe/Berlin:20241116T160000
DTEND;TZID=Europe/Berlin:20241116T190000
SUMMARY:JUG\, 3.Liga\, Gr.5\, Zw-Runde Dübendorf-Volketswil vs Affoltern A/A IV (6)
UID:d3411e30-7e5e-4091-bce1-b9339ccf180e
STATUS:CONFIRMED
LAST-MODIFIED:20241122T153313Z
DESCRIPTION:Jugend\, 3. Liga\, Gruppe 5\, Zw-Runde\nBegegnungs-Nr: 6\nHeim: Dübendorf-Volketswil\nGast: Affoltern A/A IV\n
LOCATION:
CATEGORIES:Saison 2024/25
END:VEVENT
BEGIN:VEVENT
DTSTAMP:20260425T004230Z
DTSTART;TZID=Europe/Berlin:20250329T130000
DTEND;TZID=Europe/Berlin:20250329T160000
SUMMARY:JUG\, 3.Liga\, Gr.5\, Final Horgen II vs Affoltern A/A IV (1)
UID:8cf66f8f-6a28-4d70-b9f3-0e65a7a8caae
STATUS:CONFIRMED
LAST-MODIFIED:20250404T085423Z
DESCRIPTION:Jugend\, 3. Liga\, Gruppe 5\, Final\nBegegnungs-Nr: 1\nHeim: Horgen II\nGast: Affoltern A/A IV\nHalle: Poule in Horgen\, Bildungszentrum 2. UG\nAdresse: Seestrasse 110\, 8810 Horgen\n
LOCATION:Poule in Horgen\, Bildungszentrum 2. UG Seestrasse 110\, 8810 Horgen
CATEGORIES:Saison 2024/25
END:VEVENT
BEGIN:VEVENT
DTSTAMP:20260425T004230Z
DTSTART;TZID=Europe/Berlin:20250329T160000
DTEND;TZID=Europe/Berlin:20250329T190000
SUMMARY:JUG\, 3.Liga\, Gr.5\, Final St. Gallen IV vs Affoltern A/A IV (5)
UID:d5629767-1dbd-4bf1-bc19-a28f2e889f4e
STATUS:CONFIRMED
LAST-MODIFIED:20250404T085500Z
DESCRIPTION:Jugend\, 3. Liga\, Gruppe 5\, Final\nBegegnungs-Nr: 5\nHeim: St. Gallen IV\nGast: Affoltern A/A IV\n\nAdresse: Zilstrasse 61\, 9016 St.Gallen\n
LOCATION:Zilstrasse 61\, 9016 St.Gallen
CATEGORIES:Saison 2024/25
END:VEVENT
END:VCALENDAR
