BEGIN:VCALENDAR
PRODID:-//nuDatenautomaten//framework iCal4j //DE
VERSION:2.0
CALSCALE:GREGORIAN
BEGIN:VTIMEZONE
TZID:Europe/Berlin
LAST-MODIFIED:20260306T231828Z
TZURL:https://www.tzurl.org/zoneinfo/Europe/Berlin
X-LIC-LOCATION:Europe/Berlin
X-PROLEPTIC-TZNAME:LMT
BEGIN:STANDARD
TZNAME:CET
TZOFFSETFROM:+005328
TZOFFSETTO:+0100
DTSTART:18930401T000000
END:STANDARD
BEGIN:DAYLIGHT
TZNAME:CEST
TZOFFSETFROM:+0100
TZOFFSETTO:+0200
DTSTART:19160430T230000
RDATE:19400401T020000
RDATE:19430329T020000
RDATE:19460414T020000
RDATE:19470406T030000
RDATE:19480418T020000
RDATE:19490410T020000
RDATE:19800406T020000
END:DAYLIGHT
BEGIN:STANDARD
TZNAME:CET
TZOFFSETFROM:+0200
TZOFFSETTO:+0100
DTSTART:19161001T010000
RDATE:19421102T030000
RDATE:19431004T030000
RDATE:19441002T030000
RDATE:19451118T030000
RDATE:19461007T030000
END:STANDARD
BEGIN:DAYLIGHT
TZNAME:CEST
TZOFFSETFROM:+0100
TZOFFSETTO:+0200
DTSTART:19170416T020000
RRULE:FREQ=YEARLY;UNTIL=19180415T010000Z;BYMONTH=4;BYDAY=3MO
END:DAYLIGHT
BEGIN:STANDARD
TZNAME:CET
TZOFFSETFROM:+0200
TZOFFSETTO:+0100
DTSTART:19170917T030000
RRULE:FREQ=YEARLY;UNTIL=19180916T010000Z;BYMONTH=9;BYDAY=3MO
END:STANDARD
BEGIN:DAYLIGHT
TZNAME:CEST
TZOFFSETFROM:+0100
TZOFFSETTO:+0200
DTSTART:19440403T020000
RRULE:FREQ=YEARLY;UNTIL=19450402T010000Z;BYMONTH=4;BYDAY=1MO
END:DAYLIGHT
BEGIN:DAYLIGHT
TZNAME:CEMT
TZOFFSETFROM:+0200
TZOFFSETTO:+0300
DTSTART:19450524T020000
RDATE:19470511T030000
END:DAYLIGHT
BEGIN:DAYLIGHT
TZNAME:CEST
TZOFFSETFROM:+0300
TZOFFSETTO:+0200
DTSTART:19450924T030000
RDATE:19470629T030000
END:DAYLIGHT
BEGIN:STANDARD
TZNAME:CET
TZOFFSETFROM:+0100
TZOFFSETTO:+0100
DTSTART:19460101T000000
RDATE:19800101T000000
END:STANDARD
BEGIN:STANDARD
TZNAME:CET
TZOFFSETFROM:+0200
TZOFFSETTO:+0100
DTSTART:19471005T030000
RRULE:FREQ=YEARLY;UNTIL=19491002T010000Z;BYMONTH=10;BYDAY=1SU
END:STANDARD
BEGIN:STANDARD
TZNAME:CET
TZOFFSETFROM:+0200
TZOFFSETTO:+0100
DTSTART:19800928T030000
RRULE:FREQ=YEARLY;UNTIL=19950924T010000Z;BYMONTH=9;BYDAY=-1SU
END:STANDARD
BEGIN:DAYLIGHT
TZNAME:CEST
TZOFFSETFROM:+0100
TZOFFSETTO:+0200
DTSTART:19810329T020000
RRULE:FREQ=YEARLY;BYMONTH=3;BYDAY=-1SU
END:DAYLIGHT
BEGIN:STANDARD
TZNAME:CET
TZOFFSETFROM:+0200
TZOFFSETTO:+0100
DTSTART:19961027T030000
RRULE:FREQ=YEARLY;BYMONTH=10;BYDAY=-1SU
END:STANDARD
END:VTIMEZONE
BEGIN:VEVENT
DTSTAMP:20260425T004234Z
DTSTART;TZID=Europe/Berlin:20250306T200000
DTEND;TZID=Europe/Berlin:20250306T230000
SUMMARY:HE 6. Liga Gr. 5 Libera Zürich vs Kloten IV (0)
UID:81d1fe12-49da-4940-a26a-70610e36486d
STATUS:CONFIRMED
LAST-MODIFIED:20250312T150006Z
DESCRIPTION:6. Liga Herren Gruppe 5\nBegegnungs-Nr: 0\nHeim: Libera Zürich\nGast: Kloten IV\n\nAdresse: Sperletweg 71\, 8052 Zürich\n
LOCATION:Sperletweg 71\, 8052 Zürich
CATEGORIES:Saison 2024/25
END:VEVENT
BEGIN:VEVENT
DTSTAMP:20260425T004234Z
DTSTART;TZID=Europe/Berlin:20250206T200000
DTEND;TZID=Europe/Berlin:20250206T230000
SUMMARY:HE 6. Liga Gr. 5 Libera Zürich vs Uster VI (0)
UID:5ed58f86-e2a2-4a58-8c25-f44dfd66d799
STATUS:CONFIRMED
LAST-MODIFIED:20250207T115506Z
DESCRIPTION:6. Liga Herren Gruppe 5\nBegegnungs-Nr: 0\nHeim: Libera Zürich\nGast: Uster VI\n\nAdresse: Sperletweg 71\, 8052 Zürich\n
LOCATION:Sperletweg 71\, 8052 Zürich
CATEGORIES:Saison 2024/25
END:VEVENT
BEGIN:VEVENT
DTSTAMP:20260425T004234Z
DTSTART;TZID=Europe/Berlin:20250123T200000
DTEND;TZID=Europe/Berlin:20250123T230000
SUMMARY:HE 6. Liga Gr. 5 Libera Zürich vs Wolfhausen III (0)
UID:4bf165a8-8c73-4a9c-b3eb-60dc9d14d3f9
STATUS:CONFIRMED
LAST-MODIFIED:20250129T125658Z
DESCRIPTION:6. Liga Herren Gruppe 5\nBegegnungs-Nr: 0\nHeim: Libera Zürich\nGast: Wolfhausen III\n\nAdresse: Sperletweg 71\, 8052 Zürich\n
LOCATION:Sperletweg 71\, 8052 Zürich
CATEGORIES:Saison 2024/25
END:VEVENT
BEGIN:VEVENT
DTSTAMP:20260425T004234Z
DTSTART;TZID=Europe/Berlin:20241205T200000
DTEND;TZID=Europe/Berlin:20241205T230000
SUMMARY:HE 6. Liga Gr. 5 Libera Zürich vs Dübendorf-Volketswil V (0)
UID:1f49869b-1111-4140-8660-d4d001c277b7
STATUS:CONFIRMED
LAST-MODIFIED:20241211T103115Z
DESCRIPTION:6. Liga Herren Gruppe 5\nBegegnungs-Nr: 0\nHeim: Libera Zürich\nGast: Dübendorf-Volketswil V\n\nAdresse: Sperletweg 71\, 8052 Zürich\n
LOCATION:Sperletweg 71\, 8052 Zürich
CATEGORIES:Saison 2024/25
END:VEVENT
BEGIN:VEVENT
DTSTAMP:20260425T004234Z
DTSTART;TZID=Europe/Berlin:20241107T200000
DTEND;TZID=Europe/Berlin:20241107T230000
SUMMARY:HE 6. Liga Gr. 5 Libera Zürich vs Niederhasli VII (0)
UID:c4c18e8d-f7d7-4db0-bcbe-4feeee28e5a3
STATUS:CONFIRMED
LAST-MODIFIED:20241108T150938Z
DESCRIPTION:6. Liga Herren Gruppe 5\nBegegnungs-Nr: 0\nHeim: Libera Zürich\nGast: Niederhasli VII\n\nAdresse: Sperletweg 71\, 8052 Zürich\n
LOCATION:Sperletweg 71\, 8052 Zürich
CATEGORIES:Saison 2024/25
END:VEVENT
BEGIN:VEVENT
DTSTAMP:20260425T004234Z
DTSTART;TZID=Europe/Berlin:20241003T200000
DTEND;TZID=Europe/Berlin:20241003T230000
SUMMARY:HE 6. Liga Gr. 5 Libera Zürich vs Wetzikon IX (0)
UID:1d3d5ce1-8fd1-4ce5-bdf4-f179685ea389
STATUS:CONFIRMED
LAST-MODIFIED:20241004T081950Z
DESCRIPTION:6. Liga Herren Gruppe 5\nBegegnungs-Nr: 0\nHeim: Libera Zürich\nGast: Wetzikon IX\n\nAdresse: Sperletweg 71\, 8052 Zürich\n
LOCATION:Sperletweg 71\, 8052 Zürich
CATEGORIES:Saison 2024/25
END:VEVENT
BEGIN:VEVENT
DTSTAMP:20260425T004234Z
DTSTART;TZID=Europe/Berlin:20250324T200000
DTEND;TZID=Europe/Berlin:20250324T230000
SUMMARY:HE 6. Liga Gr. 5 Dübendorf-Volketswil V vs Libera Zürich (0)
UID:ee5b8c2b-503a-47b6-aa79-f79ae9920867
STATUS:CONFIRMED
LAST-MODIFIED:20250327T134502Z
DESCRIPTION:6. Liga Herren Gruppe 5\nBegegnungs-Nr: 0\nHeim: Dübendorf-Volketswil V\nGast: Libera Zürich\n\nAdresse: Usterstrasse 35\, 8604 Volketswil\n
LOCATION:Usterstrasse 35\, 8604 Volketswil
CATEGORIES:Saison 2024/25
END:VEVENT
BEGIN:VEVENT
DTSTAMP:20260425T004234Z
DTSTART;TZID=Europe/Berlin:20250314T193000
DTEND;TZID=Europe/Berlin:20250314T223000
SUMMARY:HE 6. Liga Gr. 5 Niederhasli VII vs Libera Zürich (0)
UID:ea664867-2be9-4358-8966-281ad464b8ca
STATUS:CONFIRMED
LAST-MODIFIED:20250319T094735Z
DESCRIPTION:6. Liga Herren Gruppe 5\nBegegnungs-Nr: 0\nHeim: Niederhasli VII\nGast: Libera Zürich\n\nAdresse: Dorfstrasse 22\, 8155 Niederhasli\n
LOCATION:Dorfstrasse 22\, 8155 Niederhasli
CATEGORIES:Saison 2024/25
END:VEVENT
BEGIN:VEVENT
DTSTAMP:20260425T004234Z
DTSTART;TZID=Europe/Berlin:20250110T194500
DTEND;TZID=Europe/Berlin:20250110T224500
SUMMARY:HE 6. Liga Gr. 5 Wetzikon IX vs Libera Zürich (0)
UID:ef8cd0cb-5c2d-4d67-ae8f-5be87cd042b5
STATUS:CONFIRMED
LAST-MODIFIED:20250114T093742Z
DESCRIPTION:6. Liga Herren Gruppe 5\nBegegnungs-Nr: 0\nHeim: Wetzikon IX\nGast: Libera Zürich\n\nAdresse: Usterstrasse 37\, 8620 Wetzikon\n
LOCATION:Usterstrasse 37\, 8620 Wetzikon
CATEGORIES:Saison 2024/25
END:VEVENT
BEGIN:VEVENT
DTSTAMP:20260425T004234Z
DTSTART;TZID=Europe/Berlin:20241031T194500
DTEND;TZID=Europe/Berlin:20241031T224500
SUMMARY:HE 6. Liga Gr. 5 Kloten IV vs Libera Zürich (0)
UID:7c2209db-5e50-4799-82b8-1fbf4516c59b
STATUS:CONFIRMED
LAST-MODIFIED:20241108T150839Z
DESCRIPTION:6. Liga Herren Gruppe 5\nBegegnungs-Nr: 0\nHeim: Kloten IV\nGast: Libera Zürich\n\nAdresse: Schluefweg 10\, 8302 Kloten\n
LOCATION:Schluefweg 10\, 8302 Kloten
CATEGORIES:Saison 2024/25
END:VEVENT
BEGIN:VEVENT
DTSTAMP:20260425T004234Z
DTSTART;TZID=Europe/Berlin:20240924T201500
DTEND;TZID=Europe/Berlin:20240924T231500
SUMMARY:HE 6. Liga Gr. 5 Uster VI vs Libera Zürich (0)
UID:da7cebb0-5ca3-48a2-93ed-ad4441c2e5c9
STATUS:CONFIRMED
LAST-MODIFIED:20240926T115325Z
DESCRIPTION:6. Liga Herren Gruppe 5\nBegegnungs-Nr: 0\nHeim: Uster VI\nGast: Libera Zürich\n\nAdresse: Wilstrasse 30 / Zürcherstrasse\, 8610 Uster\n
LOCATION:Wilstrasse 30 / Zürcherstrasse\, 8610 Uster
CATEGORIES:Saison 2024/25
END:VEVENT
BEGIN:VEVENT
DTSTAMP:20260425T004234Z
DTSTART;TZID=Europe/Berlin:20240902T200000
DTEND;TZID=Europe/Berlin:20240902T230000
SUMMARY:HE 6. Liga Gr. 5 Wolfhausen III vs Libera Zürich (0)
UID:f1ee847e-0ce5-4c90-95e7-49c3ace69759
STATUS:CONFIRMED
LAST-MODIFIED:20240904T120253Z
DESCRIPTION:6. Liga Herren Gruppe 5\nBegegnungs-Nr: 0\nHeim: Wolfhausen III\nGast: Libera Zürich\n\nAdresse: Schulstrasse 9\, 8633 Wolfhausen\n
LOCATION:Schulstrasse 9\, 8633 Wolfhausen
CATEGORIES:Saison 2024/25
END:VEVENT
END:VCALENDAR
