BEGIN:VCALENDAR
PRODID:-//nuDatenautomaten//framework iCal4j //DE
VERSION:2.0
CALSCALE:GREGORIAN
BEGIN:VTIMEZONE
TZID:Europe/Berlin
LAST-MODIFIED:20260306T231828Z
TZURL:https://www.tzurl.org/zoneinfo/Europe/Berlin
X-LIC-LOCATION:Europe/Berlin
X-PROLEPTIC-TZNAME:LMT
BEGIN:STANDARD
TZNAME:CET
TZOFFSETFROM:+005328
TZOFFSETTO:+0100
DTSTART:18930401T000000
END:STANDARD
BEGIN:DAYLIGHT
TZNAME:CEST
TZOFFSETFROM:+0100
TZOFFSETTO:+0200
DTSTART:19160430T230000
RDATE:19400401T020000
RDATE:19430329T020000
RDATE:19460414T020000
RDATE:19470406T030000
RDATE:19480418T020000
RDATE:19490410T020000
RDATE:19800406T020000
END:DAYLIGHT
BEGIN:STANDARD
TZNAME:CET
TZOFFSETFROM:+0200
TZOFFSETTO:+0100
DTSTART:19161001T010000
RDATE:19421102T030000
RDATE:19431004T030000
RDATE:19441002T030000
RDATE:19451118T030000
RDATE:19461007T030000
END:STANDARD
BEGIN:DAYLIGHT
TZNAME:CEST
TZOFFSETFROM:+0100
TZOFFSETTO:+0200
DTSTART:19170416T020000
RRULE:FREQ=YEARLY;UNTIL=19180415T010000Z;BYMONTH=4;BYDAY=3MO
END:DAYLIGHT
BEGIN:STANDARD
TZNAME:CET
TZOFFSETFROM:+0200
TZOFFSETTO:+0100
DTSTART:19170917T030000
RRULE:FREQ=YEARLY;UNTIL=19180916T010000Z;BYMONTH=9;BYDAY=3MO
END:STANDARD
BEGIN:DAYLIGHT
TZNAME:CEST
TZOFFSETFROM:+0100
TZOFFSETTO:+0200
DTSTART:19440403T020000
RRULE:FREQ=YEARLY;UNTIL=19450402T010000Z;BYMONTH=4;BYDAY=1MO
END:DAYLIGHT
BEGIN:DAYLIGHT
TZNAME:CEMT
TZOFFSETFROM:+0200
TZOFFSETTO:+0300
DTSTART:19450524T020000
RDATE:19470511T030000
END:DAYLIGHT
BEGIN:DAYLIGHT
TZNAME:CEST
TZOFFSETFROM:+0300
TZOFFSETTO:+0200
DTSTART:19450924T030000
RDATE:19470629T030000
END:DAYLIGHT
BEGIN:STANDARD
TZNAME:CET
TZOFFSETFROM:+0100
TZOFFSETTO:+0100
DTSTART:19460101T000000
RDATE:19800101T000000
END:STANDARD
BEGIN:STANDARD
TZNAME:CET
TZOFFSETFROM:+0200
TZOFFSETTO:+0100
DTSTART:19471005T030000
RRULE:FREQ=YEARLY;UNTIL=19491002T010000Z;BYMONTH=10;BYDAY=1SU
END:STANDARD
BEGIN:STANDARD
TZNAME:CET
TZOFFSETFROM:+0200
TZOFFSETTO:+0100
DTSTART:19800928T030000
RRULE:FREQ=YEARLY;UNTIL=19950924T010000Z;BYMONTH=9;BYDAY=-1SU
END:STANDARD
BEGIN:DAYLIGHT
TZNAME:CEST
TZOFFSETFROM:+0100
TZOFFSETTO:+0200
DTSTART:19810329T020000
RRULE:FREQ=YEARLY;BYMONTH=3;BYDAY=-1SU
END:DAYLIGHT
BEGIN:STANDARD
TZNAME:CET
TZOFFSETFROM:+0200
TZOFFSETTO:+0100
DTSTART:19961027T030000
RRULE:FREQ=YEARLY;BYMONTH=10;BYDAY=-1SU
END:STANDARD
END:VTIMEZONE
BEGIN:VEVENT
DTSTAMP:20260419T214357Z
DTSTART;TZID=Europe/Berlin:20241119T193000
DTEND;TZID=Europe/Berlin:20241119T223000
SUMMARY:L1P1 Delémont II vs Tramelan (0)
UID:6eea23b9-d028-4e53-b542-c9fa9b6a4d80
STATUS:CONFIRMED
LAST-MODIFIED:20241122T115101Z
DESCRIPTION:1ère ligue phase 1\nBegegnungs-Nr: 0\nHeim: Delémont II\nGast: Tramelan\n\nAdresse: Rue de la Blancherie 4\, 2800 Delémont\n
LOCATION:Rue de la Blancherie 4\, 2800 Delémont
CATEGORIES:Saison 2024/25
END:VEVENT
BEGIN:VEVENT
DTSTAMP:20260419T214357Z
DTSTART;TZID=Europe/Berlin:20241022T193000
DTEND;TZID=Europe/Berlin:20241022T223000
SUMMARY:L1P1 Delémont II vs Entente Pongiste Neuchâteloise II (0)
UID:77fe1c45-6205-43d4-bab7-6bd19943bde6
STATUS:CONFIRMED
LAST-MODIFIED:20241023T152709Z
DESCRIPTION:1ère ligue phase 1\nBegegnungs-Nr: 0\nHeim: Delémont II\nGast: Entente Pongiste Neuchâteloise II\n\nAdresse: Rue de la Blancherie 4\, 2800 Delémont\n
LOCATION:Rue de la Blancherie 4\, 2800 Delémont
CATEGORIES:Saison 2024/25
END:VEVENT
BEGIN:VEVENT
DTSTAMP:20260419T214357Z
DTSTART;TZID=Europe/Berlin:20241203T193000
DTEND;TZID=Europe/Berlin:20241203T223000
SUMMARY:L1P1 Delémont II vs Cortaillod II (0)
UID:d4b56290-d68f-4cbf-94cb-c5a6f02b63e5
STATUS:CONFIRMED
LAST-MODIFIED:20241208T105942Z
DESCRIPTION:1ère ligue phase 1\nBegegnungs-Nr: 0\nHeim: Delémont II\nGast: Cortaillod II\n\nAdresse: Rue de la Blancherie 4\, 2800 Delémont\n
LOCATION:Rue de la Blancherie 4\, 2800 Delémont
CATEGORIES:Saison 2024/25
END:VEVENT
BEGIN:VEVENT
DTSTAMP:20260419T214357Z
DTSTART;TZID=Europe/Berlin:20240903T193000
DTEND;TZID=Europe/Berlin:20240903T223000
SUMMARY:L1P1 Delémont II vs Delémont (0)
UID:513aa45a-23f5-41f1-99cb-4291f33fda63
STATUS:CONFIRMED
LAST-MODIFIED:20240924T155541Z
DESCRIPTION:1ère ligue phase 1\nBegegnungs-Nr: 0\nHeim: Delémont II\nGast: Delémont\n\nAdresse: Rue de la Blancherie 4\, 2800 Delémont\n
LOCATION:Rue de la Blancherie 4\, 2800 Delémont
CATEGORIES:Saison 2024/25
END:VEVENT
BEGIN:VEVENT
DTSTAMP:20260419T214357Z
DTSTART;TZID=Europe/Berlin:20250211T193000
DTEND;TZID=Europe/Berlin:20250211T223000
SUMMARY:L2P2 Delémont II vs Cortaillod III (0)
UID:e4d2a13f-c6fa-4f38-8eff-8cf6346ee6c0
STATUS:CONFIRMED
LAST-MODIFIED:20250214T150714Z
DESCRIPTION:2ème ligue phase 2\nBegegnungs-Nr: 0\nHeim: Delémont II\nGast: Cortaillod III\n\nAdresse: Rue de la Blancherie 4\, 2800 Delémont\n
LOCATION:Rue de la Blancherie 4\, 2800 Delémont
CATEGORIES:Saison 2024/25
END:VEVENT
BEGIN:VEVENT
DTSTAMP:20260419T214357Z
DTSTART;TZID=Europe/Berlin:20250311T193000
DTEND;TZID=Europe/Berlin:20250311T223000
SUMMARY:L2P2 Delémont II vs Val-de-Ruz III (0)
UID:a313d3d1-3ea9-408c-b41c-4a83e910e2f8
STATUS:CONFIRMED
LAST-MODIFIED:20250313T074705Z
DESCRIPTION:2ème ligue phase 2\nBegegnungs-Nr: 0\nHeim: Delémont II\nGast: Val-de-Ruz III\n\nAdresse: Rue de la Blancherie 4\, 2800 Delémont\n
LOCATION:Rue de la Blancherie 4\, 2800 Delémont
CATEGORIES:Saison 2024/25
END:VEVENT
BEGIN:VEVENT
DTSTAMP:20260419T214357Z
DTSTART;TZID=Europe/Berlin:20250408T193000
DTEND;TZID=Europe/Berlin:20250408T223000
SUMMARY:L2P2 Delémont II vs Entente Pongiste Neuchâteloise II (0)
UID:1d5f00c4-1f02-4d85-948d-ab6685cd0a8e
STATUS:CONFIRMED
LAST-MODIFIED:20250411T044310Z
DESCRIPTION:2ème ligue phase 2\nBegegnungs-Nr: 0\nHeim: Delémont II\nGast: Entente Pongiste Neuchâteloise II\n\nAdresse: Rue de la Blancherie 4\, 2800 Delémont\n
LOCATION:Rue de la Blancherie 4\, 2800 Delémont
CATEGORIES:Saison 2024/25
END:VEVENT
BEGIN:VEVENT
DTSTAMP:20260419T214357Z
DTSTART;TZID=Europe/Berlin:20241115T200000
DTEND;TZID=Europe/Berlin:20241115T230000
SUMMARY:L1P1 Val-de-Ruz vs Delémont II (0)
UID:bf4a1915-c8d9-4c35-8002-fbb6f1761730
STATUS:CONFIRMED
LAST-MODIFIED:20241122T115009Z
DESCRIPTION:1ère ligue phase 1\nBegegnungs-Nr: 0\nHeim: Val-de-Ruz\nGast: Delémont II\n\nAdresse: Rue du Collège 31\, 2207 Coffrane\n
LOCATION:Rue du Collège 31\, 2207 Coffrane
CATEGORIES:Saison 2024/25
END:VEVENT
BEGIN:VEVENT
DTSTAMP:20260419T214357Z
DTSTART;TZID=Europe/Berlin:20240916T201500
DTEND;TZID=Europe/Berlin:20240916T231500
SUMMARY:L1P1 Porrentruy vs Delémont II (0)
UID:04717644-0612-41d7-ad73-22d906c1476d
STATUS:CONFIRMED
LAST-MODIFIED:20240924T155721Z
DESCRIPTION:1ère ligue phase 1\nBegegnungs-Nr: 0\nHeim: Porrentruy\nGast: Delémont II\n\nAdresse: Rue du Banné 14\, 2900 Porrentruy\n
LOCATION:Rue du Banné 14\, 2900 Porrentruy
CATEGORIES:Saison 2024/25
END:VEVENT
BEGIN:VEVENT
DTSTAMP:20260419T214357Z
DTSTART;TZID=Europe/Berlin:20241004T200000
DTEND;TZID=Europe/Berlin:20241004T230000
SUMMARY:L1P1 Entente Pongiste Neuchâteloise vs Delémont II (0)
UID:57a8849c-58db-49ad-a1ec-8fc429aa59e2
STATUS:CONFIRMED
LAST-MODIFIED:20241007T072246Z
DESCRIPTION:1ère ligue phase 1\nBegegnungs-Nr: 0\nHeim: Entente Pongiste Neuchâteloise\nGast: Delémont II\n\nAdresse: Allée du 700e\, 2525 Le Landeron\n
LOCATION:Allée du 700e\, 2525 Le Landeron
CATEGORIES:Saison 2024/25
END:VEVENT
BEGIN:VEVENT
DTSTAMP:20260419T214357Z
DTSTART;TZID=Europe/Berlin:20250428T200000
DTEND;TZID=Europe/Berlin:20250428T230000
SUMMARY:L2P2 Omega II vs Delémont II (0)
UID:7120b2a4-0597-4c11-82b3-37077ae0b43f
STATUS:CONFIRMED
LAST-MODIFIED:20250501T051159Z
DESCRIPTION:2ème ligue phase 2\nBegegnungs-Nr: 0\nHeim: Omega II\nGast: Delémont II\n\nAdresse: Tennisweg 1\, 2504 Biel-Bienne\n
LOCATION:Tennisweg 1\, 2504 Biel-Bienne
CATEGORIES:Saison 2024/25
END:VEVENT
BEGIN:VEVENT
DTSTAMP:20260419T214357Z
DTSTART;TZID=Europe/Berlin:20250131T200000
DTEND;TZID=Europe/Berlin:20250131T230000
SUMMARY:L2P2 Entente Pongiste Neuchâteloise IV vs Delémont II (0)
UID:2939197e-1ac1-42ae-8351-07c6e93874df
STATUS:CONFIRMED
LAST-MODIFIED:20250201T091736Z
DESCRIPTION:2ème ligue phase 2\nBegegnungs-Nr: 0\nHeim: Entente Pongiste Neuchâteloise IV\nGast: Delémont II\n\nAdresse: Allée du 700e\, 2525 Le Landeron\n
LOCATION:Allée du 700e\, 2525 Le Landeron
CATEGORIES:Saison 2024/25
END:VEVENT
BEGIN:VEVENT
DTSTAMP:20260419T214357Z
DTSTART;TZID=Europe/Berlin:20250321T200000
DTEND;TZID=Europe/Berlin:20250321T230000
SUMMARY:L2P2 Entente Pongiste Neuchâteloise III vs Delémont II (0)
UID:6800a542-0546-4890-ab5c-36e10197b1ee
STATUS:CONFIRMED
LAST-MODIFIED:20250325T060756Z
DESCRIPTION:2ème ligue phase 2\nBegegnungs-Nr: 0\nHeim: Entente Pongiste Neuchâteloise III\nGast: Delémont II\n\nAdresse: Allée du 700e\, 2525 Le Landeron\n
LOCATION:Allée du 700e\, 2525 Le Landeron
CATEGORIES:Saison 2024/25
END:VEVENT
BEGIN:VEVENT
DTSTAMP:20260419T214357Z
DTSTART;TZID=Europe/Berlin:20250404T193000
DTEND;TZID=Europe/Berlin:20250404T223000
SUMMARY:L2P2 Tramelan vs Delémont II (0)
UID:00652d30-5d16-481a-a10d-2cc42612f6c7
STATUS:CONFIRMED
LAST-MODIFIED:20250408T125944Z
DESCRIPTION:2ème ligue phase 2\nBegegnungs-Nr: 0\nHeim: Tramelan\nGast: Delémont II\n\nAdresse: Rue du Collège 13\, 2720 Tramelan\n
LOCATION:Rue du Collège 13\, 2720 Tramelan
CATEGORIES:Saison 2024/25
END:VEVENT
END:VCALENDAR
