BEGIN:VCALENDAR
PRODID:-//nuDatenautomaten//framework iCal4j //DE
VERSION:2.0
CALSCALE:GREGORIAN
BEGIN:VTIMEZONE
TZID:Europe/Berlin
LAST-MODIFIED:20260306T231828Z
TZURL:https://www.tzurl.org/zoneinfo/Europe/Berlin
X-LIC-LOCATION:Europe/Berlin
X-PROLEPTIC-TZNAME:LMT
BEGIN:STANDARD
TZNAME:CET
TZOFFSETFROM:+005328
TZOFFSETTO:+0100
DTSTART:18930401T000000
END:STANDARD
BEGIN:DAYLIGHT
TZNAME:CEST
TZOFFSETFROM:+0100
TZOFFSETTO:+0200
DTSTART:19160430T230000
RDATE:19400401T020000
RDATE:19430329T020000
RDATE:19460414T020000
RDATE:19470406T030000
RDATE:19480418T020000
RDATE:19490410T020000
RDATE:19800406T020000
END:DAYLIGHT
BEGIN:STANDARD
TZNAME:CET
TZOFFSETFROM:+0200
TZOFFSETTO:+0100
DTSTART:19161001T010000
RDATE:19421102T030000
RDATE:19431004T030000
RDATE:19441002T030000
RDATE:19451118T030000
RDATE:19461007T030000
END:STANDARD
BEGIN:DAYLIGHT
TZNAME:CEST
TZOFFSETFROM:+0100
TZOFFSETTO:+0200
DTSTART:19170416T020000
RRULE:FREQ=YEARLY;UNTIL=19180415T010000Z;BYMONTH=4;BYDAY=3MO
END:DAYLIGHT
BEGIN:STANDARD
TZNAME:CET
TZOFFSETFROM:+0200
TZOFFSETTO:+0100
DTSTART:19170917T030000
RRULE:FREQ=YEARLY;UNTIL=19180916T010000Z;BYMONTH=9;BYDAY=3MO
END:STANDARD
BEGIN:DAYLIGHT
TZNAME:CEST
TZOFFSETFROM:+0100
TZOFFSETTO:+0200
DTSTART:19440403T020000
RRULE:FREQ=YEARLY;UNTIL=19450402T010000Z;BYMONTH=4;BYDAY=1MO
END:DAYLIGHT
BEGIN:DAYLIGHT
TZNAME:CEMT
TZOFFSETFROM:+0200
TZOFFSETTO:+0300
DTSTART:19450524T020000
RDATE:19470511T030000
END:DAYLIGHT
BEGIN:DAYLIGHT
TZNAME:CEST
TZOFFSETFROM:+0300
TZOFFSETTO:+0200
DTSTART:19450924T030000
RDATE:19470629T030000
END:DAYLIGHT
BEGIN:STANDARD
TZNAME:CET
TZOFFSETFROM:+0100
TZOFFSETTO:+0100
DTSTART:19460101T000000
RDATE:19800101T000000
END:STANDARD
BEGIN:STANDARD
TZNAME:CET
TZOFFSETFROM:+0200
TZOFFSETTO:+0100
DTSTART:19471005T030000
RRULE:FREQ=YEARLY;UNTIL=19491002T010000Z;BYMONTH=10;BYDAY=1SU
END:STANDARD
BEGIN:STANDARD
TZNAME:CET
TZOFFSETFROM:+0200
TZOFFSETTO:+0100
DTSTART:19800928T030000
RRULE:FREQ=YEARLY;UNTIL=19950924T010000Z;BYMONTH=9;BYDAY=-1SU
END:STANDARD
BEGIN:DAYLIGHT
TZNAME:CEST
TZOFFSETFROM:+0100
TZOFFSETTO:+0200
DTSTART:19810329T020000
RRULE:FREQ=YEARLY;BYMONTH=3;BYDAY=-1SU
END:DAYLIGHT
BEGIN:STANDARD
TZNAME:CET
TZOFFSETFROM:+0200
TZOFFSETTO:+0100
DTSTART:19961027T030000
RRULE:FREQ=YEARLY;BYMONTH=10;BYDAY=-1SU
END:STANDARD
END:VTIMEZONE
BEGIN:VEVENT
DTSTAMP:20260424T234025Z
DTSTART;TZID=Europe/Berlin:20250115T194500
DTEND;TZID=Europe/Berlin:20250115T224500
SUMMARY:Runde 3 Royal Bern vs Bern III (8)
UID:2eeabea1-b56a-4fd6-a805-944c3874e1ba
STATUS:CONFIRMED
LAST-MODIFIED:20250116T144947Z
DESCRIPTION:Runde 3\nBegegnungs-Nr: 8\nHeim: Royal Bern\nGast: Bern III\n\nAdresse: Dändlikerweg 60\, 3014 Bern\n
LOCATION:Dändlikerweg 60\, 3014 Bern
CATEGORIES:Saison Cup 2024/25
END:VEVENT
BEGIN:VEVENT
DTSTAMP:20260424T234025Z
DTSTART;TZID=Europe/Berlin:20250226T194500
DTEND;TZID=Europe/Berlin:20250226T224500
SUMMARY:Runde 4 Royal Bern vs Münsingen (4)
UID:73c827b4-db4f-4a7c-8bb5-f2355dc905aa
STATUS:CONFIRMED
LAST-MODIFIED:20250227T094142Z
DESCRIPTION:Runde 4\nBegegnungs-Nr: 4\nHeim: Royal Bern\nGast: Münsingen\n\nAdresse: Dändlikerweg 60\, 3014 Bern\n
LOCATION:Dändlikerweg 60\, 3014 Bern
CATEGORIES:Saison Cup 2024/25
END:VEVENT
BEGIN:VEVENT
DTSTAMP:20260424T234025Z
DTSTART;TZID=Europe/Berlin:20241125T193000
DTEND;TZID=Europe/Berlin:20241125T223000
SUMMARY:Runde 2 Bern V vs Royal Bern (12)
UID:65086b03-1752-4f26-a49a-eebd4b98df06
STATUS:CONFIRMED
LAST-MODIFIED:20241128T162913Z
DESCRIPTION:Runde 2\nBegegnungs-Nr: 12\nHeim: Bern V\nGast: Royal Bern\n\nAdresse: Mädergutstrasse 58\, 3018 Bern\n
LOCATION:Mädergutstrasse 58\, 3018 Bern
CATEGORIES:Saison Cup 2024/25
END:VEVENT
BEGIN:VEVENT
DTSTAMP:20260424T234025Z
DTSTART;TZID=Europe/Berlin:20250325T201500
DTEND;TZID=Europe/Berlin:20250325T231500
SUMMARY:Halbfinal Aarberg vs Royal Bern (1)
UID:978a7118-d5f6-4f56-980e-76e9439dd790
STATUS:CONFIRMED
LAST-MODIFIED:20250327T084306Z
DESCRIPTION:Halbfinal\nBegegnungs-Nr: 1\nHeim: Aarberg\nGast: Royal Bern\n\nAdresse: Nidaustrasse 7\, 3270 Aarberg\n
LOCATION:Nidaustrasse 7\, 3270 Aarberg
CATEGORIES:Saison Cup 2024/25
END:VEVENT
END:VCALENDAR
