BEGIN:VCALENDAR
PRODID:-//nuDatenautomaten//framework iCal4j //DE
VERSION:2.0
CALSCALE:GREGORIAN
BEGIN:VTIMEZONE
TZID:Europe/Berlin
LAST-MODIFIED:20260306T231828Z
TZURL:https://www.tzurl.org/zoneinfo/Europe/Berlin
X-LIC-LOCATION:Europe/Berlin
X-PROLEPTIC-TZNAME:LMT
BEGIN:STANDARD
TZNAME:CET
TZOFFSETFROM:+005328
TZOFFSETTO:+0100
DTSTART:18930401T000000
END:STANDARD
BEGIN:DAYLIGHT
TZNAME:CEST
TZOFFSETFROM:+0100
TZOFFSETTO:+0200
DTSTART:19160430T230000
RDATE:19400401T020000
RDATE:19430329T020000
RDATE:19460414T020000
RDATE:19470406T030000
RDATE:19480418T020000
RDATE:19490410T020000
RDATE:19800406T020000
END:DAYLIGHT
BEGIN:STANDARD
TZNAME:CET
TZOFFSETFROM:+0200
TZOFFSETTO:+0100
DTSTART:19161001T010000
RDATE:19421102T030000
RDATE:19431004T030000
RDATE:19441002T030000
RDATE:19451118T030000
RDATE:19461007T030000
END:STANDARD
BEGIN:DAYLIGHT
TZNAME:CEST
TZOFFSETFROM:+0100
TZOFFSETTO:+0200
DTSTART:19170416T020000
RRULE:FREQ=YEARLY;UNTIL=19180415T010000Z;BYMONTH=4;BYDAY=3MO
END:DAYLIGHT
BEGIN:STANDARD
TZNAME:CET
TZOFFSETFROM:+0200
TZOFFSETTO:+0100
DTSTART:19170917T030000
RRULE:FREQ=YEARLY;UNTIL=19180916T010000Z;BYMONTH=9;BYDAY=3MO
END:STANDARD
BEGIN:DAYLIGHT
TZNAME:CEST
TZOFFSETFROM:+0100
TZOFFSETTO:+0200
DTSTART:19440403T020000
RRULE:FREQ=YEARLY;UNTIL=19450402T010000Z;BYMONTH=4;BYDAY=1MO
END:DAYLIGHT
BEGIN:DAYLIGHT
TZNAME:CEMT
TZOFFSETFROM:+0200
TZOFFSETTO:+0300
DTSTART:19450524T020000
RDATE:19470511T030000
END:DAYLIGHT
BEGIN:DAYLIGHT
TZNAME:CEST
TZOFFSETFROM:+0300
TZOFFSETTO:+0200
DTSTART:19450924T030000
RDATE:19470629T030000
END:DAYLIGHT
BEGIN:STANDARD
TZNAME:CET
TZOFFSETFROM:+0100
TZOFFSETTO:+0100
DTSTART:19460101T000000
RDATE:19800101T000000
END:STANDARD
BEGIN:STANDARD
TZNAME:CET
TZOFFSETFROM:+0200
TZOFFSETTO:+0100
DTSTART:19471005T030000
RRULE:FREQ=YEARLY;UNTIL=19491002T010000Z;BYMONTH=10;BYDAY=1SU
END:STANDARD
BEGIN:STANDARD
TZNAME:CET
TZOFFSETFROM:+0200
TZOFFSETTO:+0100
DTSTART:19800928T030000
RRULE:FREQ=YEARLY;UNTIL=19950924T010000Z;BYMONTH=9;BYDAY=-1SU
END:STANDARD
BEGIN:DAYLIGHT
TZNAME:CEST
TZOFFSETFROM:+0100
TZOFFSETTO:+0200
DTSTART:19810329T020000
RRULE:FREQ=YEARLY;BYMONTH=3;BYDAY=-1SU
END:DAYLIGHT
BEGIN:STANDARD
TZNAME:CET
TZOFFSETFROM:+0200
TZOFFSETTO:+0100
DTSTART:19961027T030000
RRULE:FREQ=YEARLY;BYMONTH=10;BYDAY=-1SU
END:STANDARD
END:VTIMEZONE
BEGIN:VEVENT
DTSTAMP:20260424T234144Z
DTSTART;TZID=Europe/Berlin:20250201T140000
DTEND;TZID=Europe/Berlin:20250201T170000
SUMMARY:Runde 3 Aarberg vs Lyss (2)
UID:71014d3f-b5dd-4442-b0c0-7117d3f689de
STATUS:CONFIRMED
LAST-MODIFIED:20250202T200213Z
DESCRIPTION:Runde 3\nBegegnungs-Nr: 2\nHeim: Aarberg\nGast: Lyss\n\nAdresse: Nidaustrasse 7\, 3270 Aarberg\n
LOCATION:Nidaustrasse 7\, 3270 Aarberg
CATEGORIES:Saison Cup 2024/25
END:VEVENT
BEGIN:VEVENT
DTSTAMP:20260424T234144Z
DTSTART;TZID=Europe/Berlin:20250325T201500
DTEND;TZID=Europe/Berlin:20250325T231500
SUMMARY:Halbfinal Aarberg vs Royal Bern (1)
UID:978a7118-d5f6-4f56-980e-76e9439dd790
STATUS:CONFIRMED
LAST-MODIFIED:20250327T084306Z
DESCRIPTION:Halbfinal\nBegegnungs-Nr: 1\nHeim: Aarberg\nGast: Royal Bern\n\nAdresse: Nidaustrasse 7\, 3270 Aarberg\n
LOCATION:Nidaustrasse 7\, 3270 Aarberg
CATEGORIES:Saison Cup 2024/25
END:VEVENT
BEGIN:VEVENT
DTSTAMP:20260424T234144Z
DTSTART;TZID=Europe/Berlin:20250506T194500
DTEND;TZID=Europe/Berlin:20250506T224500
SUMMARY:Final Aarberg vs Ostermundigen (1)
UID:bba5a851-63d4-4c9a-9a6b-c859afd1d4cc
STATUS:CONFIRMED
LAST-MODIFIED:20250507T091338Z
DESCRIPTION:Final\nBegegnungs-Nr: 1\nHeim: Aarberg\nGast: Ostermundigen\n
LOCATION:
CATEGORIES:Saison Cup 2024/25
END:VEVENT
BEGIN:VEVENT
DTSTAMP:20260424T234144Z
DTSTART;TZID=Europe/Berlin:20241202T194500
DTEND;TZID=Europe/Berlin:20241202T224500
SUMMARY:Runde 2 Wohlensee vs Aarberg (2)
UID:6d4a399e-bea8-4ce7-83c7-44ef443fc48d
STATUS:CONFIRMED
LAST-MODIFIED:20241203T080441Z
DESCRIPTION:Runde 2\nBegegnungs-Nr: 2\nHeim: Wohlensee\nGast: Aarberg\n\nAdresse: Kappelenring 36 a\, 3032 Hinterkappelen\n
LOCATION:Kappelenring 36 a\, 3032 Hinterkappelen
CATEGORIES:Saison Cup 2024/25
END:VEVENT
BEGIN:VEVENT
DTSTAMP:20260424T234144Z
DTSTART;TZID=Europe/Berlin:20250305T200000
DTEND;TZID=Europe/Berlin:20250305T230000
SUMMARY:Runde 4 Langnau vs Aarberg (2)
UID:2f65502f-d4fe-43aa-b9f1-9b310324205d
STATUS:CONFIRMED
LAST-MODIFIED:20250313T221411Z
DESCRIPTION:Runde 4\nBegegnungs-Nr: 2\nHeim: Langnau\nGast: Aarberg\n\nAdresse: Bleicheweg 11\, 3550 Langnau\n
LOCATION:Bleicheweg 11\, 3550 Langnau
CATEGORIES:Saison Cup 2024/25
END:VEVENT
END:VCALENDAR
