BEGIN:VCALENDAR
PRODID:-//nuDatenautomaten//framework iCal4j //DE
VERSION:2.0
CALSCALE:GREGORIAN
BEGIN:VTIMEZONE
TZID:Europe/Berlin
LAST-MODIFIED:20260306T231828Z
TZURL:https://www.tzurl.org/zoneinfo/Europe/Berlin
X-LIC-LOCATION:Europe/Berlin
X-PROLEPTIC-TZNAME:LMT
BEGIN:STANDARD
TZNAME:CET
TZOFFSETFROM:+005328
TZOFFSETTO:+0100
DTSTART:18930401T000000
END:STANDARD
BEGIN:DAYLIGHT
TZNAME:CEST
TZOFFSETFROM:+0100
TZOFFSETTO:+0200
DTSTART:19160430T230000
RDATE:19400401T020000
RDATE:19430329T020000
RDATE:19460414T020000
RDATE:19470406T030000
RDATE:19480418T020000
RDATE:19490410T020000
RDATE:19800406T020000
END:DAYLIGHT
BEGIN:STANDARD
TZNAME:CET
TZOFFSETFROM:+0200
TZOFFSETTO:+0100
DTSTART:19161001T010000
RDATE:19421102T030000
RDATE:19431004T030000
RDATE:19441002T030000
RDATE:19451118T030000
RDATE:19461007T030000
END:STANDARD
BEGIN:DAYLIGHT
TZNAME:CEST
TZOFFSETFROM:+0100
TZOFFSETTO:+0200
DTSTART:19170416T020000
RRULE:FREQ=YEARLY;UNTIL=19180415T010000Z;BYMONTH=4;BYDAY=3MO
END:DAYLIGHT
BEGIN:STANDARD
TZNAME:CET
TZOFFSETFROM:+0200
TZOFFSETTO:+0100
DTSTART:19170917T030000
RRULE:FREQ=YEARLY;UNTIL=19180916T010000Z;BYMONTH=9;BYDAY=3MO
END:STANDARD
BEGIN:DAYLIGHT
TZNAME:CEST
TZOFFSETFROM:+0100
TZOFFSETTO:+0200
DTSTART:19440403T020000
RRULE:FREQ=YEARLY;UNTIL=19450402T010000Z;BYMONTH=4;BYDAY=1MO
END:DAYLIGHT
BEGIN:DAYLIGHT
TZNAME:CEMT
TZOFFSETFROM:+0200
TZOFFSETTO:+0300
DTSTART:19450524T020000
RDATE:19470511T030000
END:DAYLIGHT
BEGIN:DAYLIGHT
TZNAME:CEST
TZOFFSETFROM:+0300
TZOFFSETTO:+0200
DTSTART:19450924T030000
RDATE:19470629T030000
END:DAYLIGHT
BEGIN:STANDARD
TZNAME:CET
TZOFFSETFROM:+0100
TZOFFSETTO:+0100
DTSTART:19460101T000000
RDATE:19800101T000000
END:STANDARD
BEGIN:STANDARD
TZNAME:CET
TZOFFSETFROM:+0200
TZOFFSETTO:+0100
DTSTART:19471005T030000
RRULE:FREQ=YEARLY;UNTIL=19491002T010000Z;BYMONTH=10;BYDAY=1SU
END:STANDARD
BEGIN:STANDARD
TZNAME:CET
TZOFFSETFROM:+0200
TZOFFSETTO:+0100
DTSTART:19800928T030000
RRULE:FREQ=YEARLY;UNTIL=19950924T010000Z;BYMONTH=9;BYDAY=-1SU
END:STANDARD
BEGIN:DAYLIGHT
TZNAME:CEST
TZOFFSETFROM:+0100
TZOFFSETTO:+0200
DTSTART:19810329T020000
RRULE:FREQ=YEARLY;BYMONTH=3;BYDAY=-1SU
END:DAYLIGHT
BEGIN:STANDARD
TZNAME:CET
TZOFFSETFROM:+0200
TZOFFSETTO:+0100
DTSTART:19961027T030000
RRULE:FREQ=YEARLY;BYMONTH=10;BYDAY=-1SU
END:STANDARD
END:VTIMEZONE
BEGIN:VEVENT
DTSTAMP:20260425T022336Z
DTSTART;TZID=Europe/Berlin:20250206T194500
DTEND;TZID=Europe/Berlin:20250206T224500
SUMMARY:HE 6. Liga Gr. 9 Schaan-Eschen/Mauren III vs Balzers II (0)
UID:2f6cc65d-1387-456e-a6b2-ba68adf66777
STATUS:CONFIRMED
LAST-MODIFIED:20250213T133136Z
DESCRIPTION:6. Liga Herren Gruppe 9\nBegegnungs-Nr: 0\nHeim: Schaan-Eschen/Mauren III\nGast: Balzers II\n\nAdresse: Zur Schule\, 9494 Schaan\n
LOCATION:Zur Schule\, 9494 Schaan
CATEGORIES:Saison 2024/25
END:VEVENT
BEGIN:VEVENT
DTSTAMP:20260425T022336Z
DTSTART;TZID=Europe/Berlin:20250220T194500
DTEND;TZID=Europe/Berlin:20250220T224500
SUMMARY:HE 6. Liga Gr. 9 Schaan-Eschen/Mauren III vs Chur VIII (0)
UID:c18ccb75-8309-41d4-bff8-2f424af2eef4
STATUS:CONFIRMED
LAST-MODIFIED:20250227T113043Z
DESCRIPTION:6. Liga Herren Gruppe 9\nBegegnungs-Nr: 0\nHeim: Schaan-Eschen/Mauren III\nGast: Chur VIII\n\nAdresse: Zur Schule\, 9494 Schaan\n
LOCATION:Zur Schule\, 9494 Schaan
CATEGORIES:Saison 2024/25
END:VEVENT
BEGIN:VEVENT
DTSTAMP:20260425T022336Z
DTSTART;TZID=Europe/Berlin:20250130T194500
DTEND;TZID=Europe/Berlin:20250130T224500
SUMMARY:HE 6. Liga Gr. 9 Schaan-Eschen/Mauren III vs Chur VII (0)
UID:d2fcbba3-b89d-4879-a22b-524fb56de04f
STATUS:CONFIRMED
LAST-MODIFIED:20250203T124408Z
DESCRIPTION:6. Liga Herren Gruppe 9\nBegegnungs-Nr: 0\nHeim: Schaan-Eschen/Mauren III\nGast: Chur VII\n\nAdresse: Zur Schule\, 9494 Schaan\n
LOCATION:Zur Schule\, 9494 Schaan
CATEGORIES:Saison 2024/25
END:VEVENT
BEGIN:VEVENT
DTSTAMP:20260425T022336Z
DTSTART;TZID=Europe/Berlin:20241107T194500
DTEND;TZID=Europe/Berlin:20241107T224500
SUMMARY:HE 6. Liga Gr. 9 Schaan-Eschen/Mauren III vs Flums VI (0)
UID:bf7903ad-179b-4a1d-8f5d-a36ca20fad72
STATUS:CONFIRMED
LAST-MODIFIED:20241108T151225Z
DESCRIPTION:6. Liga Herren Gruppe 9\nBegegnungs-Nr: 0\nHeim: Schaan-Eschen/Mauren III\nGast: Flums VI\n\nAdresse: Zur Schule\, 9494 Schaan\n
LOCATION:Zur Schule\, 9494 Schaan
CATEGORIES:Saison 2024/25
END:VEVENT
BEGIN:VEVENT
DTSTAMP:20260425T022336Z
DTSTART;TZID=Europe/Berlin:20240917T194500
DTEND;TZID=Europe/Berlin:20240917T224500
SUMMARY:HE 6. Liga Gr. 9 Schaan-Eschen/Mauren III vs Flums VII (0)
UID:b4190454-de29-4f91-9210-aa6dd4ad9d0d
STATUS:CONFIRMED
LAST-MODIFIED:20240918T102327Z
DESCRIPTION:6. Liga Herren Gruppe 9\nBegegnungs-Nr: 0\nHeim: Schaan-Eschen/Mauren III\nGast: Flums VII\n\nAdresse: Simsgasse 10\, 9492 Eschen\n
LOCATION:Simsgasse 10\, 9492 Eschen
CATEGORIES:Saison 2024/25
END:VEVENT
BEGIN:VEVENT
DTSTAMP:20260425T022336Z
DTSTART;TZID=Europe/Berlin:20240905T194500
DTEND;TZID=Europe/Berlin:20240905T224500
SUMMARY:HE 6. Liga Gr. 9 Schaan-Eschen/Mauren III vs Buchs St.Gallen (0)
UID:6329d84f-5a31-41ea-b217-0ff3cb739250
STATUS:CONFIRMED
LAST-MODIFIED:20240913T132942Z
DESCRIPTION:6. Liga Herren Gruppe 9\nBegegnungs-Nr: 0\nHeim: Schaan-Eschen/Mauren III\nGast: Buchs St.Gallen\n\nAdresse: Zur Schule\, 9494 Schaan\n
LOCATION:Zur Schule\, 9494 Schaan
CATEGORIES:Saison 2024/25
END:VEVENT
BEGIN:VEVENT
DTSTAMP:20260425T022336Z
DTSTART;TZID=Europe/Berlin:20250310T201500
DTEND;TZID=Europe/Berlin:20250310T231500
SUMMARY:HE 6. Liga Gr. 9 Flums VI vs Schaan-Eschen/Mauren III (0)
UID:482786a4-0d38-4812-a704-76a4e119a3bd
STATUS:CONFIRMED
LAST-MODIFIED:20250312T150324Z
DESCRIPTION:6. Liga Herren Gruppe 9\nBegegnungs-Nr: 0\nHeim: Flums VI\nGast: Schaan-Eschen/Mauren III\n\nAdresse: Bergstrasse\, 8890 Flums\n
LOCATION:Bergstrasse\, 8890 Flums
CATEGORIES:Saison 2024/25
END:VEVENT
BEGIN:VEVENT
DTSTAMP:20260425T022336Z
DTSTART;TZID=Europe/Berlin:20250210T193000
DTEND;TZID=Europe/Berlin:20250210T223000
SUMMARY:HE 6. Liga Gr. 9 Flums VII vs Schaan-Eschen/Mauren III (0)
UID:280fd4c8-b800-4c17-92af-936d5396c1f1
STATUS:CONFIRMED
LAST-MODIFIED:20250213T133226Z
DESCRIPTION:6. Liga Herren Gruppe 9\nBegegnungs-Nr: 0\nHeim: Flums VII\nGast: Schaan-Eschen/Mauren III\n\nAdresse: Bergstrasse\, 8890 Flums\n
LOCATION:Bergstrasse\, 8890 Flums
CATEGORIES:Saison 2024/25
END:VEVENT
BEGIN:VEVENT
DTSTAMP:20260425T022336Z
DTSTART;TZID=Europe/Berlin:20240919T200000
DTEND;TZID=Europe/Berlin:20240919T230000
SUMMARY:HE 6. Liga Gr. 9 Chur VII vs Schaan-Eschen/Mauren III (0)
UID:43ebda6e-7ffe-490c-8dca-e693b4504b25
STATUS:CONFIRMED
LAST-MODIFIED:20240920T140158Z
DESCRIPTION:6. Liga Herren Gruppe 9\nBegegnungs-Nr: 0\nHeim: Chur VII\nGast: Schaan-Eschen/Mauren III\n\nAdresse: Sandstr. 35\, 7000 Chur\n
LOCATION:Sandstr. 35\, 7000 Chur
CATEGORIES:Saison 2024/25
END:VEVENT
BEGIN:VEVENT
DTSTAMP:20260425T022336Z
DTSTART;TZID=Europe/Berlin:20241114T200000
DTEND;TZID=Europe/Berlin:20241114T230000
SUMMARY:HE 6. Liga Gr. 9 Chur VIII vs Schaan-Eschen/Mauren III (0)
UID:47b5a472-bfb5-4709-a666-335f19a4b00c
STATUS:CONFIRMED
LAST-MODIFIED:20241115T150740Z
DESCRIPTION:6. Liga Herren Gruppe 9\nBegegnungs-Nr: 0\nHeim: Chur VIII\nGast: Schaan-Eschen/Mauren III\n\nAdresse: Sandstr. 35\, 7000 Chur\n
LOCATION:Sandstr. 35\, 7000 Chur
CATEGORIES:Saison 2024/25
END:VEVENT
BEGIN:VEVENT
DTSTAMP:20260425T022336Z
DTSTART;TZID=Europe/Berlin:20240829T200000
DTEND;TZID=Europe/Berlin:20240829T230000
SUMMARY:HE 6. Liga Gr. 9 Balzers II vs Schaan-Eschen/Mauren III (0)
UID:45d7b15f-4b25-49ca-b015-f17d520b4b75
STATUS:CONFIRMED
LAST-MODIFIED:20240904T121133Z
DESCRIPTION:6. Liga Herren Gruppe 9\nBegegnungs-Nr: 0\nHeim: Balzers II\nGast: Schaan-Eschen/Mauren III\n\nAdresse: Gnetsch 41\, 9496 Balzers\n
LOCATION:Gnetsch 41\, 9496 Balzers
CATEGORIES:Saison 2024/25
END:VEVENT
BEGIN:VEVENT
DTSTAMP:20260425T022336Z
DTSTART;TZID=Europe/Berlin:20250120T200000
DTEND;TZID=Europe/Berlin:20250120T230000
SUMMARY:HE 6. Liga Gr. 9 Buchs St.Gallen vs Schaan-Eschen/Mauren III (0)
UID:671aec35-3d7b-42e2-9a1d-c4fef84f8de7
STATUS:CONFIRMED
LAST-MODIFIED:20250123T084524Z
DESCRIPTION:6. Liga Herren Gruppe 9\nBegegnungs-Nr: 0\nHeim: Buchs St.Gallen\nGast: Schaan-Eschen/Mauren III\n\nAdresse: Hanflandstrasse 17\, 9470 Buchs SG\n
LOCATION:Hanflandstrasse 17\, 9470 Buchs SG
CATEGORIES:Saison 2024/25
END:VEVENT
END:VCALENDAR
