BEGIN:VCALENDAR
PRODID:-//nuDatenautomaten//framework iCal4j //DE
VERSION:2.0
CALSCALE:GREGORIAN
BEGIN:VTIMEZONE
TZID:Europe/Berlin
LAST-MODIFIED:20260306T231828Z
TZURL:https://www.tzurl.org/zoneinfo/Europe/Berlin
X-LIC-LOCATION:Europe/Berlin
X-PROLEPTIC-TZNAME:LMT
BEGIN:STANDARD
TZNAME:CET
TZOFFSETFROM:+005328
TZOFFSETTO:+0100
DTSTART:18930401T000000
END:STANDARD
BEGIN:DAYLIGHT
TZNAME:CEST
TZOFFSETFROM:+0100
TZOFFSETTO:+0200
DTSTART:19160430T230000
RDATE:19400401T020000
RDATE:19430329T020000
RDATE:19460414T020000
RDATE:19470406T030000
RDATE:19480418T020000
RDATE:19490410T020000
RDATE:19800406T020000
END:DAYLIGHT
BEGIN:STANDARD
TZNAME:CET
TZOFFSETFROM:+0200
TZOFFSETTO:+0100
DTSTART:19161001T010000
RDATE:19421102T030000
RDATE:19431004T030000
RDATE:19441002T030000
RDATE:19451118T030000
RDATE:19461007T030000
END:STANDARD
BEGIN:DAYLIGHT
TZNAME:CEST
TZOFFSETFROM:+0100
TZOFFSETTO:+0200
DTSTART:19170416T020000
RRULE:FREQ=YEARLY;UNTIL=19180415T010000Z;BYMONTH=4;BYDAY=3MO
END:DAYLIGHT
BEGIN:STANDARD
TZNAME:CET
TZOFFSETFROM:+0200
TZOFFSETTO:+0100
DTSTART:19170917T030000
RRULE:FREQ=YEARLY;UNTIL=19180916T010000Z;BYMONTH=9;BYDAY=3MO
END:STANDARD
BEGIN:DAYLIGHT
TZNAME:CEST
TZOFFSETFROM:+0100
TZOFFSETTO:+0200
DTSTART:19440403T020000
RRULE:FREQ=YEARLY;UNTIL=19450402T010000Z;BYMONTH=4;BYDAY=1MO
END:DAYLIGHT
BEGIN:DAYLIGHT
TZNAME:CEMT
TZOFFSETFROM:+0200
TZOFFSETTO:+0300
DTSTART:19450524T020000
RDATE:19470511T030000
END:DAYLIGHT
BEGIN:DAYLIGHT
TZNAME:CEST
TZOFFSETFROM:+0300
TZOFFSETTO:+0200
DTSTART:19450924T030000
RDATE:19470629T030000
END:DAYLIGHT
BEGIN:STANDARD
TZNAME:CET
TZOFFSETFROM:+0100
TZOFFSETTO:+0100
DTSTART:19460101T000000
RDATE:19800101T000000
END:STANDARD
BEGIN:STANDARD
TZNAME:CET
TZOFFSETFROM:+0200
TZOFFSETTO:+0100
DTSTART:19471005T030000
RRULE:FREQ=YEARLY;UNTIL=19491002T010000Z;BYMONTH=10;BYDAY=1SU
END:STANDARD
BEGIN:STANDARD
TZNAME:CET
TZOFFSETFROM:+0200
TZOFFSETTO:+0100
DTSTART:19800928T030000
RRULE:FREQ=YEARLY;UNTIL=19950924T010000Z;BYMONTH=9;BYDAY=-1SU
END:STANDARD
BEGIN:DAYLIGHT
TZNAME:CEST
TZOFFSETFROM:+0100
TZOFFSETTO:+0200
DTSTART:19810329T020000
RRULE:FREQ=YEARLY;BYMONTH=3;BYDAY=-1SU
END:DAYLIGHT
BEGIN:STANDARD
TZNAME:CET
TZOFFSETFROM:+0200
TZOFFSETTO:+0100
DTSTART:19961027T030000
RRULE:FREQ=YEARLY;BYMONTH=10;BYDAY=-1SU
END:STANDARD
END:VTIMEZONE
BEGIN:VEVENT
DTSTAMP:20260425T005111Z
DTSTART;TZID=Europe/Berlin:20250314T193000
DTEND;TZID=Europe/Berlin:20250314T223000
SUMMARY:HE 6. Liga Gr. 5 Niederhasli VII vs Libera Zürich (0)
UID:ea664867-2be9-4358-8966-281ad464b8ca
STATUS:CONFIRMED
LAST-MODIFIED:20250319T094735Z
DESCRIPTION:6. Liga Herren Gruppe 5\nBegegnungs-Nr: 0\nHeim: Niederhasli VII\nGast: Libera Zürich\n\nAdresse: Dorfstrasse 22\, 8155 Niederhasli\n
LOCATION:Dorfstrasse 22\, 8155 Niederhasli
CATEGORIES:Saison 2024/25
END:VEVENT
BEGIN:VEVENT
DTSTAMP:20260425T005111Z
DTSTART;TZID=Europe/Berlin:20250124T193000
DTEND;TZID=Europe/Berlin:20250124T223000
SUMMARY:HE 6. Liga Gr. 5 Niederhasli VII vs Uster VI (0)
UID:ef86a5d8-2b27-4d79-b29a-e7882d058c9d
STATUS:CONFIRMED
LAST-MODIFIED:20250129T125715Z
DESCRIPTION:6. Liga Herren Gruppe 5\nBegegnungs-Nr: 0\nHeim: Niederhasli VII\nGast: Uster VI\n\nAdresse: Dorfstrasse 22\, 8155 Niederhasli\n
LOCATION:Dorfstrasse 22\, 8155 Niederhasli
CATEGORIES:Saison 2024/25
END:VEVENT
BEGIN:VEVENT
DTSTAMP:20260425T005111Z
DTSTART;TZID=Europe/Berlin:20241206T193000
DTEND;TZID=Europe/Berlin:20241206T223000
SUMMARY:HE 6. Liga Gr. 5 Niederhasli VII vs Kloten IV (0)
UID:b117a869-2c70-4af5-a5fb-34ae612c9af9
STATUS:CONFIRMED
LAST-MODIFIED:20241211T103129Z
DESCRIPTION:6. Liga Herren Gruppe 5\nBegegnungs-Nr: 0\nHeim: Niederhasli VII\nGast: Kloten IV\n\nAdresse: Dorfstrasse 22\, 8155 Niederhasli\n
LOCATION:Dorfstrasse 22\, 8155 Niederhasli
CATEGORIES:Saison 2024/25
END:VEVENT
BEGIN:VEVENT
DTSTAMP:20260425T005111Z
DTSTART;TZID=Europe/Berlin:20241101T193000
DTEND;TZID=Europe/Berlin:20241101T223000
SUMMARY:HE 6. Liga Gr. 5 Niederhasli VII vs Dübendorf-Volketswil V (0)
UID:e9b53f71-a995-403a-91fa-67e9ae0d3895
STATUS:CONFIRMED
LAST-MODIFIED:20241108T150855Z
DESCRIPTION:6. Liga Herren Gruppe 5\nBegegnungs-Nr: 0\nHeim: Niederhasli VII\nGast: Dübendorf-Volketswil V\n\nAdresse: Dorfstrasse 22\, 8155 Niederhasli\n
LOCATION:Dorfstrasse 22\, 8155 Niederhasli
CATEGORIES:Saison 2024/25
END:VEVENT
BEGIN:VEVENT
DTSTAMP:20260425T005111Z
DTSTART;TZID=Europe/Berlin:20240920T193000
DTEND;TZID=Europe/Berlin:20240920T223000
SUMMARY:HE 6. Liga Gr. 5 Niederhasli VII vs Wetzikon IX (0)
UID:afa7285d-5ae3-49fa-bd73-014b9fdbf032
STATUS:CONFIRMED
LAST-MODIFIED:20240926T115346Z
DESCRIPTION:6. Liga Herren Gruppe 5\nBegegnungs-Nr: 0\nHeim: Niederhasli VII\nGast: Wetzikon IX\n\nAdresse: Dorfstrasse 22\, 8155 Niederhasli\n
LOCATION:Dorfstrasse 22\, 8155 Niederhasli
CATEGORIES:Saison 2024/25
END:VEVENT
BEGIN:VEVENT
DTSTAMP:20260425T005111Z
DTSTART;TZID=Europe/Berlin:20250327T194500
DTEND;TZID=Europe/Berlin:20250327T224500
SUMMARY:HE 6. Liga Gr. 5 Kloten IV vs Niederhasli VII (0)
UID:d66cfeff-ade5-4ec4-9486-1f393d36b2cf
STATUS:CONFIRMED
LAST-MODIFIED:20250404T083610Z
DESCRIPTION:6. Liga Herren Gruppe 5\nBegegnungs-Nr: 0\nHeim: Kloten IV\nGast: Niederhasli VII\n\nAdresse: Schluefweg 10\, 8302 Kloten\n
LOCATION:Schluefweg 10\, 8302 Kloten
CATEGORIES:Saison 2024/25
END:VEVENT
BEGIN:VEVENT
DTSTAMP:20260425T005111Z
DTSTART;TZID=Europe/Berlin:20250303T200000
DTEND;TZID=Europe/Berlin:20250303T230000
SUMMARY:HE 6. Liga Gr. 5 Dübendorf-Volketswil V vs Niederhasli VII (0)
UID:1c595f00-fb2a-4ad6-af07-639231446802
STATUS:CONFIRMED
LAST-MODIFIED:20250313T103333Z
DESCRIPTION:6. Liga Herren Gruppe 5\nBegegnungs-Nr: 0\nHeim: Dübendorf-Volketswil V\nGast: Niederhasli VII\n\nAdresse: Usterstrasse 35\, 8604 Volketswil\n
LOCATION:Usterstrasse 35\, 8604 Volketswil
CATEGORIES:Saison 2024/25
END:VEVENT
BEGIN:VEVENT
DTSTAMP:20260425T005111Z
DTSTART;TZID=Europe/Berlin:20250228T200000
DTEND;TZID=Europe/Berlin:20250228T230000
SUMMARY:HE 6. Liga Gr. 5 Wolfhausen III vs Niederhasli VII (0)
UID:96c81521-c9ce-4a4a-a4bc-6ec0b6ce6d12
STATUS:CONFIRMED
LAST-MODIFIED:20250306T143025Z
DESCRIPTION:6. Liga Herren Gruppe 5\nBegegnungs-Nr: 0\nHeim: Wolfhausen III\nGast: Niederhasli VII\n\nAdresse: Schulstrasse 9\, 8633 Wolfhausen\n
LOCATION:Schulstrasse 9\, 8633 Wolfhausen
CATEGORIES:Saison 2024/25
END:VEVENT
BEGIN:VEVENT
DTSTAMP:20260425T005111Z
DTSTART;TZID=Europe/Berlin:20250131T194500
DTEND;TZID=Europe/Berlin:20250131T224500
SUMMARY:HE 6. Liga Gr. 5 Wetzikon IX vs Niederhasli VII (0)
UID:af81ad19-0d52-4560-8aa6-bf272d1d0962
STATUS:CONFIRMED
LAST-MODIFIED:20250203T122727Z
DESCRIPTION:6. Liga Herren Gruppe 5\nBegegnungs-Nr: 0\nHeim: Wetzikon IX\nGast: Niederhasli VII\n\nAdresse: Usterstrasse 37\, 8620 Wetzikon\n
LOCATION:Usterstrasse 37\, 8620 Wetzikon
CATEGORIES:Saison 2024/25
END:VEVENT
BEGIN:VEVENT
DTSTAMP:20260425T005111Z
DTSTART;TZID=Europe/Berlin:20241107T200000
DTEND;TZID=Europe/Berlin:20241107T230000
SUMMARY:HE 6. Liga Gr. 5 Libera Zürich vs Niederhasli VII (0)
UID:c4c18e8d-f7d7-4db0-bcbe-4feeee28e5a3
STATUS:CONFIRMED
LAST-MODIFIED:20241108T150938Z
DESCRIPTION:6. Liga Herren Gruppe 5\nBegegnungs-Nr: 0\nHeim: Libera Zürich\nGast: Niederhasli VII\n\nAdresse: Sperletweg 71\, 8052 Zürich\n
LOCATION:Sperletweg 71\, 8052 Zürich
CATEGORIES:Saison 2024/25
END:VEVENT
BEGIN:VEVENT
DTSTAMP:20260425T005111Z
DTSTART;TZID=Europe/Berlin:20240923T200000
DTEND;TZID=Europe/Berlin:20240923T230000
SUMMARY:HE 6. Liga Gr. 5 Wolfhausen III vs Niederhasli VII (0)
UID:659056b1-d3a6-47ee-a262-8d6d76065d9b
STATUS:CONFIRMED
LAST-MODIFIED:20240926T115332Z
DESCRIPTION:6. Liga Herren Gruppe 5\nBegegnungs-Nr: 0\nHeim: Wolfhausen III\nGast: Niederhasli VII\n\nAdresse: Schulstrasse 9\, 8633 Wolfhausen\n
LOCATION:Schulstrasse 9\, 8633 Wolfhausen
CATEGORIES:Saison 2024/25
END:VEVENT
BEGIN:VEVENT
DTSTAMP:20260425T005111Z
DTSTART;TZID=Europe/Berlin:20240903T201500
DTEND;TZID=Europe/Berlin:20240903T231500
SUMMARY:HE 6. Liga Gr. 5 Uster VI vs Niederhasli VII (0)
UID:1faed25c-24f8-4fcd-9d54-80eb82aea079
STATUS:CONFIRMED
LAST-MODIFIED:20240904T120307Z
DESCRIPTION:6. Liga Herren Gruppe 5\nBegegnungs-Nr: 0\nHeim: Uster VI\nGast: Niederhasli VII\n\nAdresse: Wilstrasse 30 / Zürcherstrasse\, 8610 Uster\n
LOCATION:Wilstrasse 30 / Zürcherstrasse\, 8610 Uster
CATEGORIES:Saison 2024/25
END:VEVENT
END:VCALENDAR
