BEGIN:VCALENDAR
PRODID:-//nuDatenautomaten//framework iCal4j //DE
VERSION:2.0
CALSCALE:GREGORIAN
BEGIN:VTIMEZONE
TZID:Europe/Berlin
LAST-MODIFIED:20260306T231828Z
TZURL:https://www.tzurl.org/zoneinfo/Europe/Berlin
X-LIC-LOCATION:Europe/Berlin
X-PROLEPTIC-TZNAME:LMT
BEGIN:STANDARD
TZNAME:CET
TZOFFSETFROM:+005328
TZOFFSETTO:+0100
DTSTART:18930401T000000
END:STANDARD
BEGIN:DAYLIGHT
TZNAME:CEST
TZOFFSETFROM:+0100
TZOFFSETTO:+0200
DTSTART:19160430T230000
RDATE:19400401T020000
RDATE:19430329T020000
RDATE:19460414T020000
RDATE:19470406T030000
RDATE:19480418T020000
RDATE:19490410T020000
RDATE:19800406T020000
END:DAYLIGHT
BEGIN:STANDARD
TZNAME:CET
TZOFFSETFROM:+0200
TZOFFSETTO:+0100
DTSTART:19161001T010000
RDATE:19421102T030000
RDATE:19431004T030000
RDATE:19441002T030000
RDATE:19451118T030000
RDATE:19461007T030000
END:STANDARD
BEGIN:DAYLIGHT
TZNAME:CEST
TZOFFSETFROM:+0100
TZOFFSETTO:+0200
DTSTART:19170416T020000
RRULE:FREQ=YEARLY;UNTIL=19180415T010000Z;BYMONTH=4;BYDAY=3MO
END:DAYLIGHT
BEGIN:STANDARD
TZNAME:CET
TZOFFSETFROM:+0200
TZOFFSETTO:+0100
DTSTART:19170917T030000
RRULE:FREQ=YEARLY;UNTIL=19180916T010000Z;BYMONTH=9;BYDAY=3MO
END:STANDARD
BEGIN:DAYLIGHT
TZNAME:CEST
TZOFFSETFROM:+0100
TZOFFSETTO:+0200
DTSTART:19440403T020000
RRULE:FREQ=YEARLY;UNTIL=19450402T010000Z;BYMONTH=4;BYDAY=1MO
END:DAYLIGHT
BEGIN:DAYLIGHT
TZNAME:CEMT
TZOFFSETFROM:+0200
TZOFFSETTO:+0300
DTSTART:19450524T020000
RDATE:19470511T030000
END:DAYLIGHT
BEGIN:DAYLIGHT
TZNAME:CEST
TZOFFSETFROM:+0300
TZOFFSETTO:+0200
DTSTART:19450924T030000
RDATE:19470629T030000
END:DAYLIGHT
BEGIN:STANDARD
TZNAME:CET
TZOFFSETFROM:+0100
TZOFFSETTO:+0100
DTSTART:19460101T000000
RDATE:19800101T000000
END:STANDARD
BEGIN:STANDARD
TZNAME:CET
TZOFFSETFROM:+0200
TZOFFSETTO:+0100
DTSTART:19471005T030000
RRULE:FREQ=YEARLY;UNTIL=19491002T010000Z;BYMONTH=10;BYDAY=1SU
END:STANDARD
BEGIN:STANDARD
TZNAME:CET
TZOFFSETFROM:+0200
TZOFFSETTO:+0100
DTSTART:19800928T030000
RRULE:FREQ=YEARLY;UNTIL=19950924T010000Z;BYMONTH=9;BYDAY=-1SU
END:STANDARD
BEGIN:DAYLIGHT
TZNAME:CEST
TZOFFSETFROM:+0100
TZOFFSETTO:+0200
DTSTART:19810329T020000
RRULE:FREQ=YEARLY;BYMONTH=3;BYDAY=-1SU
END:DAYLIGHT
BEGIN:STANDARD
TZNAME:CET
TZOFFSETFROM:+0200
TZOFFSETTO:+0100
DTSTART:19961027T030000
RRULE:FREQ=YEARLY;BYMONTH=10;BYDAY=-1SU
END:STANDARD
END:VTIMEZONE
BEGIN:VEVENT
DTSTAMP:20260425T005112Z
DTSTART;TZID=Europe/Berlin:20250321T193000
DTEND;TZID=Europe/Berlin:20250321T223000
SUMMARY:HE 6. Liga Gr. 8 Thalwil V vs Rüschlikon II (0)
UID:750cb653-7b94-4088-95c3-c1cc1b812646
STATUS:CONFIRMED
LAST-MODIFIED:20250327T134531Z
DESCRIPTION:6. Liga Herren Gruppe 8\nBegegnungs-Nr: 0\nHeim: Thalwil V\nGast: Rüschlikon II\n\nAdresse: Bergstrasse 2\, 8800 Thalwil\n
LOCATION:Bergstrasse 2\, 8800 Thalwil
CATEGORIES:Saison 2024/25
END:VEVENT
BEGIN:VEVENT
DTSTAMP:20260425T005112Z
DTSTART;TZID=Europe/Berlin:20250307T193000
DTEND;TZID=Europe/Berlin:20250307T223000
SUMMARY:HE 6. Liga Gr. 8 Thalwil V vs Glarus IV (0)
UID:6f40ff3e-9b6a-4531-b836-12c900dccf10
STATUS:CONFIRMED
LAST-MODIFIED:20250312T150146Z
DESCRIPTION:6. Liga Herren Gruppe 8\nBegegnungs-Nr: 0\nHeim: Thalwil V\nGast: Glarus IV\n\nAdresse: Bergstrasse 2\, 8800 Thalwil\n
LOCATION:Bergstrasse 2\, 8800 Thalwil
CATEGORIES:Saison 2024/25
END:VEVENT
BEGIN:VEVENT
DTSTAMP:20260425T005112Z
DTSTART;TZID=Europe/Berlin:20240920T193000
DTEND;TZID=Europe/Berlin:20240920T223000
SUMMARY:HE 6. Liga Gr. 8 Thalwil V vs Affoltern A/A VII (0)
UID:96196b15-8abe-4dee-9478-be987d13bff2
STATUS:CONFIRMED
LAST-MODIFIED:20240926T113835Z
DESCRIPTION:6. Liga Herren Gruppe 8\nBegegnungs-Nr: 0\nHeim: Thalwil V\nGast: Affoltern A/A VII\n\nAdresse: Bergstrasse 2\, 8800 Thalwil\n
LOCATION:Bergstrasse 2\, 8800 Thalwil
CATEGORIES:Saison 2024/25
END:VEVENT
BEGIN:VEVENT
DTSTAMP:20260425T005112Z
DTSTART;TZID=Europe/Berlin:20240830T193000
DTEND;TZID=Europe/Berlin:20240830T223000
SUMMARY:HE 6. Liga Gr. 8 Thalwil V vs Sihltal II (0)
UID:13b11253-ab9b-4047-b261-b26bf873a433
STATUS:CONFIRMED
LAST-MODIFIED:20240904T121119Z
DESCRIPTION:6. Liga Herren Gruppe 8\nBegegnungs-Nr: 0\nHeim: Thalwil V\nGast: Sihltal II\n\nAdresse: Bergstrasse 2\, 8800 Thalwil\n
LOCATION:Bergstrasse 2\, 8800 Thalwil
CATEGORIES:Saison 2024/25
END:VEVENT
BEGIN:VEVENT
DTSTAMP:20260425T005112Z
DTSTART;TZID=Europe/Berlin:20241108T193000
DTEND;TZID=Europe/Berlin:20241108T223000
SUMMARY:HE 6. Liga Gr. 8 Thalwil V vs Wettswil II (0)
UID:558916f3-eb0f-4e30-89d4-31c84896914d
STATUS:CONFIRMED
LAST-MODIFIED:20241114T080242Z
DESCRIPTION:6. Liga Herren Gruppe 8\nBegegnungs-Nr: 0\nHeim: Thalwil V\nGast: Wettswil II\n\nAdresse: Bergstrasse 2\, 8800 Thalwil\n
LOCATION:Bergstrasse 2\, 8800 Thalwil
CATEGORIES:Saison 2024/25
END:VEVENT
BEGIN:VEVENT
DTSTAMP:20260425T005112Z
DTSTART;TZID=Europe/Berlin:20250124T194500
DTEND;TZID=Europe/Berlin:20250124T224500
SUMMARY:HE 6. Liga Gr. 8 Thalwil V vs Horgen V (0)
UID:aa06301d-5813-4a75-aa50-a05d3259c700
STATUS:CONFIRMED
LAST-MODIFIED:20250129T130150Z
DESCRIPTION:6. Liga Herren Gruppe 8\nBegegnungs-Nr: 0\nHeim: Thalwil V\nGast: Horgen V\n\nAdresse: Bergstrasse 2\, 8800 Thalwil\n
LOCATION:Bergstrasse 2\, 8800 Thalwil
CATEGORIES:Saison 2024/25
END:VEVENT
BEGIN:VEVENT
DTSTAMP:20260425T005112Z
DTSTART;TZID=Europe/Berlin:20250311T194500
DTEND;TZID=Europe/Berlin:20250311T224500
SUMMARY:HE 6. Liga Gr. 8 Wettswil II vs Thalwil V (0)
UID:19b1e834-361d-4f63-bf93-8b82a9145902
STATUS:CONFIRMED
LAST-MODIFIED:20250312T150155Z
DESCRIPTION:6. Liga Herren Gruppe 8\nBegegnungs-Nr: 0\nHeim: Wettswil II\nGast: Thalwil V\n\nAdresse: Hirsächersteig\, 8907 Wettswil\n
LOCATION:Hirsächersteig\, 8907 Wettswil
CATEGORIES:Saison 2024/25
END:VEVENT
BEGIN:VEVENT
DTSTAMP:20260425T005112Z
DTSTART;TZID=Europe/Berlin:20241205T201500
DTEND;TZID=Europe/Berlin:20241205T231500
SUMMARY:HE 6. Liga Gr. 8 Rüschlikon II vs Thalwil V (0)
UID:58dbc033-c098-4b67-bc72-db2efc2d99a5
STATUS:CONFIRMED
LAST-MODIFIED:20241211T103227Z
DESCRIPTION:6. Liga Herren Gruppe 8\nBegegnungs-Nr: 0\nHeim: Rüschlikon II\nGast: Thalwil V\n\nAdresse: Säumerstrasse 24\, 8803 Rüschlikon\n
LOCATION:Säumerstrasse 24\, 8803 Rüschlikon
CATEGORIES:Saison 2024/25
END:VEVENT
BEGIN:VEVENT
DTSTAMP:20260425T005112Z
DTSTART;TZID=Europe/Berlin:20250131T200000
DTEND;TZID=Europe/Berlin:20250131T230000
SUMMARY:HE 6. Liga Gr. 8 Affoltern A/A VII vs Thalwil V (0)
UID:e941e836-3aed-421d-9f6b-c43e73aac1e6
STATUS:CONFIRMED
LAST-MODIFIED:20250203T122824Z
DESCRIPTION:6. Liga Herren Gruppe 8\nBegegnungs-Nr: 0\nHeim: Affoltern A/A VII\nGast: Thalwil V\n\nAdresse: Butzenstr. 2\, 8910 Affoltern am Albis\n
LOCATION:Butzenstr. 2\, 8910 Affoltern am Albis
CATEGORIES:Saison 2024/25
END:VEVENT
BEGIN:VEVENT
DTSTAMP:20260425T005112Z
DTSTART;TZID=Europe/Berlin:20250204T201500
DTEND;TZID=Europe/Berlin:20250204T231500
SUMMARY:HE 6. Liga Gr. 8 Sihltal II vs Thalwil V (0)
UID:dfcd901f-d448-4fc3-a1bb-bcdc34b40b97
STATUS:CONFIRMED
LAST-MODIFIED:20250206T141135Z
DESCRIPTION:6. Liga Herren Gruppe 8\nBegegnungs-Nr: 0\nHeim: Sihltal II\nGast: Thalwil V\n\nAdresse: In der Schwerzi 4\, 8135 Langnau a/A\n
LOCATION:In der Schwerzi 4\, 8135 Langnau a/A
CATEGORIES:Saison 2024/25
END:VEVENT
BEGIN:VEVENT
DTSTAMP:20260425T005112Z
DTSTART;TZID=Europe/Berlin:20241101T200000
DTEND;TZID=Europe/Berlin:20241101T230000
SUMMARY:HE 6. Liga Gr. 8 Glarus IV vs Thalwil V (0)
UID:2234211e-a483-4acd-8fe9-bc8e6b279a33
STATUS:CONFIRMED
LAST-MODIFIED:20241108T151101Z
DESCRIPTION:6. Liga Herren Gruppe 8\nBegegnungs-Nr: 0\nHeim: Glarus IV\nGast: Thalwil V\n\nAdresse: Schwertgasse 23\, 8750 Glarus\n
LOCATION:Schwertgasse 23\, 8750 Glarus
CATEGORIES:Saison 2024/25
END:VEVENT
BEGIN:VEVENT
DTSTAMP:20260425T005112Z
DTSTART;TZID=Europe/Berlin:20240904T200000
DTEND;TZID=Europe/Berlin:20240904T230000
SUMMARY:HE 6. Liga Gr. 8 Horgen V vs Thalwil V (0)
UID:1356de5b-4576-4663-b72e-4b7ba18a4f78
STATUS:CONFIRMED
LAST-MODIFIED:20240905T064135Z
DESCRIPTION:6. Liga Herren Gruppe 8\nBegegnungs-Nr: 0\nHeim: Horgen V\nGast: Thalwil V\n\nAdresse: Seestrasse 110\, 8810 Horgen\n
LOCATION:Seestrasse 110\, 8810 Horgen
CATEGORIES:Saison 2024/25
END:VEVENT
END:VCALENDAR
