BEGIN:VCALENDAR
PRODID:-//nuDatenautomaten//framework iCal4j //DE
VERSION:2.0
CALSCALE:GREGORIAN
BEGIN:VTIMEZONE
TZID:Europe/Berlin
LAST-MODIFIED:20260306T231828Z
TZURL:https://www.tzurl.org/zoneinfo/Europe/Berlin
X-LIC-LOCATION:Europe/Berlin
X-PROLEPTIC-TZNAME:LMT
BEGIN:STANDARD
TZNAME:CET
TZOFFSETFROM:+005328
TZOFFSETTO:+0100
DTSTART:18930401T000000
END:STANDARD
BEGIN:DAYLIGHT
TZNAME:CEST
TZOFFSETFROM:+0100
TZOFFSETTO:+0200
DTSTART:19160430T230000
RDATE:19400401T020000
RDATE:19430329T020000
RDATE:19460414T020000
RDATE:19470406T030000
RDATE:19480418T020000
RDATE:19490410T020000
RDATE:19800406T020000
END:DAYLIGHT
BEGIN:STANDARD
TZNAME:CET
TZOFFSETFROM:+0200
TZOFFSETTO:+0100
DTSTART:19161001T010000
RDATE:19421102T030000
RDATE:19431004T030000
RDATE:19441002T030000
RDATE:19451118T030000
RDATE:19461007T030000
END:STANDARD
BEGIN:DAYLIGHT
TZNAME:CEST
TZOFFSETFROM:+0100
TZOFFSETTO:+0200
DTSTART:19170416T020000
RRULE:FREQ=YEARLY;UNTIL=19180415T010000Z;BYMONTH=4;BYDAY=3MO
END:DAYLIGHT
BEGIN:STANDARD
TZNAME:CET
TZOFFSETFROM:+0200
TZOFFSETTO:+0100
DTSTART:19170917T030000
RRULE:FREQ=YEARLY;UNTIL=19180916T010000Z;BYMONTH=9;BYDAY=3MO
END:STANDARD
BEGIN:DAYLIGHT
TZNAME:CEST
TZOFFSETFROM:+0100
TZOFFSETTO:+0200
DTSTART:19440403T020000
RRULE:FREQ=YEARLY;UNTIL=19450402T010000Z;BYMONTH=4;BYDAY=1MO
END:DAYLIGHT
BEGIN:DAYLIGHT
TZNAME:CEMT
TZOFFSETFROM:+0200
TZOFFSETTO:+0300
DTSTART:19450524T020000
RDATE:19470511T030000
END:DAYLIGHT
BEGIN:DAYLIGHT
TZNAME:CEST
TZOFFSETFROM:+0300
TZOFFSETTO:+0200
DTSTART:19450924T030000
RDATE:19470629T030000
END:DAYLIGHT
BEGIN:STANDARD
TZNAME:CET
TZOFFSETFROM:+0100
TZOFFSETTO:+0100
DTSTART:19460101T000000
RDATE:19800101T000000
END:STANDARD
BEGIN:STANDARD
TZNAME:CET
TZOFFSETFROM:+0200
TZOFFSETTO:+0100
DTSTART:19471005T030000
RRULE:FREQ=YEARLY;UNTIL=19491002T010000Z;BYMONTH=10;BYDAY=1SU
END:STANDARD
BEGIN:STANDARD
TZNAME:CET
TZOFFSETFROM:+0200
TZOFFSETTO:+0100
DTSTART:19800928T030000
RRULE:FREQ=YEARLY;UNTIL=19950924T010000Z;BYMONTH=9;BYDAY=-1SU
END:STANDARD
BEGIN:DAYLIGHT
TZNAME:CEST
TZOFFSETFROM:+0100
TZOFFSETTO:+0200
DTSTART:19810329T020000
RRULE:FREQ=YEARLY;BYMONTH=3;BYDAY=-1SU
END:DAYLIGHT
BEGIN:STANDARD
TZNAME:CET
TZOFFSETFROM:+0200
TZOFFSETTO:+0100
DTSTART:19961027T030000
RRULE:FREQ=YEARLY;BYMONTH=10;BYDAY=-1SU
END:STANDARD
END:VTIMEZONE
BEGIN:VEVENT
DTSTAMP:20260425T021331Z
DTSTART;TZID=Europe/Berlin:20250414T200000
DTEND;TZID=Europe/Berlin:20250414T230000
SUMMARY:O40 4. Liga Gr. 1 Wolfhalden vs Arbon (0)
UID:6d8add5e-d3db-465e-a684-3b05df9f39e3
STATUS:CONFIRMED
LAST-MODIFIED:20250423T070721Z
DESCRIPTION:4. Liga O40 Gruppe 1\nBegegnungs-Nr: 0\nHeim: Wolfhalden\nGast: Arbon\n\nAdresse: -\, 9427 Wolfhalden\n
LOCATION:-\, 9427 Wolfhalden
CATEGORIES:Saison 2024/25
END:VEVENT
BEGIN:VEVENT
DTSTAMP:20260425T021331Z
DTSTART;TZID=Europe/Berlin:20250407T200000
DTEND;TZID=Europe/Berlin:20250407T230000
SUMMARY:O40 4. Liga Gr. 1 Wolfhalden vs Oberriet (0)
UID:7684273e-01e2-4fc5-b504-2183ca0a6b4d
STATUS:CONFIRMED
LAST-MODIFIED:20250408T154554Z
DESCRIPTION:4. Liga O40 Gruppe 1\nBegegnungs-Nr: 0\nHeim: Wolfhalden\nGast: Oberriet\n\nAdresse: -\, 9427 Wolfhalden\n
LOCATION:-\, 9427 Wolfhalden
CATEGORIES:Saison 2024/25
END:VEVENT
BEGIN:VEVENT
DTSTAMP:20260425T021331Z
DTSTART;TZID=Europe/Berlin:20250224T200000
DTEND;TZID=Europe/Berlin:20250224T230000
SUMMARY:O40 4. Liga Gr. 1 Wolfhalden vs St. Gallen II (0)
UID:501bde15-34f7-4615-b1c7-7d8933eac76a
STATUS:CONFIRMED
LAST-MODIFIED:20250227T124347Z
DESCRIPTION:4. Liga O40 Gruppe 1\nBegegnungs-Nr: 0\nHeim: Wolfhalden\nGast: St. Gallen II\n\nAdresse: -\, 9427 Wolfhalden\n
LOCATION:-\, 9427 Wolfhalden
CATEGORIES:Saison 2024/25
END:VEVENT
BEGIN:VEVENT
DTSTAMP:20260425T021331Z
DTSTART;TZID=Europe/Berlin:20250113T200000
DTEND;TZID=Europe/Berlin:20250113T230000
SUMMARY:O40 4. Liga Gr. 1 Wolfhalden vs Weinfelden (0)
UID:f52c19b4-b796-4c42-ae79-e81b0a478794
STATUS:CONFIRMED
LAST-MODIFIED:20250114T094720Z
DESCRIPTION:4. Liga O40 Gruppe 1\nBegegnungs-Nr: 0\nHeim: Wolfhalden\nGast: Weinfelden\n\nAdresse: -\, 9427 Wolfhalden\n
LOCATION:-\, 9427 Wolfhalden
CATEGORIES:Saison 2024/25
END:VEVENT
BEGIN:VEVENT
DTSTAMP:20260425T021331Z
DTSTART;TZID=Europe/Berlin:20241021T200000
DTEND;TZID=Europe/Berlin:20241021T230000
SUMMARY:O40 4. Liga Gr. 1 Wolfhalden vs Muolen (0)
UID:92d23d7d-2a6f-4867-8abc-cb730810b718
STATUS:CONFIRMED
LAST-MODIFIED:20241023T082232Z
DESCRIPTION:4. Liga O40 Gruppe 1\nBegegnungs-Nr: 0\nHeim: Wolfhalden\nGast: Muolen\n\nAdresse: -\, 9427 Wolfhalden\n
LOCATION:-\, 9427 Wolfhalden
CATEGORIES:Saison 2024/25
END:VEVENT
BEGIN:VEVENT
DTSTAMP:20260425T021331Z
DTSTART;TZID=Europe/Berlin:20240819T200000
DTEND;TZID=Europe/Berlin:20240819T230000
SUMMARY:O40 4. Liga Gr. 1 Wolfhalden vs Rorschach (0)
UID:14eae698-a0fd-4778-af38-0d49c232cee0
STATUS:CONFIRMED
LAST-MODIFIED:20240828T091720Z
DESCRIPTION:4. Liga O40 Gruppe 1\nBegegnungs-Nr: 0\nHeim: Wolfhalden\nGast: Rorschach\n\nAdresse: -\, 9427 Wolfhalden\n
LOCATION:-\, 9427 Wolfhalden
CATEGORIES:Saison 2024/25
END:VEVENT
BEGIN:VEVENT
DTSTAMP:20260425T021331Z
DTSTART;TZID=Europe/Berlin:20250317T200000
DTEND;TZID=Europe/Berlin:20250317T230000
SUMMARY:O40 4. Liga Gr. 1 Muolen vs Wolfhalden (0)
UID:d8bfdeb3-891c-428a-b561-1f4e22bd1903
STATUS:CONFIRMED
LAST-MODIFIED:20250319T095411Z
DESCRIPTION:4. Liga O40 Gruppe 1\nBegegnungs-Nr: 0\nHeim: Muolen\nGast: Wolfhalden\n\nAdresse: Olmishauserstrasse 3\, 9314 Steinebrunn\n
LOCATION:Olmishauserstrasse 3\, 9314 Steinebrunn
CATEGORIES:Saison 2024/25
END:VEVENT
BEGIN:VEVENT
DTSTAMP:20260425T021331Z
DTSTART;TZID=Europe/Berlin:20250207T200000
DTEND;TZID=Europe/Berlin:20250207T230000
SUMMARY:O40 4. Liga Gr. 1 Rorschach vs Wolfhalden (0)
UID:ea1415dc-5def-40d5-8db0-66ed0ec619ae
STATUS:CONFIRMED
LAST-MODIFIED:20250215T113557Z
DESCRIPTION:4. Liga O40 Gruppe 1\nBegegnungs-Nr: 0\nHeim: Rorschach\nGast: Wolfhalden\n\nAdresse: Mariabergstrasse 33\, 9400 Rorschach\n
LOCATION:Mariabergstrasse 33\, 9400 Rorschach
CATEGORIES:Saison 2024/25
END:VEVENT
BEGIN:VEVENT
DTSTAMP:20260425T021331Z
DTSTART;TZID=Europe/Berlin:20241210T200000
DTEND;TZID=Europe/Berlin:20241210T230000
SUMMARY:O40 4. Liga Gr. 1 Arbon vs Wolfhalden (0)
UID:b78bbec1-c77b-4804-a488-24d7a6ea07cf
STATUS:CONFIRMED
LAST-MODIFIED:20241212T092740Z
DESCRIPTION:4. Liga O40 Gruppe 1\nBegegnungs-Nr: 0\nHeim: Arbon\nGast: Wolfhalden\n\nAdresse: Promenadenstrasse 17\, 9320 Arbon\n
LOCATION:Promenadenstrasse 17\, 9320 Arbon
CATEGORIES:Saison 2024/25
END:VEVENT
BEGIN:VEVENT
DTSTAMP:20260425T021331Z
DTSTART;TZID=Europe/Berlin:20241129T201500
DTEND;TZID=Europe/Berlin:20241129T231500
SUMMARY:O40 4. Liga Gr. 1 Oberriet vs Wolfhalden (0)
UID:42cc6304-9f8a-4937-8635-994a77d634da
STATUS:CONFIRMED
LAST-MODIFIED:20241205T130240Z
DESCRIPTION:4. Liga O40 Gruppe 1\nBegegnungs-Nr: 0\nHeim: Oberriet\nGast: Wolfhalden\n\nAdresse: Neugutstrasse 2\, 9463 Oberriet SG\n
LOCATION:Neugutstrasse 2\, 9463 Oberriet SG
CATEGORIES:Saison 2024/25
END:VEVENT
BEGIN:VEVENT
DTSTAMP:20260425T021331Z
DTSTART;TZID=Europe/Berlin:20240913T200000
DTEND;TZID=Europe/Berlin:20240913T230000
SUMMARY:O40 4. Liga Gr. 1 St. Gallen II vs Wolfhalden (0)
UID:8c13b8b9-a281-4076-8831-495fc72ef687
STATUS:CONFIRMED
LAST-MODIFIED:20240917T072751Z
DESCRIPTION:4. Liga O40 Gruppe 1\nBegegnungs-Nr: 0\nHeim: St. Gallen II\nGast: Wolfhalden\n\nAdresse: Zilstrasse 61\, 9016 St.Gallen\n
LOCATION:Zilstrasse 61\, 9016 St.Gallen
CATEGORIES:Saison 2024/25
END:VEVENT
BEGIN:VEVENT
DTSTAMP:20260425T021331Z
DTSTART;TZID=Europe/Berlin:20240815T200000
DTEND;TZID=Europe/Berlin:20240815T230000
SUMMARY:O40 4. Liga Gr. 1 Weinfelden vs Wolfhalden (0)
UID:01ffb96e-2d6d-48c2-beb2-299ddd28fad3
STATUS:CONFIRMED
LAST-MODIFIED:20240828T091657Z
DESCRIPTION:4. Liga O40 Gruppe 1\nBegegnungs-Nr: 0\nHeim: Weinfelden\nGast: Wolfhalden\n\nAdresse: Bleichestrasse 3 (neben Hallenbad)\, 8570 Weinfelden\n
LOCATION:Bleichestrasse 3 (neben Hallenbad)\, 8570 Weinfelden
CATEGORIES:Saison 2024/25
END:VEVENT
END:VCALENDAR
