BEGIN:VCALENDAR
PRODID:-//nuDatenautomaten//framework iCal4j //DE
VERSION:2.0
CALSCALE:GREGORIAN
BEGIN:VTIMEZONE
TZID:Europe/Berlin
LAST-MODIFIED:20260306T231828Z
TZURL:https://www.tzurl.org/zoneinfo/Europe/Berlin
X-LIC-LOCATION:Europe/Berlin
X-PROLEPTIC-TZNAME:LMT
BEGIN:STANDARD
TZNAME:CET
TZOFFSETFROM:+005328
TZOFFSETTO:+0100
DTSTART:18930401T000000
END:STANDARD
BEGIN:DAYLIGHT
TZNAME:CEST
TZOFFSETFROM:+0100
TZOFFSETTO:+0200
DTSTART:19160430T230000
RDATE:19400401T020000
RDATE:19430329T020000
RDATE:19460414T020000
RDATE:19470406T030000
RDATE:19480418T020000
RDATE:19490410T020000
RDATE:19800406T020000
END:DAYLIGHT
BEGIN:STANDARD
TZNAME:CET
TZOFFSETFROM:+0200
TZOFFSETTO:+0100
DTSTART:19161001T010000
RDATE:19421102T030000
RDATE:19431004T030000
RDATE:19441002T030000
RDATE:19451118T030000
RDATE:19461007T030000
END:STANDARD
BEGIN:DAYLIGHT
TZNAME:CEST
TZOFFSETFROM:+0100
TZOFFSETTO:+0200
DTSTART:19170416T020000
RRULE:FREQ=YEARLY;UNTIL=19180415T010000Z;BYMONTH=4;BYDAY=3MO
END:DAYLIGHT
BEGIN:STANDARD
TZNAME:CET
TZOFFSETFROM:+0200
TZOFFSETTO:+0100
DTSTART:19170917T030000
RRULE:FREQ=YEARLY;UNTIL=19180916T010000Z;BYMONTH=9;BYDAY=3MO
END:STANDARD
BEGIN:DAYLIGHT
TZNAME:CEST
TZOFFSETFROM:+0100
TZOFFSETTO:+0200
DTSTART:19440403T020000
RRULE:FREQ=YEARLY;UNTIL=19450402T010000Z;BYMONTH=4;BYDAY=1MO
END:DAYLIGHT
BEGIN:DAYLIGHT
TZNAME:CEMT
TZOFFSETFROM:+0200
TZOFFSETTO:+0300
DTSTART:19450524T020000
RDATE:19470511T030000
END:DAYLIGHT
BEGIN:DAYLIGHT
TZNAME:CEST
TZOFFSETFROM:+0300
TZOFFSETTO:+0200
DTSTART:19450924T030000
RDATE:19470629T030000
END:DAYLIGHT
BEGIN:STANDARD
TZNAME:CET
TZOFFSETFROM:+0100
TZOFFSETTO:+0100
DTSTART:19460101T000000
RDATE:19800101T000000
END:STANDARD
BEGIN:STANDARD
TZNAME:CET
TZOFFSETFROM:+0200
TZOFFSETTO:+0100
DTSTART:19471005T030000
RRULE:FREQ=YEARLY;UNTIL=19491002T010000Z;BYMONTH=10;BYDAY=1SU
END:STANDARD
BEGIN:STANDARD
TZNAME:CET
TZOFFSETFROM:+0200
TZOFFSETTO:+0100
DTSTART:19800928T030000
RRULE:FREQ=YEARLY;UNTIL=19950924T010000Z;BYMONTH=9;BYDAY=-1SU
END:STANDARD
BEGIN:DAYLIGHT
TZNAME:CEST
TZOFFSETFROM:+0100
TZOFFSETTO:+0200
DTSTART:19810329T020000
RRULE:FREQ=YEARLY;BYMONTH=3;BYDAY=-1SU
END:DAYLIGHT
BEGIN:STANDARD
TZNAME:CET
TZOFFSETFROM:+0200
TZOFFSETTO:+0100
DTSTART:19961027T030000
RRULE:FREQ=YEARLY;BYMONTH=10;BYDAY=-1SU
END:STANDARD
END:VTIMEZONE
BEGIN:VEVENT
DTSTAMP:20260425T004940Z
DTSTART;TZID=Europe/Berlin:20240831T130000
DTEND;TZID=Europe/Berlin:20240831T160000
SUMMARY:JUG\, 3.Liga\, Gr.3\, Vorrunde Bülach II vs Buchs Zürich (1)
UID:baff4171-c93a-40d0-9d1a-954d82824cca
STATUS:CONFIRMED
LAST-MODIFIED:20240904T131503Z
DESCRIPTION:Jugend\, 3. Liga\,Gruppe 3\, Vorrunde\nBegegnungs-Nr: 1\nHeim: Bülach II\nGast: Buchs Zürich\n
LOCATION:
CATEGORIES:Saison 2024/25
END:VEVENT
BEGIN:VEVENT
DTSTAMP:20260425T004940Z
DTSTART;TZID=Europe/Berlin:20240831T143000
DTEND;TZID=Europe/Berlin:20240831T173000
SUMMARY:JUG\, 3.Liga\, Gr.3\, Vorrunde Bülach II vs Dübendorf-Volketswil (4)
UID:b3045b4e-9f7d-499e-a418-fec3a55dd845
STATUS:CONFIRMED
LAST-MODIFIED:20240904T131604Z
DESCRIPTION:Jugend\, 3. Liga\,Gruppe 3\, Vorrunde\nBegegnungs-Nr: 4\nHeim: Bülach II\nGast: Dübendorf-Volketswil\n
LOCATION:
CATEGORIES:Saison 2024/25
END:VEVENT
BEGIN:VEVENT
DTSTAMP:20260425T004940Z
DTSTART;TZID=Europe/Berlin:20241116T130000
DTEND;TZID=Europe/Berlin:20241116T160000
SUMMARY:JUG\, 3.Liga\, Gr.3\, Zw-Runde Bülach II vs Romanshorn (1)
UID:242c9053-5363-4f34-aea7-b15195ae571f
STATUS:CONFIRMED
LAST-MODIFIED:20241122T153013Z
DESCRIPTION:Jugend\, 3. Liga\, Gruppe 3\, Zw-Runde\nBegegnungs-Nr: 1\nHeim: Bülach II\nGast: Romanshorn\n
LOCATION:
CATEGORIES:Saison 2024/25
END:VEVENT
BEGIN:VEVENT
DTSTAMP:20260425T004940Z
DTSTART;TZID=Europe/Berlin:20241116T143000
DTEND;TZID=Europe/Berlin:20241116T173000
SUMMARY:JUG\, 3.Liga\, Gr.3\, Zw-Runde Bülach II vs Zürich-Affoltern IV (4)
UID:2acb7da6-8b75-442c-9a4a-41867724327c
STATUS:CONFIRMED
LAST-MODIFIED:20241122T153045Z
DESCRIPTION:Jugend\, 3. Liga\, Gruppe 3\, Zw-Runde\nBegegnungs-Nr: 4\nHeim: Bülach II\nGast: Zürich-Affoltern IV\n
LOCATION:
CATEGORIES:Saison 2024/25
END:VEVENT
BEGIN:VEVENT
DTSTAMP:20260425T004940Z
DTSTART;TZID=Europe/Berlin:20250329T160000
DTEND;TZID=Europe/Berlin:20250329T190000
SUMMARY:JUG\, 3.Liga\, Gr.4\, Final Bülach II vs Wetzikon II (6)
UID:2756ab04-82de-4ccb-a374-626f7ce0e017
STATUS:CONFIRMED
LAST-MODIFIED:20250404T085413Z
DESCRIPTION:Jugend\, 3. Liga\, Gruppe 4\, Final\nBegegnungs-Nr: 6\nHeim: Bülach II\nGast: Wetzikon II\n\nAdresse: Schwerzgruebstrasse 28\, 8180 Bülach\n
LOCATION:Schwerzgruebstrasse 28\, 8180 Bülach
CATEGORIES:Saison 2024/25
END:VEVENT
BEGIN:VEVENT
DTSTAMP:20260425T004940Z
DTSTART;TZID=Europe/Berlin:20240831T160000
DTEND;TZID=Europe/Berlin:20240831T190000
SUMMARY:JUG\, 3.Liga\, Gr.3\, Vorrunde Neuhausen III vs Bülach II (6)
UID:d51bda35-8cbf-42b1-85d5-eab9111d76d6
STATUS:CONFIRMED
LAST-MODIFIED:20240904T131641Z
DESCRIPTION:Jugend\, 3. Liga\,Gruppe 3\, Vorrunde\nBegegnungs-Nr: 6\nHeim: Neuhausen III\nGast: Bülach II\n
LOCATION:
CATEGORIES:Saison 2024/25
END:VEVENT
BEGIN:VEVENT
DTSTAMP:20260425T004940Z
DTSTART;TZID=Europe/Berlin:20241116T160000
DTEND;TZID=Europe/Berlin:20241116T190000
SUMMARY:JUG\, 3.Liga\, Gr.3\, Zw-Runde Urdorf vs Bülach II (6)
UID:a0f55fd0-f205-4bd5-99c0-34f4932a4eed
STATUS:CONFIRMED
LAST-MODIFIED:20241122T153104Z
DESCRIPTION:Jugend\, 3. Liga\, Gruppe 3\, Zw-Runde\nBegegnungs-Nr: 6\nHeim: Urdorf\nGast: Bülach II\n
LOCATION:
CATEGORIES:Saison 2024/25
END:VEVENT
BEGIN:VEVENT
DTSTAMP:20260425T004940Z
DTSTART;TZID=Europe/Berlin:20250329T143000
DTEND;TZID=Europe/Berlin:20250329T173000
SUMMARY:JUG\, 3.Liga\, Gr.4\, Final Rapperswil-Jona III vs Bülach II (3)
UID:45dbd5b9-a865-4071-82df-acc3ab3621e8
STATUS:CONFIRMED
LAST-MODIFIED:20250404T085354Z
DESCRIPTION:Jugend\, 3. Liga\, Gruppe 4\, Final\nBegegnungs-Nr: 3\nHeim: Rapperswil-Jona III\nGast: Bülach II\n\nAdresse: Kreuzstrasse 43\, 8640 Rapperswil\n
LOCATION:Kreuzstrasse 43\, 8640 Rapperswil
CATEGORIES:Saison 2024/25
END:VEVENT
BEGIN:VEVENT
DTSTAMP:20260425T004940Z
DTSTART;TZID=Europe/Berlin:20250329T130000
DTEND;TZID=Europe/Berlin:20250329T160000
SUMMARY:JUG\, 3.Liga\, Gr.4\, Final Ettenhausen vs Bülach II (2)
UID:bf40b9aa-a134-4f85-9dba-9b13d0988502
STATUS:CONFIRMED
LAST-MODIFIED:20250506T143014Z
DESCRIPTION:Jugend\, 3. Liga\, Gruppe 4\, Final\nBegegnungs-Nr: 2\nHeim: Ettenhausen\nGast: Bülach II\n\nAdresse: Weidlistrasse 12\, 8356 Ettenhausen\n
LOCATION:Weidlistrasse 12\, 8356 Ettenhausen
CATEGORIES:Saison 2024/25
END:VEVENT
END:VCALENDAR
