BEGIN:VCALENDAR
PRODID:-//nuDatenautomaten//framework iCal4j //DE
VERSION:2.0
CALSCALE:GREGORIAN
BEGIN:VTIMEZONE
TZID:Europe/Berlin
LAST-MODIFIED:20260306T231828Z
TZURL:https://www.tzurl.org/zoneinfo/Europe/Berlin
X-LIC-LOCATION:Europe/Berlin
X-PROLEPTIC-TZNAME:LMT
BEGIN:STANDARD
TZNAME:CET
TZOFFSETFROM:+005328
TZOFFSETTO:+0100
DTSTART:18930401T000000
END:STANDARD
BEGIN:DAYLIGHT
TZNAME:CEST
TZOFFSETFROM:+0100
TZOFFSETTO:+0200
DTSTART:19160430T230000
RDATE:19400401T020000
RDATE:19430329T020000
RDATE:19460414T020000
RDATE:19470406T030000
RDATE:19480418T020000
RDATE:19490410T020000
RDATE:19800406T020000
END:DAYLIGHT
BEGIN:STANDARD
TZNAME:CET
TZOFFSETFROM:+0200
TZOFFSETTO:+0100
DTSTART:19161001T010000
RDATE:19421102T030000
RDATE:19431004T030000
RDATE:19441002T030000
RDATE:19451118T030000
RDATE:19461007T030000
END:STANDARD
BEGIN:DAYLIGHT
TZNAME:CEST
TZOFFSETFROM:+0100
TZOFFSETTO:+0200
DTSTART:19170416T020000
RRULE:FREQ=YEARLY;UNTIL=19180415T010000Z;BYMONTH=4;BYDAY=3MO
END:DAYLIGHT
BEGIN:STANDARD
TZNAME:CET
TZOFFSETFROM:+0200
TZOFFSETTO:+0100
DTSTART:19170917T030000
RRULE:FREQ=YEARLY;UNTIL=19180916T010000Z;BYMONTH=9;BYDAY=3MO
END:STANDARD
BEGIN:DAYLIGHT
TZNAME:CEST
TZOFFSETFROM:+0100
TZOFFSETTO:+0200
DTSTART:19440403T020000
RRULE:FREQ=YEARLY;UNTIL=19450402T010000Z;BYMONTH=4;BYDAY=1MO
END:DAYLIGHT
BEGIN:DAYLIGHT
TZNAME:CEMT
TZOFFSETFROM:+0200
TZOFFSETTO:+0300
DTSTART:19450524T020000
RDATE:19470511T030000
END:DAYLIGHT
BEGIN:DAYLIGHT
TZNAME:CEST
TZOFFSETFROM:+0300
TZOFFSETTO:+0200
DTSTART:19450924T030000
RDATE:19470629T030000
END:DAYLIGHT
BEGIN:STANDARD
TZNAME:CET
TZOFFSETFROM:+0100
TZOFFSETTO:+0100
DTSTART:19460101T000000
RDATE:19800101T000000
END:STANDARD
BEGIN:STANDARD
TZNAME:CET
TZOFFSETFROM:+0200
TZOFFSETTO:+0100
DTSTART:19471005T030000
RRULE:FREQ=YEARLY;UNTIL=19491002T010000Z;BYMONTH=10;BYDAY=1SU
END:STANDARD
BEGIN:STANDARD
TZNAME:CET
TZOFFSETFROM:+0200
TZOFFSETTO:+0100
DTSTART:19800928T030000
RRULE:FREQ=YEARLY;UNTIL=19950924T010000Z;BYMONTH=9;BYDAY=-1SU
END:STANDARD
BEGIN:DAYLIGHT
TZNAME:CEST
TZOFFSETFROM:+0100
TZOFFSETTO:+0200
DTSTART:19810329T020000
RRULE:FREQ=YEARLY;BYMONTH=3;BYDAY=-1SU
END:DAYLIGHT
BEGIN:STANDARD
TZNAME:CET
TZOFFSETFROM:+0200
TZOFFSETTO:+0100
DTSTART:19961027T030000
RRULE:FREQ=YEARLY;BYMONTH=10;BYDAY=-1SU
END:STANDARD
END:VTIMEZONE
BEGIN:VEVENT
DTSTAMP:20260425T004944Z
DTSTART;TZID=Europe/Berlin:20241203T200000
DTEND;TZID=Europe/Berlin:20241203T230000
SUMMARY:HE 6. Liga Gr. 3 Weinfelden V vs Wallenwil IV (0)
UID:3f67833b-5ccb-4ff7-88c3-43ae55fa2b65
STATUS:CONFIRMED
LAST-MODIFIED:20241205T125818Z
DESCRIPTION:6. Liga Herren Gruppe 3\nBegegnungs-Nr: 0\nHeim: Weinfelden V\nGast: Wallenwil IV\n\nAdresse: Bleichestrasse 3 (neben Hallenbad)\, 8570 Weinfelden\n
LOCATION:Bleichestrasse 3 (neben Hallenbad)\, 8570 Weinfelden
CATEGORIES:Saison 2024/25
END:VEVENT
BEGIN:VEVENT
DTSTAMP:20260425T004944Z
DTSTART;TZID=Europe/Berlin:20241029T200000
DTEND;TZID=Europe/Berlin:20241029T230000
SUMMARY:HE 6. Liga Gr. 3 Weinfelden V vs Bronschhofen IV (0)
UID:4a3df096-6ef5-4367-8f82-ff88bf759654
STATUS:CONFIRMED
LAST-MODIFIED:20241030T124054Z
DESCRIPTION:6. Liga Herren Gruppe 3\nBegegnungs-Nr: 0\nHeim: Weinfelden V\nGast: Bronschhofen IV\n\nAdresse: Bleichestrasse 3 (neben Hallenbad)\, 8570 Weinfelden\n
LOCATION:Bleichestrasse 3 (neben Hallenbad)\, 8570 Weinfelden
CATEGORIES:Saison 2024/25
END:VEVENT
BEGIN:VEVENT
DTSTAMP:20260425T004944Z
DTSTART;TZID=Europe/Berlin:20240827T200000
DTEND;TZID=Europe/Berlin:20240827T230000
SUMMARY:HE 6. Liga Gr. 3 Weinfelden V vs Steckborn-Homburg VI (0)
UID:2e7d0be7-0ec8-4d9d-bd48-e9e8d2f0d7d0
STATUS:CONFIRMED
LAST-MODIFIED:20240828T084215Z
DESCRIPTION:6. Liga Herren Gruppe 3\nBegegnungs-Nr: 0\nHeim: Weinfelden V\nGast: Steckborn-Homburg VI\n\nAdresse: Bleichestrasse 3 (neben Hallenbad)\, 8570 Weinfelden\n
LOCATION:Bleichestrasse 3 (neben Hallenbad)\, 8570 Weinfelden
CATEGORIES:Saison 2024/25
END:VEVENT
BEGIN:VEVENT
DTSTAMP:20260425T004944Z
DTSTART;TZID=Europe/Berlin:20240917T200000
DTEND;TZID=Europe/Berlin:20240917T230000
SUMMARY:HE 6. Liga Gr. 3 Weinfelden V vs Schlatt II (0)
UID:13665bd8-4c5f-4526-ade7-e799294f8596
STATUS:CONFIRMED
LAST-MODIFIED:20240918T102128Z
DESCRIPTION:6. Liga Herren Gruppe 3\nBegegnungs-Nr: 0\nHeim: Weinfelden V\nGast: Schlatt II\n\nAdresse: Bleichestrasse 3 (neben Hallenbad)\, 8570 Weinfelden\n
LOCATION:Bleichestrasse 3 (neben Hallenbad)\, 8570 Weinfelden
CATEGORIES:Saison 2024/25
END:VEVENT
BEGIN:VEVENT
DTSTAMP:20260425T004944Z
DTSTART;TZID=Europe/Berlin:20240820T200000
DTEND;TZID=Europe/Berlin:20240820T230000
SUMMARY:HE 6. Liga Gr. 3 Weinfelden V vs Weinfelden III (0)
UID:22a6446b-4442-4b21-a622-c0bcb5d9c582
STATUS:CONFIRMED
LAST-MODIFIED:20240828T084146Z
DESCRIPTION:6. Liga Herren Gruppe 3\nBegegnungs-Nr: 0\nHeim: Weinfelden V\nGast: Weinfelden III\n\nAdresse: Bleichestrasse 3 (neben Hallenbad)\, 8570 Weinfelden\n
LOCATION:Bleichestrasse 3 (neben Hallenbad)\, 8570 Weinfelden
CATEGORIES:Saison 2024/25
END:VEVENT
BEGIN:VEVENT
DTSTAMP:20260425T004944Z
DTSTART;TZID=Europe/Berlin:20250311T200000
DTEND;TZID=Europe/Berlin:20250311T230000
SUMMARY:HE 6. Liga Gr. 3 Weinfelden V vs Imperial Winterthur III (0)
UID:7a4d03a2-fbb3-42f1-91e9-3f8f7578826e
STATUS:CONFIRMED
LAST-MODIFIED:20250312T145944Z
DESCRIPTION:6. Liga Herren Gruppe 3\nBegegnungs-Nr: 0\nHeim: Weinfelden V\nGast: Imperial Winterthur III\n\nAdresse: Bleichestrasse 3 (neben Hallenbad)\, 8570 Weinfelden\n
LOCATION:Bleichestrasse 3 (neben Hallenbad)\, 8570 Weinfelden
CATEGORIES:Saison 2024/25
END:VEVENT
BEGIN:VEVENT
DTSTAMP:20260425T004944Z
DTSTART;TZID=Europe/Berlin:20250121T200000
DTEND;TZID=Europe/Berlin:20250121T230000
SUMMARY:HE 6. Liga Gr. 3 Weinfelden V vs Wuppenau III (0)
UID:dc1d7e5b-4933-479b-b988-40f535a62886
STATUS:CONFIRMED
LAST-MODIFIED:20250123T083944Z
DESCRIPTION:6. Liga Herren Gruppe 3\nBegegnungs-Nr: 0\nHeim: Weinfelden V\nGast: Wuppenau III\n\nAdresse: Bleichestrasse 3 (neben Hallenbad)\, 8570 Weinfelden\n
LOCATION:Bleichestrasse 3 (neben Hallenbad)\, 8570 Weinfelden
CATEGORIES:Saison 2024/25
END:VEVENT
BEGIN:VEVENT
DTSTAMP:20260425T004944Z
DTSTART;TZID=Europe/Berlin:20241104T200000
DTEND;TZID=Europe/Berlin:20241104T230000
SUMMARY:HE 6. Liga Gr. 3 Imperial Winterthur III vs Weinfelden V (0)
UID:14ef1f9e-5ef6-4836-8cb7-290d55ab13a0
STATUS:CONFIRMED
LAST-MODIFIED:20241108T150351Z
DESCRIPTION:6. Liga Herren Gruppe 3\nBegegnungs-Nr: 0\nHeim: Imperial Winterthur III\nGast: Weinfelden V\n\nAdresse: Büelhofstrasse 25a\, 8405 Winterthur\n
LOCATION:Büelhofstrasse 25a\, 8405 Winterthur
CATEGORIES:Saison 2024/25
END:VEVENT
BEGIN:VEVENT
DTSTAMP:20260425T004944Z
DTSTART;TZID=Europe/Berlin:20240920T200000
DTEND;TZID=Europe/Berlin:20240920T230000
SUMMARY:HE 6. Liga Gr. 3 Wuppenau III vs Weinfelden V (0)
UID:3b7a3d86-f82b-4caa-a105-da16b51f674e
STATUS:CONFIRMED
LAST-MODIFIED:20240926T115242Z
DESCRIPTION:6. Liga Herren Gruppe 3\nBegegnungs-Nr: 0\nHeim: Wuppenau III\nGast: Weinfelden V\n\nAdresse: Nollenstrasse\, 9514 Wuppenau\n
LOCATION:Nollenstrasse\, 9514 Wuppenau
CATEGORIES:Saison 2024/25
END:VEVENT
BEGIN:VEVENT
DTSTAMP:20260425T004944Z
DTSTART;TZID=Europe/Berlin:20250324T201500
DTEND;TZID=Europe/Berlin:20250324T231500
SUMMARY:HE 6. Liga Gr. 3 Wallenwil IV vs Weinfelden V (0)
UID:4061430b-c380-436c-a7dd-8ae2bf5875dc
STATUS:CONFIRMED
LAST-MODIFIED:20250327T134435Z
DESCRIPTION:6. Liga Herren Gruppe 3\nBegegnungs-Nr: 0\nHeim: Wallenwil IV\nGast: Weinfelden V\n\nAdresse: Stationsstrasse 29\, 8360 Wallenwil\n
LOCATION:Stationsstrasse 29\, 8360 Wallenwil
CATEGORIES:Saison 2024/25
END:VEVENT
BEGIN:VEVENT
DTSTAMP:20260425T004944Z
DTSTART;TZID=Europe/Berlin:20250226T200000
DTEND;TZID=Europe/Berlin:20250226T230000
SUMMARY:HE 6. Liga Gr. 3 Bronschhofen IV vs Weinfelden V (0)
UID:9815eae0-9670-490e-b856-8ed5c70fab77
STATUS:CONFIRMED
LAST-MODIFIED:20250227T113031Z
DESCRIPTION:6. Liga Herren Gruppe 3\nBegegnungs-Nr: 0\nHeim: Bronschhofen IV\nGast: Weinfelden V\n\nAdresse: Industriestrasse 4\, 9552 Bronschhofen\n
LOCATION:Industriestrasse 4\, 9552 Bronschhofen
CATEGORIES:Saison 2024/25
END:VEVENT
BEGIN:VEVENT
DTSTAMP:20260425T004944Z
DTSTART;TZID=Europe/Berlin:20250214T194500
DTEND;TZID=Europe/Berlin:20250214T224500
SUMMARY:HE 6. Liga Gr. 3 Steckborn-Homburg VI vs Weinfelden V (0)
UID:4a52e8f7-064f-401d-9ed6-68f9550892ac
STATUS:CONFIRMED
LAST-MODIFIED:20250219T133128Z
DESCRIPTION:6. Liga Herren Gruppe 3\nBegegnungs-Nr: 0\nHeim: Steckborn-Homburg VI\nGast: Weinfelden V\n\nAdresse: Schulstrasse 4\, 8508 Unterhörstetten\n
LOCATION:Schulstrasse 4\, 8508 Unterhörstetten
CATEGORIES:Saison 2024/25
END:VEVENT
BEGIN:VEVENT
DTSTAMP:20260425T004944Z
DTSTART;TZID=Europe/Berlin:20250217T193000
DTEND;TZID=Europe/Berlin:20250217T223000
SUMMARY:HE 6. Liga Gr. 3 Schlatt II vs Weinfelden V (0)
UID:b53868f9-eac1-4b0c-8c09-f102c74f6003
STATUS:CONFIRMED
LAST-MODIFIED:20250219T133154Z
DESCRIPTION:6. Liga Herren Gruppe 3\nBegegnungs-Nr: 0\nHeim: Schlatt II\nGast: Weinfelden V\n\nAdresse: Waltersteinerstrasse 79\, 8418 Schlatt ZH\n
LOCATION:Waltersteinerstrasse 79\, 8418 Schlatt ZH
CATEGORIES:Saison 2024/25
END:VEVENT
BEGIN:VEVENT
DTSTAMP:20260425T004944Z
DTSTART;TZID=Europe/Berlin:20250110T200000
DTEND;TZID=Europe/Berlin:20250110T230000
SUMMARY:HE 6. Liga Gr. 3 Weinfelden III vs Weinfelden V (0)
UID:9d61bcfd-b0a9-438d-9318-19058bd29df9
STATUS:CONFIRMED
LAST-MODIFIED:20250114T092028Z
DESCRIPTION:6. Liga Herren Gruppe 3\nBegegnungs-Nr: 0\nHeim: Weinfelden III\nGast: Weinfelden V\n\nAdresse: Bleichestrasse 3 (neben Hallenbad)\, 8570 Weinfelden\n
LOCATION:Bleichestrasse 3 (neben Hallenbad)\, 8570 Weinfelden
CATEGORIES:Saison 2024/25
END:VEVENT
END:VCALENDAR
