BEGIN:VCALENDAR
PRODID:-//nuDatenautomaten//framework iCal4j //DE
VERSION:2.0
CALSCALE:GREGORIAN
BEGIN:VTIMEZONE
TZID:Europe/Berlin
LAST-MODIFIED:20260306T231828Z
TZURL:https://www.tzurl.org/zoneinfo/Europe/Berlin
X-LIC-LOCATION:Europe/Berlin
X-PROLEPTIC-TZNAME:LMT
BEGIN:STANDARD
TZNAME:CET
TZOFFSETFROM:+005328
TZOFFSETTO:+0100
DTSTART:18930401T000000
END:STANDARD
BEGIN:DAYLIGHT
TZNAME:CEST
TZOFFSETFROM:+0100
TZOFFSETTO:+0200
DTSTART:19160430T230000
RDATE:19400401T020000
RDATE:19430329T020000
RDATE:19460414T020000
RDATE:19470406T030000
RDATE:19480418T020000
RDATE:19490410T020000
RDATE:19800406T020000
END:DAYLIGHT
BEGIN:STANDARD
TZNAME:CET
TZOFFSETFROM:+0200
TZOFFSETTO:+0100
DTSTART:19161001T010000
RDATE:19421102T030000
RDATE:19431004T030000
RDATE:19441002T030000
RDATE:19451118T030000
RDATE:19461007T030000
END:STANDARD
BEGIN:DAYLIGHT
TZNAME:CEST
TZOFFSETFROM:+0100
TZOFFSETTO:+0200
DTSTART:19170416T020000
RRULE:FREQ=YEARLY;UNTIL=19180415T010000Z;BYMONTH=4;BYDAY=3MO
END:DAYLIGHT
BEGIN:STANDARD
TZNAME:CET
TZOFFSETFROM:+0200
TZOFFSETTO:+0100
DTSTART:19170917T030000
RRULE:FREQ=YEARLY;UNTIL=19180916T010000Z;BYMONTH=9;BYDAY=3MO
END:STANDARD
BEGIN:DAYLIGHT
TZNAME:CEST
TZOFFSETFROM:+0100
TZOFFSETTO:+0200
DTSTART:19440403T020000
RRULE:FREQ=YEARLY;UNTIL=19450402T010000Z;BYMONTH=4;BYDAY=1MO
END:DAYLIGHT
BEGIN:DAYLIGHT
TZNAME:CEMT
TZOFFSETFROM:+0200
TZOFFSETTO:+0300
DTSTART:19450524T020000
RDATE:19470511T030000
END:DAYLIGHT
BEGIN:DAYLIGHT
TZNAME:CEST
TZOFFSETFROM:+0300
TZOFFSETTO:+0200
DTSTART:19450924T030000
RDATE:19470629T030000
END:DAYLIGHT
BEGIN:STANDARD
TZNAME:CET
TZOFFSETFROM:+0100
TZOFFSETTO:+0100
DTSTART:19460101T000000
RDATE:19800101T000000
END:STANDARD
BEGIN:STANDARD
TZNAME:CET
TZOFFSETFROM:+0200
TZOFFSETTO:+0100
DTSTART:19471005T030000
RRULE:FREQ=YEARLY;UNTIL=19491002T010000Z;BYMONTH=10;BYDAY=1SU
END:STANDARD
BEGIN:STANDARD
TZNAME:CET
TZOFFSETFROM:+0200
TZOFFSETTO:+0100
DTSTART:19800928T030000
RRULE:FREQ=YEARLY;UNTIL=19950924T010000Z;BYMONTH=9;BYDAY=-1SU
END:STANDARD
BEGIN:DAYLIGHT
TZNAME:CEST
TZOFFSETFROM:+0100
TZOFFSETTO:+0200
DTSTART:19810329T020000
RRULE:FREQ=YEARLY;BYMONTH=3;BYDAY=-1SU
END:DAYLIGHT
BEGIN:STANDARD
TZNAME:CET
TZOFFSETFROM:+0200
TZOFFSETTO:+0100
DTSTART:19961027T030000
RRULE:FREQ=YEARLY;BYMONTH=10;BYDAY=-1SU
END:STANDARD
END:VTIMEZONE
BEGIN:VEVENT
DTSTAMP:20260419T231518Z
DTSTART;TZID=Europe/Berlin:20240925T193000
DTEND;TZID=Europe/Berlin:20240925T223000
SUMMARY:L5P1 Val-de-Ruz V vs Hauterive II (0)
UID:82bdf812-8a7b-4066-93e7-7358bbccbda2
STATUS:CONFIRMED
LAST-MODIFIED:20241003T090205Z
DESCRIPTION:5ème ligue phase 1\nBegegnungs-Nr: 0\nHeim: Val-de-Ruz V\nGast: Hauterive II\n\nAdresse: Rue de Chasseral 3\, 2053 Cernier\n
LOCATION:Rue de Chasseral 3\, 2053 Cernier
CATEGORIES:Saison 2024/25
END:VEVENT
BEGIN:VEVENT
DTSTAMP:20260419T231518Z
DTSTART;TZID=Europe/Berlin:20241115T193000
DTEND;TZID=Europe/Berlin:20241115T223000
SUMMARY:L5P1 Val-de-Ruz V vs Cortaillod IV (0)
UID:64549baf-47cc-4e99-82fc-09e09f268091
STATUS:CONFIRMED
LAST-MODIFIED:20241122T115522Z
DESCRIPTION:5ème ligue phase 1\nBegegnungs-Nr: 0\nHeim: Val-de-Ruz V\nGast: Cortaillod IV\n\nAdresse: Rue de Chasseral 3\, 2053 Cernier\n
LOCATION:Rue de Chasseral 3\, 2053 Cernier
CATEGORIES:Saison 2024/25
END:VEVENT
BEGIN:VEVENT
DTSTAMP:20260419T231518Z
DTSTART;TZID=Europe/Berlin:20240906T193000
DTEND;TZID=Europe/Berlin:20240906T223000
SUMMARY:L5P1 Val-de-Ruz V vs Omega IV (0)
UID:6da7c70b-5049-4118-826e-f76d93eb524b
STATUS:CONFIRMED
LAST-MODIFIED:20240924T160549Z
DESCRIPTION:5ème ligue phase 1\nBegegnungs-Nr: 0\nHeim: Val-de-Ruz V\nGast: Omega IV\n\nAdresse: Rue de Chasseral 3\, 2053 Cernier\n
LOCATION:Rue de Chasseral 3\, 2053 Cernier
CATEGORIES:Saison 2024/25
END:VEVENT
BEGIN:VEVENT
DTSTAMP:20260419T231518Z
DTSTART;TZID=Europe/Berlin:20241108T193000
DTEND;TZID=Europe/Berlin:20241108T223000
SUMMARY:L5P1 Val-de-Ruz V vs Omega V (0)
UID:0f897f9b-7ab3-4df5-888a-417fbc23aa63
STATUS:CONFIRMED
LAST-MODIFIED:20241112T192559Z
DESCRIPTION:5ème ligue phase 1\nBegegnungs-Nr: 0\nHeim: Val-de-Ruz V\nGast: Omega V\n\nAdresse: Rue de Chasseral 3\, 2053 Cernier\n
LOCATION:Rue de Chasseral 3\, 2053 Cernier
CATEGORIES:Saison 2024/25
END:VEVENT
BEGIN:VEVENT
DTSTAMP:20260419T231518Z
DTSTART;TZID=Europe/Berlin:20250124T193000
DTEND;TZID=Europe/Berlin:20250124T223000
SUMMARY:L4P2 Val-de-Ruz V vs Entente Pongiste Neuchâteloise V (0)
UID:0794b5aa-d95b-4bd6-bd6a-0c8b2f0acb0b
STATUS:CONFIRMED
LAST-MODIFIED:20250128T152040Z
DESCRIPTION:4ème ligue phase 2\nBegegnungs-Nr: 0\nHeim: Val-de-Ruz V\nGast: Entente Pongiste Neuchâteloise V\n\nAdresse: Rue de Chasseral 3\, 2053 Cernier\n
LOCATION:Rue de Chasseral 3\, 2053 Cernier
CATEGORIES:Saison 2024/25
END:VEVENT
BEGIN:VEVENT
DTSTAMP:20260419T231518Z
DTSTART;TZID=Europe/Berlin:20250221T193000
DTEND;TZID=Europe/Berlin:20250221T223000
SUMMARY:L4P2 Val-de-Ruz V vs Delémont III (0)
UID:bedc8de6-fa15-409e-95e5-e648969b6131
STATUS:CONFIRMED
LAST-MODIFIED:20250224T144410Z
DESCRIPTION:4ème ligue phase 2\nBegegnungs-Nr: 0\nHeim: Val-de-Ruz V\nGast: Delémont III\n\nAdresse: Rue de Chasseral 3\, 2053 Cernier\n
LOCATION:Rue de Chasseral 3\, 2053 Cernier
CATEGORIES:Saison 2024/25
END:VEVENT
BEGIN:VEVENT
DTSTAMP:20260419T231518Z
DTSTART;TZID=Europe/Berlin:20250328T193000
DTEND;TZID=Europe/Berlin:20250328T223000
SUMMARY:L4P2 Val-de-Ruz V vs Omega III (0)
UID:bb4a7904-1d1d-497f-a3db-2532d35ec2f4
STATUS:CONFIRMED
LAST-MODIFIED:20250404T075719Z
DESCRIPTION:4ème ligue phase 2\nBegegnungs-Nr: 0\nHeim: Val-de-Ruz V\nGast: Omega III\n\nAdresse: Rue de Chasseral 3\, 2053 Cernier\n
LOCATION:Rue de Chasseral 3\, 2053 Cernier
CATEGORIES:Saison 2024/25
END:VEVENT
BEGIN:VEVENT
DTSTAMP:20260419T231518Z
DTSTART;TZID=Europe/Berlin:20241206T200000
DTEND;TZID=Europe/Berlin:20241206T230000
SUMMARY:L5P1 Moutier III vs Val-de-Ruz V (0)
UID:c6f0253f-bad4-46e7-a64d-526660cc4656
STATUS:CONFIRMED
LAST-MODIFIED:20241210T100000Z
DESCRIPTION:5ème ligue phase 1\nBegegnungs-Nr: 0\nHeim: Moutier III\nGast: Val-de-Ruz V\n\nAdresse: Place Beseran\, 2740 Moutier\n
LOCATION:Place Beseran\, 2740 Moutier
CATEGORIES:Saison 2024/25
END:VEVENT
BEGIN:VEVENT
DTSTAMP:20260419T231518Z
DTSTART;TZID=Europe/Berlin:20241213T200000
DTEND;TZID=Europe/Berlin:20241213T230000
SUMMARY:L5P1 Entente Pongiste Neuchâteloise V vs Val-de-Ruz V (0)
UID:e952e82a-15fb-4ae7-854b-dfd55f127ef0
STATUS:CONFIRMED
LAST-MODIFIED:20241219T061753Z
DESCRIPTION:5ème ligue phase 1\nBegegnungs-Nr: 0\nHeim: Entente Pongiste Neuchâteloise V\nGast: Val-de-Ruz V\n\nAdresse: Allée du 700e\, 2525 Le Landeron\n
LOCATION:Allée du 700e\, 2525 Le Landeron
CATEGORIES:Saison 2024/25
END:VEVENT
BEGIN:VEVENT
DTSTAMP:20260419T231518Z
DTSTART;TZID=Europe/Berlin:20241127T200000
DTEND;TZID=Europe/Berlin:20241127T230000
SUMMARY:L5P1 Tramelan IV vs Val-de-Ruz V (0)
UID:502deaa6-49f3-4131-975c-4c5f3a29fb26
STATUS:CONFIRMED
LAST-MODIFIED:20241129T082152Z
DESCRIPTION:5ème ligue phase 1\nBegegnungs-Nr: 0\nHeim: Tramelan IV\nGast: Val-de-Ruz V\n\nAdresse: Rue du Collège 13\, 2720 Tramelan\n
LOCATION:Rue du Collège 13\, 2720 Tramelan
CATEGORIES:Saison 2024/25
END:VEVENT
BEGIN:VEVENT
DTSTAMP:20260419T231518Z
DTSTART;TZID=Europe/Berlin:20241004T201500
DTEND;TZID=Europe/Berlin:20241004T231500
SUMMARY:L5P1 Delémont V vs Val-de-Ruz V (0)
UID:b9a4c033-df61-4778-a6fe-2c6b27d19085
STATUS:CONFIRMED
LAST-MODIFIED:20241014T073845Z
DESCRIPTION:5ème ligue phase 1\nBegegnungs-Nr: 0\nHeim: Delémont V\nGast: Val-de-Ruz V\n\nAdresse: Rue de la Blancherie 4\, 2800 Delémont\n
LOCATION:Rue de la Blancherie 4\, 2800 Delémont
CATEGORIES:Saison 2024/25
END:VEVENT
BEGIN:VEVENT
DTSTAMP:20260419T231518Z
DTSTART;TZID=Europe/Berlin:20250212T193000
DTEND;TZID=Europe/Berlin:20250212T223000
SUMMARY:L4P2 Hauterive vs Val-de-Ruz V (0)
UID:d6141bd5-e9fe-4951-b92f-58295bfdd58c
STATUS:CONFIRMED
LAST-MODIFIED:20250214T150811Z
DESCRIPTION:4ème ligue phase 2\nBegegnungs-Nr: 0\nHeim: Hauterive\nGast: Val-de-Ruz V\n\nAdresse: Rue des Longschamps 10\, 2068 Hauterive NE\n
LOCATION:Rue des Longschamps 10\, 2068 Hauterive NE
CATEGORIES:Saison 2024/25
END:VEVENT
BEGIN:VEVENT
DTSTAMP:20260419T231518Z
DTSTART;TZID=Europe/Berlin:20250311T194500
DTEND;TZID=Europe/Berlin:20250311T224500
SUMMARY:L4P2 Tavannes vs Val-de-Ruz V (0)
UID:ab55dda8-9cbc-4d70-8f1a-316c58ba1f3a
STATUS:CONFIRMED
LAST-MODIFIED:20250313T074844Z
DESCRIPTION:4ème ligue phase 2\nBegegnungs-Nr: 0\nHeim: Tavannes\nGast: Val-de-Ruz V\n\nAdresse: Sources 1\, 2710 Tavannes\n
LOCATION:Sources 1\, 2710 Tavannes
CATEGORIES:Saison 2024/25
END:VEVENT
BEGIN:VEVENT
DTSTAMP:20260419T231518Z
DTSTART;TZID=Europe/Berlin:20250411T200000
DTEND;TZID=Europe/Berlin:20250411T230000
SUMMARY:L4P2 Cortaillod IV vs Val-de-Ruz V (0)
UID:da0a2b06-9d94-4132-894d-887bf92567f4
STATUS:CONFIRMED
LAST-MODIFIED:20250413T125607Z
DESCRIPTION:4ème ligue phase 2\nBegegnungs-Nr: 0\nHeim: Cortaillod IV\nGast: Val-de-Ruz V\n\nAdresse: Coteaux 1\, 2016 Cortaillod\n
LOCATION:Coteaux 1\, 2016 Cortaillod
CATEGORIES:Saison 2024/25
END:VEVENT
BEGIN:VEVENT
DTSTAMP:20260419T231518Z
DTSTART;TZID=Europe/Berlin:20250429T193000
DTEND;TZID=Europe/Berlin:20250429T223000
SUMMARY:L4P2 Delémont IV vs Val-de-Ruz V (0)
UID:4bfe75d0-e083-49c7-b4f0-aba5d2d621cb
STATUS:CONFIRMED
LAST-MODIFIED:20250501T051252Z
DESCRIPTION:4ème ligue phase 2\nBegegnungs-Nr: 0\nHeim: Delémont IV\nGast: Val-de-Ruz V\n\nAdresse: Rue de la Blancherie 4\, 2800 Delémont\n
LOCATION:Rue de la Blancherie 4\, 2800 Delémont
CATEGORIES:Saison 2024/25
END:VEVENT
END:VCALENDAR
