BEGIN:VCALENDAR
PRODID:-//nuDatenautomaten//framework iCal4j //DE
VERSION:2.0
CALSCALE:GREGORIAN
BEGIN:VTIMEZONE
TZID:Europe/Berlin
LAST-MODIFIED:20260306T231828Z
TZURL:https://www.tzurl.org/zoneinfo/Europe/Berlin
X-LIC-LOCATION:Europe/Berlin
X-PROLEPTIC-TZNAME:LMT
BEGIN:STANDARD
TZNAME:CET
TZOFFSETFROM:+005328
TZOFFSETTO:+0100
DTSTART:18930401T000000
END:STANDARD
BEGIN:DAYLIGHT
TZNAME:CEST
TZOFFSETFROM:+0100
TZOFFSETTO:+0200
DTSTART:19160430T230000
RDATE:19400401T020000
RDATE:19430329T020000
RDATE:19460414T020000
RDATE:19470406T030000
RDATE:19480418T020000
RDATE:19490410T020000
RDATE:19800406T020000
END:DAYLIGHT
BEGIN:STANDARD
TZNAME:CET
TZOFFSETFROM:+0200
TZOFFSETTO:+0100
DTSTART:19161001T010000
RDATE:19421102T030000
RDATE:19431004T030000
RDATE:19441002T030000
RDATE:19451118T030000
RDATE:19461007T030000
END:STANDARD
BEGIN:DAYLIGHT
TZNAME:CEST
TZOFFSETFROM:+0100
TZOFFSETTO:+0200
DTSTART:19170416T020000
RRULE:FREQ=YEARLY;UNTIL=19180415T010000Z;BYMONTH=4;BYDAY=3MO
END:DAYLIGHT
BEGIN:STANDARD
TZNAME:CET
TZOFFSETFROM:+0200
TZOFFSETTO:+0100
DTSTART:19170917T030000
RRULE:FREQ=YEARLY;UNTIL=19180916T010000Z;BYMONTH=9;BYDAY=3MO
END:STANDARD
BEGIN:DAYLIGHT
TZNAME:CEST
TZOFFSETFROM:+0100
TZOFFSETTO:+0200
DTSTART:19440403T020000
RRULE:FREQ=YEARLY;UNTIL=19450402T010000Z;BYMONTH=4;BYDAY=1MO
END:DAYLIGHT
BEGIN:DAYLIGHT
TZNAME:CEMT
TZOFFSETFROM:+0200
TZOFFSETTO:+0300
DTSTART:19450524T020000
RDATE:19470511T030000
END:DAYLIGHT
BEGIN:DAYLIGHT
TZNAME:CEST
TZOFFSETFROM:+0300
TZOFFSETTO:+0200
DTSTART:19450924T030000
RDATE:19470629T030000
END:DAYLIGHT
BEGIN:STANDARD
TZNAME:CET
TZOFFSETFROM:+0100
TZOFFSETTO:+0100
DTSTART:19460101T000000
RDATE:19800101T000000
END:STANDARD
BEGIN:STANDARD
TZNAME:CET
TZOFFSETFROM:+0200
TZOFFSETTO:+0100
DTSTART:19471005T030000
RRULE:FREQ=YEARLY;UNTIL=19491002T010000Z;BYMONTH=10;BYDAY=1SU
END:STANDARD
BEGIN:STANDARD
TZNAME:CET
TZOFFSETFROM:+0200
TZOFFSETTO:+0100
DTSTART:19800928T030000
RRULE:FREQ=YEARLY;UNTIL=19950924T010000Z;BYMONTH=9;BYDAY=-1SU
END:STANDARD
BEGIN:DAYLIGHT
TZNAME:CEST
TZOFFSETFROM:+0100
TZOFFSETTO:+0200
DTSTART:19810329T020000
RRULE:FREQ=YEARLY;BYMONTH=3;BYDAY=-1SU
END:DAYLIGHT
BEGIN:STANDARD
TZNAME:CET
TZOFFSETFROM:+0200
TZOFFSETTO:+0100
DTSTART:19961027T030000
RRULE:FREQ=YEARLY;BYMONTH=10;BYDAY=-1SU
END:STANDARD
END:VTIMEZONE
BEGIN:VEVENT
DTSTAMP:20260425T010313Z
DTSTART;TZID=Europe/Berlin:20250125T140000
DTEND;TZID=Europe/Berlin:20250125T170000
SUMMARY:Runde 3 Langnau vs Thun (6)
UID:97465ce2-bb89-4711-9c20-d133eadae4b3
STATUS:CONFIRMED
LAST-MODIFIED:20250127T081550Z
DESCRIPTION:Runde 3\nBegegnungs-Nr: 6\nHeim: Langnau\nGast: Thun\n\nAdresse: Bleicheweg 11\, 3550 Langnau\n
LOCATION:Bleicheweg 11\, 3550 Langnau
CATEGORIES:Saison Cup 2024/25
END:VEVENT
BEGIN:VEVENT
DTSTAMP:20260425T010313Z
DTSTART;TZID=Europe/Berlin:20250305T200000
DTEND;TZID=Europe/Berlin:20250305T230000
SUMMARY:Runde 4 Langnau vs Aarberg (2)
UID:2f65502f-d4fe-43aa-b9f1-9b310324205d
STATUS:CONFIRMED
LAST-MODIFIED:20250313T221411Z
DESCRIPTION:Runde 4\nBegegnungs-Nr: 2\nHeim: Langnau\nGast: Aarberg\n\nAdresse: Bleicheweg 11\, 3550 Langnau\n
LOCATION:Bleicheweg 11\, 3550 Langnau
CATEGORIES:Saison Cup 2024/25
END:VEVENT
BEGIN:VEVENT
DTSTAMP:20260425T010313Z
DTSTART;TZID=Europe/Berlin:20241113T200000
DTEND;TZID=Europe/Berlin:20241113T230000
SUMMARY:Runde 2 Langenthal vs Langnau (7)
UID:afb79a64-bdab-4553-8cc0-3c0e7a499d3f
STATUS:CONFIRMED
LAST-MODIFIED:20241114T070306Z
DESCRIPTION:Runde 2\nBegegnungs-Nr: 7\nHeim: Langenthal\nGast: Langnau\n\nAdresse: Weststrasse 29\, 4900 Langenthal\n
LOCATION:Weststrasse 29\, 4900 Langenthal
CATEGORIES:Saison Cup 2024/25
END:VEVENT
END:VCALENDAR
