BEGIN:VCALENDAR
PRODID:-//nuDatenautomaten//framework iCal4j //DE
VERSION:2.0
CALSCALE:GREGORIAN
BEGIN:VTIMEZONE
TZID:Europe/Berlin
LAST-MODIFIED:20260306T231828Z
TZURL:https://www.tzurl.org/zoneinfo/Europe/Berlin
X-LIC-LOCATION:Europe/Berlin
X-PROLEPTIC-TZNAME:LMT
BEGIN:STANDARD
TZNAME:CET
TZOFFSETFROM:+005328
TZOFFSETTO:+0100
DTSTART:18930401T000000
END:STANDARD
BEGIN:DAYLIGHT
TZNAME:CEST
TZOFFSETFROM:+0100
TZOFFSETTO:+0200
DTSTART:19160430T230000
RDATE:19400401T020000
RDATE:19430329T020000
RDATE:19460414T020000
RDATE:19470406T030000
RDATE:19480418T020000
RDATE:19490410T020000
RDATE:19800406T020000
END:DAYLIGHT
BEGIN:STANDARD
TZNAME:CET
TZOFFSETFROM:+0200
TZOFFSETTO:+0100
DTSTART:19161001T010000
RDATE:19421102T030000
RDATE:19431004T030000
RDATE:19441002T030000
RDATE:19451118T030000
RDATE:19461007T030000
END:STANDARD
BEGIN:DAYLIGHT
TZNAME:CEST
TZOFFSETFROM:+0100
TZOFFSETTO:+0200
DTSTART:19170416T020000
RRULE:FREQ=YEARLY;UNTIL=19180415T010000Z;BYMONTH=4;BYDAY=3MO
END:DAYLIGHT
BEGIN:STANDARD
TZNAME:CET
TZOFFSETFROM:+0200
TZOFFSETTO:+0100
DTSTART:19170917T030000
RRULE:FREQ=YEARLY;UNTIL=19180916T010000Z;BYMONTH=9;BYDAY=3MO
END:STANDARD
BEGIN:DAYLIGHT
TZNAME:CEST
TZOFFSETFROM:+0100
TZOFFSETTO:+0200
DTSTART:19440403T020000
RRULE:FREQ=YEARLY;UNTIL=19450402T010000Z;BYMONTH=4;BYDAY=1MO
END:DAYLIGHT
BEGIN:DAYLIGHT
TZNAME:CEMT
TZOFFSETFROM:+0200
TZOFFSETTO:+0300
DTSTART:19450524T020000
RDATE:19470511T030000
END:DAYLIGHT
BEGIN:DAYLIGHT
TZNAME:CEST
TZOFFSETFROM:+0300
TZOFFSETTO:+0200
DTSTART:19450924T030000
RDATE:19470629T030000
END:DAYLIGHT
BEGIN:STANDARD
TZNAME:CET
TZOFFSETFROM:+0100
TZOFFSETTO:+0100
DTSTART:19460101T000000
RDATE:19800101T000000
END:STANDARD
BEGIN:STANDARD
TZNAME:CET
TZOFFSETFROM:+0200
TZOFFSETTO:+0100
DTSTART:19471005T030000
RRULE:FREQ=YEARLY;UNTIL=19491002T010000Z;BYMONTH=10;BYDAY=1SU
END:STANDARD
BEGIN:STANDARD
TZNAME:CET
TZOFFSETFROM:+0200
TZOFFSETTO:+0100
DTSTART:19800928T030000
RRULE:FREQ=YEARLY;UNTIL=19950924T010000Z;BYMONTH=9;BYDAY=-1SU
END:STANDARD
BEGIN:DAYLIGHT
TZNAME:CEST
TZOFFSETFROM:+0100
TZOFFSETTO:+0200
DTSTART:19810329T020000
RRULE:FREQ=YEARLY;BYMONTH=3;BYDAY=-1SU
END:DAYLIGHT
BEGIN:STANDARD
TZNAME:CET
TZOFFSETFROM:+0200
TZOFFSETTO:+0100
DTSTART:19961027T030000
RRULE:FREQ=YEARLY;BYMONTH=10;BYDAY=-1SU
END:STANDARD
END:VTIMEZONE
BEGIN:VEVENT
DTSTAMP:20260425T005054Z
DTSTART;TZID=Europe/Berlin:20240831T160000
DTEND;TZID=Europe/Berlin:20240831T190000
SUMMARY:JUG\, 2.Liga\, Gr.5\, Vorrunde Young Stars ZH V vs Rapperswil-Jona II (5)
UID:cd7e3081-cf99-4e68-b6a2-cb35626e505c
STATUS:CONFIRMED
LAST-MODIFIED:20240904T124208Z
DESCRIPTION:Jugend\, 2. Liga\, Gruppe 5\, Vorrunde\nBegegnungs-Nr: 5\nHeim: Young Stars ZH V\nGast: Rapperswil-Jona II\nHalle: Poule in Bülach\, Berufsschule\nAdresse: Balgriststrasse 55\, 8008 Zürich\n
LOCATION:Poule in Bülach\, Berufsschule Balgriststrasse 55\, 8008 Zürich
CATEGORIES:Saison 2024/25
END:VEVENT
BEGIN:VEVENT
DTSTAMP:20260425T005054Z
DTSTART;TZID=Europe/Berlin:20240831T130000
DTEND;TZID=Europe/Berlin:20240831T160000
SUMMARY:JUG\, 2.Liga\, Gr.5\, Vorrunde Young Stars ZH V vs Wetzikon (2)
UID:05d677d9-569d-4682-9c05-6ca5ab1b0caf
STATUS:CONFIRMED
LAST-MODIFIED:20240904T124145Z
DESCRIPTION:Jugend\, 2. Liga\, Gruppe 5\, Vorrunde\nBegegnungs-Nr: 2\nHeim: Young Stars ZH V\nGast: Wetzikon\n
LOCATION:
CATEGORIES:Saison 2024/25
END:VEVENT
BEGIN:VEVENT
DTSTAMP:20260425T005054Z
DTSTART;TZID=Europe/Berlin:20241116T160000
DTEND;TZID=Europe/Berlin:20241116T190000
SUMMARY:JUG. 2.Liga\, Gr.5\, Zw-Runde Young Stars ZH V vs Neuhausen II (5)
UID:708fc239-13ef-438d-9400-ba78f4d34517
STATUS:CONFIRMED
LAST-MODIFIED:20241126T094541Z
DESCRIPTION:Jugend\, 2. Liga\, Gruppe 5\, Zw-Runde\nBegegnungs-Nr: 5\nHeim: Young Stars ZH V\nGast: Neuhausen II\n
LOCATION:
CATEGORIES:Saison 2024/25
END:VEVENT
BEGIN:VEVENT
DTSTAMP:20260425T005054Z
DTSTART;TZID=Europe/Berlin:20241116T130000
DTEND;TZID=Europe/Berlin:20241116T160000
SUMMARY:JUG. 2.Liga\, Gr.5\, Zw-Runde Young Stars ZH V vs Libera Zürich (2)
UID:e35656f5-03a4-4172-b212-d8b7c8ab1ead
STATUS:CONFIRMED
LAST-MODIFIED:20241126T094525Z
DESCRIPTION:Jugend\, 2. Liga\, Gruppe 5\, Zw-Runde\nBegegnungs-Nr: 2\nHeim: Young Stars ZH V\nGast: Libera Zürich\n
LOCATION:
CATEGORIES:Saison 2024/25
END:VEVENT
BEGIN:VEVENT
DTSTAMP:20260425T005054Z
DTSTART;TZID=Europe/Berlin:20250329T130000
DTEND;TZID=Europe/Berlin:20250329T160000
SUMMARY:JUG\, 2.Liga\, Gr.6\, Final Young Stars ZH V vs Libera Zürich (1)
UID:94150d8e-cbb8-40d1-86f3-2d2133ef60dd
STATUS:CONFIRMED
LAST-MODIFIED:20250404T084919Z
DESCRIPTION:Jugend\, 2. Liga\, Gruppe 6\, Final\nBegegnungs-Nr: 1\nHeim: Young Stars ZH V\nGast: Libera Zürich\nHalle: Poule in Zürich\, TH Balgrist\nAdresse: Balgriststrasse 55\, 8008 Zürich\n
LOCATION:Poule in Zürich\, TH Balgrist Balgriststrasse 55\, 8008 Zürich
CATEGORIES:Saison 2024/25
END:VEVENT
BEGIN:VEVENT
DTSTAMP:20260425T005054Z
DTSTART;TZID=Europe/Berlin:20250329T143000
DTEND;TZID=Europe/Berlin:20250329T173000
SUMMARY:JUG\, 2.Liga\, Gr.6\, Final Young Stars ZH V vs St. Gallen III (4)
UID:dedd97cd-0bad-4042-9948-ef54d00c0cca
STATUS:CONFIRMED
LAST-MODIFIED:20250404T084949Z
DESCRIPTION:Jugend\, 2. Liga\, Gruppe 6\, Final\nBegegnungs-Nr: 4\nHeim: Young Stars ZH V\nGast: St. Gallen III\n\nAdresse: Balgriststrasse 55\, 8008 Zürich\n
LOCATION:Balgriststrasse 55\, 8008 Zürich
CATEGORIES:Saison 2024/25
END:VEVENT
BEGIN:VEVENT
DTSTAMP:20260425T005054Z
DTSTART;TZID=Europe/Berlin:20240831T143000
DTEND;TZID=Europe/Berlin:20240831T173000
SUMMARY:JUG\, 2.Liga\, Gr.5\, Vorrunde St. Gallen III vs Young Stars ZH V (4)
UID:e2f994b7-0000-4f5d-8a67-8fefb0f8d4d5
STATUS:CONFIRMED
LAST-MODIFIED:20240815T083807Z
DESCRIPTION:Jugend\, 2. Liga\, Gruppe 5\, Vorrunde\nBegegnungs-Nr: 4\nHeim: St. Gallen III\nGast: Young Stars ZH V\n\nAdresse: Zilstrasse 61\, 9016 St.Gallen\n
LOCATION:Zilstrasse 61\, 9016 St.Gallen
CATEGORIES:Saison 2024/25
END:VEVENT
BEGIN:VEVENT
DTSTAMP:20260425T005054Z
DTSTART;TZID=Europe/Berlin:20241116T143000
DTEND;TZID=Europe/Berlin:20241116T173000
SUMMARY:JUG. 2.Liga\, Gr.5\, Zw-Runde Winterthur II vs Young Stars ZH V (4)
UID:432b7fe9-47ba-4d8c-8784-e6664e917cb0
STATUS:CONFIRMED
LAST-MODIFIED:20241122T152730Z
DESCRIPTION:Jugend\, 2. Liga\, Gruppe 5\, Zw-Runde\nBegegnungs-Nr: 4\nHeim: Winterthur II\nGast: Young Stars ZH V\n
LOCATION:
CATEGORIES:Saison 2024/25
END:VEVENT
BEGIN:VEVENT
DTSTAMP:20260425T005054Z
DTSTART;TZID=Europe/Berlin:20250329T160000
DTEND;TZID=Europe/Berlin:20250329T190000
SUMMARY:JUG\, 2.Liga\, Gr.6\, Final Wädenswil II vs Young Stars ZH V (6)
UID:90af1a3f-465d-438b-8238-fb77a88dd407
STATUS:CONFIRMED
LAST-MODIFIED:20250404T085010Z
DESCRIPTION:Jugend\, 2. Liga\, Gruppe 6\, Final\nBegegnungs-Nr: 6\nHeim: Wädenswil II\nGast: Young Stars ZH V\n\nAdresse: Fuhrstrasse 16b\, 8820 Wädenswil\n
LOCATION:Fuhrstrasse 16b\, 8820 Wädenswil
CATEGORIES:Saison 2024/25
END:VEVENT
END:VCALENDAR
