BEGIN:VCALENDAR
PRODID:-//nuDatenautomaten//framework iCal4j //DE
VERSION:2.0
CALSCALE:GREGORIAN
BEGIN:VTIMEZONE
TZID:Europe/Berlin
LAST-MODIFIED:20260306T231828Z
TZURL:https://www.tzurl.org/zoneinfo/Europe/Berlin
X-LIC-LOCATION:Europe/Berlin
X-PROLEPTIC-TZNAME:LMT
BEGIN:STANDARD
TZNAME:CET
TZOFFSETFROM:+005328
TZOFFSETTO:+0100
DTSTART:18930401T000000
END:STANDARD
BEGIN:DAYLIGHT
TZNAME:CEST
TZOFFSETFROM:+0100
TZOFFSETTO:+0200
DTSTART:19160430T230000
RDATE:19400401T020000
RDATE:19430329T020000
RDATE:19460414T020000
RDATE:19470406T030000
RDATE:19480418T020000
RDATE:19490410T020000
RDATE:19800406T020000
END:DAYLIGHT
BEGIN:STANDARD
TZNAME:CET
TZOFFSETFROM:+0200
TZOFFSETTO:+0100
DTSTART:19161001T010000
RDATE:19421102T030000
RDATE:19431004T030000
RDATE:19441002T030000
RDATE:19451118T030000
RDATE:19461007T030000
END:STANDARD
BEGIN:DAYLIGHT
TZNAME:CEST
TZOFFSETFROM:+0100
TZOFFSETTO:+0200
DTSTART:19170416T020000
RRULE:FREQ=YEARLY;UNTIL=19180415T010000Z;BYMONTH=4;BYDAY=3MO
END:DAYLIGHT
BEGIN:STANDARD
TZNAME:CET
TZOFFSETFROM:+0200
TZOFFSETTO:+0100
DTSTART:19170917T030000
RRULE:FREQ=YEARLY;UNTIL=19180916T010000Z;BYMONTH=9;BYDAY=3MO
END:STANDARD
BEGIN:DAYLIGHT
TZNAME:CEST
TZOFFSETFROM:+0100
TZOFFSETTO:+0200
DTSTART:19440403T020000
RRULE:FREQ=YEARLY;UNTIL=19450402T010000Z;BYMONTH=4;BYDAY=1MO
END:DAYLIGHT
BEGIN:DAYLIGHT
TZNAME:CEMT
TZOFFSETFROM:+0200
TZOFFSETTO:+0300
DTSTART:19450524T020000
RDATE:19470511T030000
END:DAYLIGHT
BEGIN:DAYLIGHT
TZNAME:CEST
TZOFFSETFROM:+0300
TZOFFSETTO:+0200
DTSTART:19450924T030000
RDATE:19470629T030000
END:DAYLIGHT
BEGIN:STANDARD
TZNAME:CET
TZOFFSETFROM:+0100
TZOFFSETTO:+0100
DTSTART:19460101T000000
RDATE:19800101T000000
END:STANDARD
BEGIN:STANDARD
TZNAME:CET
TZOFFSETFROM:+0200
TZOFFSETTO:+0100
DTSTART:19471005T030000
RRULE:FREQ=YEARLY;UNTIL=19491002T010000Z;BYMONTH=10;BYDAY=1SU
END:STANDARD
BEGIN:STANDARD
TZNAME:CET
TZOFFSETFROM:+0200
TZOFFSETTO:+0100
DTSTART:19800928T030000
RRULE:FREQ=YEARLY;UNTIL=19950924T010000Z;BYMONTH=9;BYDAY=-1SU
END:STANDARD
BEGIN:DAYLIGHT
TZNAME:CEST
TZOFFSETFROM:+0100
TZOFFSETTO:+0200
DTSTART:19810329T020000
RRULE:FREQ=YEARLY;BYMONTH=3;BYDAY=-1SU
END:DAYLIGHT
BEGIN:STANDARD
TZNAME:CET
TZOFFSETFROM:+0200
TZOFFSETTO:+0100
DTSTART:19961027T030000
RRULE:FREQ=YEARLY;BYMONTH=10;BYDAY=-1SU
END:STANDARD
END:VTIMEZONE
BEGIN:VEVENT
DTSTAMP:20260424T220631Z
DTSTART;TZID=Europe/Berlin:20250613T200000
DTEND;TZID=Europe/Berlin:20250613T230000
SUMMARY:ME L4 Finales Avry-Rosé II vs Gampel-Steg II (1)
UID:f37f0841-e604-48fd-b660-ced3b10b5fa4
STATUS:CONFIRMED
LAST-MODIFIED:20250613T210206Z
DESCRIPTION:4ème ligue Hommes Finales\nBegegnungs-Nr: 1\nHeim: Avry-Rosé II\nGast: Gampel-Steg II\n\nAdresse: Route du Château 15\, 1754 Avry-sur-Matran\n
LOCATION:Route du Château 15\, 1754 Avry-sur-Matran
CATEGORIES:Saison 2024/25
END:VEVENT
BEGIN:VEVENT
DTSTAMP:20260424T220631Z
DTSTART;TZID=Europe/Berlin:20241122T200000
DTEND;TZID=Europe/Berlin:20241122T230000
SUMMARY:ME L3 Gr 2\, Tours 1&2 Avry-Rosé II vs Fribourg VI (0)
UID:617a6442-3194-43e9-8799-778009f422ec
STATUS:CONFIRMED
LAST-MODIFIED:20241126T112023Z
DESCRIPTION:3ème ligue Hommes Groupe 2\, Tours 1&2\nBegegnungs-Nr: 0\nHeim: Avry-Rosé II\nGast: Fribourg VI\n\nAdresse: Route du Château 15\, 1754 Avry-sur-Matran\n
LOCATION:Route du Château 15\, 1754 Avry-sur-Matran
CATEGORIES:Saison 2024/25
END:VEVENT
BEGIN:VEVENT
DTSTAMP:20260424T220631Z
DTSTART;TZID=Europe/Berlin:20241101T200000
DTEND;TZID=Europe/Berlin:20241101T230000
SUMMARY:ME L3 Gr 2\, Tours 1&2 Avry-Rosé II vs Blonay (0)
UID:bb275cef-19e1-4ea3-b79a-b47caf2bff5c
STATUS:CONFIRMED
LAST-MODIFIED:20241102T091209Z
DESCRIPTION:3ème ligue Hommes Groupe 2\, Tours 1&2\nBegegnungs-Nr: 0\nHeim: Avry-Rosé II\nGast: Blonay\n\nAdresse: Route du Château 15\, 1754 Avry-sur-Matran\n
LOCATION:Route du Château 15\, 1754 Avry-sur-Matran
CATEGORIES:Saison 2024/25
END:VEVENT
BEGIN:VEVENT
DTSTAMP:20260424T220631Z
DTSTART;TZID=Europe/Berlin:20241011T200000
DTEND;TZID=Europe/Berlin:20241011T230000
SUMMARY:ME L3 Gr 2\, Tours 1&2 Avry-Rosé II vs Grône (0)
UID:ced97052-e522-47ca-8937-7216f59ec1d4
STATUS:CONFIRMED
LAST-MODIFIED:20241012T203152Z
DESCRIPTION:3ème ligue Hommes Groupe 2\, Tours 1&2\nBegegnungs-Nr: 0\nHeim: Avry-Rosé II\nGast: Grône\n\nAdresse: Route du Château 15\, 1754 Avry-sur-Matran\n
LOCATION:Route du Château 15\, 1754 Avry-sur-Matran
CATEGORIES:Saison 2024/25
END:VEVENT
BEGIN:VEVENT
DTSTAMP:20260424T220631Z
DTSTART;TZID=Europe/Berlin:20241004T200000
DTEND;TZID=Europe/Berlin:20241004T230000
SUMMARY:ME L3 Gr 2\, Tours 1&2 Avry-Rosé II vs Fribourg V (0)
UID:41083689-737d-48da-a999-98c9c33764b9
STATUS:CONFIRMED
LAST-MODIFIED:20241007T063504Z
DESCRIPTION:3ème ligue Hommes Groupe 2\, Tours 1&2\nBegegnungs-Nr: 0\nHeim: Avry-Rosé II\nGast: Fribourg V\n\nAdresse: Route du Château 15\, 1754 Avry-sur-Matran\n
LOCATION:Route du Château 15\, 1754 Avry-sur-Matran
CATEGORIES:Saison 2024/25
END:VEVENT
BEGIN:VEVENT
DTSTAMP:20260424T220631Z
DTSTART;TZID=Europe/Berlin:20240913T200000
DTEND;TZID=Europe/Berlin:20240913T230000
SUMMARY:ME L3 Gr 2\, Tours 1&2 Avry-Rosé II vs Ependes (0)
UID:11aeb0c4-898e-4af0-aa74-2a284fc82d21
STATUS:CONFIRMED
LAST-MODIFIED:20240914T210506Z
DESCRIPTION:3ème ligue Hommes Groupe 2\, Tours 1&2\nBegegnungs-Nr: 0\nHeim: Avry-Rosé II\nGast: Ependes\n\nAdresse: Route du Château 15\, 1754 Avry-sur-Matran\n
LOCATION:Route du Château 15\, 1754 Avry-sur-Matran
CATEGORIES:Saison 2024/25
END:VEVENT
BEGIN:VEVENT
DTSTAMP:20260424T220631Z
DTSTART;TZID=Europe/Berlin:20250509T200000
DTEND;TZID=Europe/Berlin:20250509T230000
SUMMARY:ME L4 Gr 5\, Tours 3&4 Avry-Rosé II vs Chexbres II (0)
UID:3c81d80d-f17b-4187-a6da-622ce59562e3
STATUS:CONFIRMED
LAST-MODIFIED:20250510T115406Z
DESCRIPTION:4ème ligue Hommes Groupe 5\, Tours 3&4\nBegegnungs-Nr: 0\nHeim: Avry-Rosé II\nGast: Chexbres II\n\nAdresse: Route du Château 15\, 1754 Avry-sur-Matran\n
LOCATION:Route du Château 15\, 1754 Avry-sur-Matran
CATEGORIES:Saison 2024/25
END:VEVENT
BEGIN:VEVENT
DTSTAMP:20260424T220631Z
DTSTART;TZID=Europe/Berlin:20250411T200000
DTEND;TZID=Europe/Berlin:20250411T230000
SUMMARY:ME L4 Gr 5\, Tours 3&4 Avry-Rosé II vs Crissier V (0)
UID:bcb35871-c8c9-42c0-af45-beeef1ea94d4
STATUS:CONFIRMED
LAST-MODIFIED:20250412T101810Z
DESCRIPTION:4ème ligue Hommes Groupe 5\, Tours 3&4\nBegegnungs-Nr: 0\nHeim: Avry-Rosé II\nGast: Crissier V\n\nAdresse: Route du Château 15\, 1754 Avry-sur-Matran\n
LOCATION:Route du Château 15\, 1754 Avry-sur-Matran
CATEGORIES:Saison 2024/25
END:VEVENT
BEGIN:VEVENT
DTSTAMP:20260424T220631Z
DTSTART;TZID=Europe/Berlin:20250314T200000
DTEND;TZID=Europe/Berlin:20250314T230000
SUMMARY:ME L4 Gr 5\, Tours 3&4 Avry-Rosé II vs Lausanne VII (0)
UID:51e9c31b-c71f-4390-8fb6-3d82c75c975d
STATUS:CONFIRMED
LAST-MODIFIED:20250315T094214Z
DESCRIPTION:4ème ligue Hommes Groupe 5\, Tours 3&4\nBegegnungs-Nr: 0\nHeim: Avry-Rosé II\nGast: Lausanne VII\n\nAdresse: Route du Château 15\, 1754 Avry-sur-Matran\n
LOCATION:Route du Château 15\, 1754 Avry-sur-Matran
CATEGORIES:Saison 2024/25
END:VEVENT
BEGIN:VEVENT
DTSTAMP:20260424T220631Z
DTSTART;TZID=Europe/Berlin:20250207T200000
DTEND;TZID=Europe/Berlin:20250207T230000
SUMMARY:ME L4 Gr 5\, Tours 3&4 Avry-Rosé II vs Chexbres III (0)
UID:bf74e2a5-85f7-48db-b4fb-951b11207d3f
STATUS:CONFIRMED
LAST-MODIFIED:20250210T162401Z
DESCRIPTION:4ème ligue Hommes Groupe 5\, Tours 3&4\nBegegnungs-Nr: 0\nHeim: Avry-Rosé II\nGast: Chexbres III\n\nAdresse: Route du Château 15\, 1754 Avry-sur-Matran\n
LOCATION:Route du Château 15\, 1754 Avry-sur-Matran
CATEGORIES:Saison 2024/25
END:VEVENT
BEGIN:VEVENT
DTSTAMP:20260424T220631Z
DTSTART;TZID=Europe/Berlin:20250131T200000
DTEND;TZID=Europe/Berlin:20250131T230000
SUMMARY:ME L4 Gr 5\, Tours 3&4 Avry-Rosé II vs Romanel IV (0)
UID:73e2116b-3573-4d8e-9dcd-96e11973187c
STATUS:CONFIRMED
LAST-MODIFIED:20250201T002912Z
DESCRIPTION:4ème ligue Hommes Groupe 5\, Tours 3&4\nBegegnungs-Nr: 0\nHeim: Avry-Rosé II\nGast: Romanel IV\n\nAdresse: Route du Château 15\, 1754 Avry-sur-Matran\n
LOCATION:Route du Château 15\, 1754 Avry-sur-Matran
CATEGORIES:Saison 2024/25
END:VEVENT
BEGIN:VEVENT
DTSTAMP:20260424T220631Z
DTSTART;TZID=Europe/Berlin:20250606T200000
DTEND;TZID=Europe/Berlin:20250606T230000
SUMMARY:ME L4 Finales Avry-Rosé II vs Lausanne VIII (1)
UID:2dab3c01-4543-4f67-8a31-662b061257d4
STATUS:CONFIRMED
LAST-MODIFIED:20250607T224536Z
DESCRIPTION:4ème ligue Hommes Finales\nBegegnungs-Nr: 1\nHeim: Avry-Rosé II\nGast: Lausanne VIII\n\nAdresse: Route du Château 15\, 1754 Avry-sur-Matran\n
LOCATION:Route du Château 15\, 1754 Avry-sur-Matran
CATEGORIES:Saison 2024/25
END:VEVENT
BEGIN:VEVENT
DTSTAMP:20260424T220631Z
DTSTART;TZID=Europe/Berlin:20241210T200000
DTEND;TZID=Europe/Berlin:20241210T230000
SUMMARY:ME L3 Gr 2\, Tours 1&2 Grône vs Avry-Rosé II (0)
UID:e9a93f26-4e21-4c49-af67-7394743a9bdc
STATUS:CONFIRMED
LAST-MODIFIED:20241212T010958Z
DESCRIPTION:3ème ligue Hommes Groupe 2\, Tours 1&2\nBegegnungs-Nr: 0\nHeim: Grône\nGast: Avry-Rosé II\n\nAdresse:  Rue Centrale\,  \, Rue de la Piscine\, \, 3979 Grône\n
LOCATION: Rue Centrale\,  \, Rue de la Piscine\, \, 3979 Grône
CATEGORIES:Saison 2024/25
END:VEVENT
BEGIN:VEVENT
DTSTAMP:20260424T220631Z
DTSTART;TZID=Europe/Berlin:20241128T193000
DTEND;TZID=Europe/Berlin:20241128T223000
SUMMARY:ME L3 Gr 2\, Tours 1&2 Fribourg V vs Avry-Rosé II (0)
UID:7ece841e-fb9f-4853-bb5c-3e506d2edd39
STATUS:CONFIRMED
LAST-MODIFIED:20241129T154222Z
DESCRIPTION:3ème ligue Hommes Groupe 2\, Tours 1&2\nBegegnungs-Nr: 0\nHeim: Fribourg V\nGast: Avry-Rosé II\n\nAdresse: Route du Centre sportif\, 1752 Villars-sur-Glâne\n
LOCATION:Route du Centre sportif\, 1752 Villars-sur-Glâne
CATEGORIES:Saison 2024/25
END:VEVENT
BEGIN:VEVENT
DTSTAMP:20260424T220631Z
DTSTART;TZID=Europe/Berlin:20241106T194500
DTEND;TZID=Europe/Berlin:20241106T224500
SUMMARY:ME L3 Gr 2\, Tours 1&2 Ependes vs Avry-Rosé II (0)
UID:4e75d091-2ca2-425f-b13f-2d9cdafd7c28
STATUS:CONFIRMED
LAST-MODIFIED:20241107T130210Z
DESCRIPTION:3ème ligue Hommes Groupe 2\, Tours 1&2\nBegegnungs-Nr: 0\nHeim: Ependes\nGast: Avry-Rosé II\n\nAdresse: -\, 1731 Ependes FR\n
LOCATION:-\, 1731 Ependes FR
CATEGORIES:Saison 2024/25
END:VEVENT
BEGIN:VEVENT
DTSTAMP:20260424T220631Z
DTSTART;TZID=Europe/Berlin:20240919T191500
DTEND;TZID=Europe/Berlin:20240919T221500
SUMMARY:ME L3 Gr 2\, Tours 1&2 Fribourg VI vs Avry-Rosé II (0)
UID:51911003-767b-4ba5-8cb8-6b34442562e0
STATUS:CONFIRMED
LAST-MODIFIED:20240926T101905Z
DESCRIPTION:3ème ligue Hommes Groupe 2\, Tours 1&2\nBegegnungs-Nr: 0\nHeim: Fribourg VI\nGast: Avry-Rosé II\n\nAdresse: Avenue Général Guisan 61\, 1700 Fribourg\n
LOCATION:Avenue Général Guisan 61\, 1700 Fribourg
CATEGORIES:Saison 2024/25
END:VEVENT
BEGIN:VEVENT
DTSTAMP:20260424T220631Z
DTSTART;TZID=Europe/Berlin:20241003T200000
DTEND;TZID=Europe/Berlin:20241003T230000
SUMMARY:ME L3 Gr 2\, Tours 1&2 Blonay vs Avry-Rosé II (0)
UID:395bd90b-07f5-4612-b752-fedcda320523
STATUS:CONFIRMED
LAST-MODIFIED:20241007T063448Z
DESCRIPTION:3ème ligue Hommes Groupe 2\, Tours 1&2\nBegegnungs-Nr: 0\nHeim: Blonay\nGast: Avry-Rosé II\n\nAdresse: Route de Prélaz 2\, 1807 Blonay\n
LOCATION:Route de Prélaz 2\, 1807 Blonay
CATEGORIES:Saison 2024/25
END:VEVENT
BEGIN:VEVENT
DTSTAMP:20260424T220631Z
DTSTART;TZID=Europe/Berlin:20250501T194500
DTEND;TZID=Europe/Berlin:20250501T224500
SUMMARY:ME L4 Gr 5\, Tours 3&4 Chexbres III vs Avry-Rosé II (0)
UID:a9569dac-855d-482a-b1b6-9087f2cdf4f7
STATUS:CONFIRMED
LAST-MODIFIED:20250503T000546Z
DESCRIPTION:4ème ligue Hommes Groupe 5\, Tours 3&4\nBegegnungs-Nr: 0\nHeim: Chexbres III\nGast: Avry-Rosé II\n\nAdresse: Collège de Praz Routoz\, 1071 Chexbres\n
LOCATION:Collège de Praz Routoz\, 1071 Chexbres
CATEGORIES:Saison 2024/25
END:VEVENT
BEGIN:VEVENT
DTSTAMP:20260424T220631Z
DTSTART;TZID=Europe/Berlin:20250326T200000
DTEND;TZID=Europe/Berlin:20250326T230000
SUMMARY:ME L4 Gr 5\, Tours 3&4 Romanel IV vs Avry-Rosé II (0)
UID:732665d4-7a29-40e0-9c6a-d1201d647960
STATUS:CONFIRMED
LAST-MODIFIED:20250326T232243Z
DESCRIPTION:4ème ligue Hommes Groupe 5\, Tours 3&4\nBegegnungs-Nr: 0\nHeim: Romanel IV\nGast: Avry-Rosé II\n\nAdresse: Ch des Epinettes 1\, 1032 Romanel-sur-Lausanne\n
LOCATION:Ch des Epinettes 1\, 1032 Romanel-sur-Lausanne
CATEGORIES:Saison 2024/25
END:VEVENT
BEGIN:VEVENT
DTSTAMP:20260424T220631Z
DTSTART;TZID=Europe/Berlin:20250130T194500
DTEND;TZID=Europe/Berlin:20250130T224500
SUMMARY:ME L4 Gr 5\, Tours 3&4 Chexbres II vs Avry-Rosé II (0)
UID:d9daedc9-0514-4da7-9538-4945cdc64d31
STATUS:CONFIRMED
LAST-MODIFIED:20250206T112752Z
DESCRIPTION:4ème ligue Hommes Groupe 5\, Tours 3&4\nBegegnungs-Nr: 0\nHeim: Chexbres II\nGast: Avry-Rosé II\n\nAdresse: Collège de Praz Routoz\, 1071 Chexbres\n
LOCATION:Collège de Praz Routoz\, 1071 Chexbres
CATEGORIES:Saison 2024/25
END:VEVENT
BEGIN:VEVENT
DTSTAMP:20260424T220631Z
DTSTART;TZID=Europe/Berlin:20250213T193000
DTEND;TZID=Europe/Berlin:20250213T223000
SUMMARY:ME L4 Gr 5\, Tours 3&4 Crissier V vs Avry-Rosé II (0)
UID:4c389184-3c25-4248-8145-8b55a1057cbf
STATUS:CONFIRMED
LAST-MODIFIED:20250218T122742Z
DESCRIPTION:4ème ligue Hommes Groupe 5\, Tours 3&4\nBegegnungs-Nr: 0\nHeim: Crissier V\nGast: Avry-Rosé II\n\nAdresse: Ch. de Roséaz\, 1030 Bussigny\n
LOCATION:Ch. de Roséaz\, 1030 Bussigny
CATEGORIES:Saison 2024/25
END:VEVENT
BEGIN:VEVENT
DTSTAMP:20260424T220631Z
DTSTART;TZID=Europe/Berlin:20250120T200000
DTEND;TZID=Europe/Berlin:20250120T230000
SUMMARY:ME L4 Gr 5\, Tours 3&4 Lausanne VII vs Avry-Rosé II (0)
UID:795b0bd6-3e62-4df5-91ad-7154dfd9f6ce
STATUS:CONFIRMED
LAST-MODIFIED:20250121T115956Z
DESCRIPTION:4ème ligue Hommes Groupe 5\, Tours 3&4\nBegegnungs-Nr: 0\nHeim: Lausanne VII\nGast: Avry-Rosé II\n\nAdresse: Vaudoise Aréna\, Ch. du Viaduc 14\, 1008 Prilly\n
LOCATION:Vaudoise Aréna\, Ch. du Viaduc 14\, 1008 Prilly
CATEGORIES:Saison 2024/25
END:VEVENT
END:VCALENDAR
