BEGIN:VCALENDAR
PRODID:-//nuDatenautomaten//framework iCal4j //DE
VERSION:2.0
CALSCALE:GREGORIAN
BEGIN:VTIMEZONE
TZID:Europe/Berlin
LAST-MODIFIED:20260306T231828Z
TZURL:https://www.tzurl.org/zoneinfo/Europe/Berlin
X-LIC-LOCATION:Europe/Berlin
X-PROLEPTIC-TZNAME:LMT
BEGIN:STANDARD
TZNAME:CET
TZOFFSETFROM:+005328
TZOFFSETTO:+0100
DTSTART:18930401T000000
END:STANDARD
BEGIN:DAYLIGHT
TZNAME:CEST
TZOFFSETFROM:+0100
TZOFFSETTO:+0200
DTSTART:19160430T230000
RDATE:19400401T020000
RDATE:19430329T020000
RDATE:19460414T020000
RDATE:19470406T030000
RDATE:19480418T020000
RDATE:19490410T020000
RDATE:19800406T020000
END:DAYLIGHT
BEGIN:STANDARD
TZNAME:CET
TZOFFSETFROM:+0200
TZOFFSETTO:+0100
DTSTART:19161001T010000
RDATE:19421102T030000
RDATE:19431004T030000
RDATE:19441002T030000
RDATE:19451118T030000
RDATE:19461007T030000
END:STANDARD
BEGIN:DAYLIGHT
TZNAME:CEST
TZOFFSETFROM:+0100
TZOFFSETTO:+0200
DTSTART:19170416T020000
RRULE:FREQ=YEARLY;UNTIL=19180415T010000Z;BYMONTH=4;BYDAY=3MO
END:DAYLIGHT
BEGIN:STANDARD
TZNAME:CET
TZOFFSETFROM:+0200
TZOFFSETTO:+0100
DTSTART:19170917T030000
RRULE:FREQ=YEARLY;UNTIL=19180916T010000Z;BYMONTH=9;BYDAY=3MO
END:STANDARD
BEGIN:DAYLIGHT
TZNAME:CEST
TZOFFSETFROM:+0100
TZOFFSETTO:+0200
DTSTART:19440403T020000
RRULE:FREQ=YEARLY;UNTIL=19450402T010000Z;BYMONTH=4;BYDAY=1MO
END:DAYLIGHT
BEGIN:DAYLIGHT
TZNAME:CEMT
TZOFFSETFROM:+0200
TZOFFSETTO:+0300
DTSTART:19450524T020000
RDATE:19470511T030000
END:DAYLIGHT
BEGIN:DAYLIGHT
TZNAME:CEST
TZOFFSETFROM:+0300
TZOFFSETTO:+0200
DTSTART:19450924T030000
RDATE:19470629T030000
END:DAYLIGHT
BEGIN:STANDARD
TZNAME:CET
TZOFFSETFROM:+0100
TZOFFSETTO:+0100
DTSTART:19460101T000000
RDATE:19800101T000000
END:STANDARD
BEGIN:STANDARD
TZNAME:CET
TZOFFSETFROM:+0200
TZOFFSETTO:+0100
DTSTART:19471005T030000
RRULE:FREQ=YEARLY;UNTIL=19491002T010000Z;BYMONTH=10;BYDAY=1SU
END:STANDARD
BEGIN:STANDARD
TZNAME:CET
TZOFFSETFROM:+0200
TZOFFSETTO:+0100
DTSTART:19800928T030000
RRULE:FREQ=YEARLY;UNTIL=19950924T010000Z;BYMONTH=9;BYDAY=-1SU
END:STANDARD
BEGIN:DAYLIGHT
TZNAME:CEST
TZOFFSETFROM:+0100
TZOFFSETTO:+0200
DTSTART:19810329T020000
RRULE:FREQ=YEARLY;BYMONTH=3;BYDAY=-1SU
END:DAYLIGHT
BEGIN:STANDARD
TZNAME:CET
TZOFFSETFROM:+0200
TZOFFSETTO:+0100
DTSTART:19961027T030000
RRULE:FREQ=YEARLY;BYMONTH=10;BYDAY=-1SU
END:STANDARD
END:VTIMEZONE
BEGIN:VEVENT
DTSTAMP:20260424T220535Z
DTSTART;TZID=Europe/Berlin:20241017T194500
DTEND;TZID=Europe/Berlin:20241017T224500
SUMMARY:S L3 Gr 4 Chexbres II vs Domdidier (0)
UID:00eec5b3-e1ce-4166-bb75-679bbb8cc504
STATUS:CONFIRMED
LAST-MODIFIED:20241018T002140Z
DESCRIPTION:3ème ligue Seniors Groupe 4\nBegegnungs-Nr: 0\nHeim: Chexbres II\nGast: Domdidier\n\nAdresse: Collège de Praz Routoz\, 1071 Chexbres\n
LOCATION:Collège de Praz Routoz\, 1071 Chexbres
CATEGORIES:Saison 2024/25
END:VEVENT
BEGIN:VEVENT
DTSTAMP:20260424T220535Z
DTSTART;TZID=Europe/Berlin:20250403T194500
DTEND;TZID=Europe/Berlin:20250403T224500
SUMMARY:S L3 Gr 4 Chexbres II vs Romanel IV (0)
UID:e38415e0-2c66-4dbb-8a81-2d7bdeca8dbc
STATUS:CONFIRMED
LAST-MODIFIED:20250404T133946Z
DESCRIPTION:3ème ligue Seniors Groupe 4\nBegegnungs-Nr: 0\nHeim: Chexbres II\nGast: Romanel IV\n\nAdresse: Collège de Praz Routoz\, 1071 Chexbres\n
LOCATION:Collège de Praz Routoz\, 1071 Chexbres
CATEGORIES:Saison 2024/25
END:VEVENT
BEGIN:VEVENT
DTSTAMP:20260424T220535Z
DTSTART;TZID=Europe/Berlin:20250310T201500
DTEND;TZID=Europe/Berlin:20250310T231500
SUMMARY:S L3 Gr 4 Chexbres II vs Lausanne IV (0)
UID:0c415efb-fc70-4373-843a-b74bed0beeb3
STATUS:CONFIRMED
LAST-MODIFIED:20250311T220948Z
DESCRIPTION:3ème ligue Seniors Groupe 4\nBegegnungs-Nr: 0\nHeim: Chexbres II\nGast: Lausanne IV\n\nAdresse: Collège de Praz Routoz\, 1071 Chexbres\n
LOCATION:Collège de Praz Routoz\, 1071 Chexbres
CATEGORIES:Saison 2024/25
END:VEVENT
BEGIN:VEVENT
DTSTAMP:20260424T220535Z
DTSTART;TZID=Europe/Berlin:20250116T194500
DTEND;TZID=Europe/Berlin:20250116T224500
SUMMARY:S L3 Gr 4 Chexbres II vs Avry-Rosé (0)
UID:e771dc59-1b8e-4ecd-9701-6b78da8368be
STATUS:CONFIRMED
LAST-MODIFIED:20250117T195221Z
DESCRIPTION:3ème ligue Seniors Groupe 4\nBegegnungs-Nr: 0\nHeim: Chexbres II\nGast: Avry-Rosé\n\nAdresse: Collège de Praz Routoz\, 1071 Chexbres\n
LOCATION:Collège de Praz Routoz\, 1071 Chexbres
CATEGORIES:Saison 2024/25
END:VEVENT
BEGIN:VEVENT
DTSTAMP:20260424T220535Z
DTSTART;TZID=Europe/Berlin:20241107T194500
DTEND;TZID=Europe/Berlin:20241107T224500
SUMMARY:S L3 Gr 4 Chexbres II vs Rossens II (0)
UID:573b9b52-2f70-4160-8a72-1e2e645b4f38
STATUS:CONFIRMED
LAST-MODIFIED:20241108T195438Z
DESCRIPTION:3ème ligue Seniors Groupe 4\nBegegnungs-Nr: 0\nHeim: Chexbres II\nGast: Rossens II\n\nAdresse: Collège de Praz Routoz\, 1071 Chexbres\n
LOCATION:Collège de Praz Routoz\, 1071 Chexbres
CATEGORIES:Saison 2024/25
END:VEVENT
BEGIN:VEVENT
DTSTAMP:20260424T220535Z
DTSTART;TZID=Europe/Berlin:20240924T200000
DTEND;TZID=Europe/Berlin:20240924T230000
SUMMARY:S L3 Gr 4 Avry-Rosé vs Chexbres II (0)
UID:2e83ace0-f35b-4bfd-962b-3880accd787c
STATUS:CONFIRMED
LAST-MODIFIED:20241001T221142Z
DESCRIPTION:3ème ligue Seniors Groupe 4\nBegegnungs-Nr: 0\nHeim: Avry-Rosé\nGast: Chexbres II\n\nAdresse: Route du Château 15\, 1754 Avry-sur-Matran\n
LOCATION:Route du Château 15\, 1754 Avry-sur-Matran
CATEGORIES:Saison 2024/25
END:VEVENT
BEGIN:VEVENT
DTSTAMP:20260424T220535Z
DTSTART;TZID=Europe/Berlin:20250317T200000
DTEND;TZID=Europe/Berlin:20250317T230000
SUMMARY:S L3 Gr 4 Rossens II vs Chexbres II (0)
UID:f70b2ded-4b62-4345-9d26-a096bdd04201
STATUS:CONFIRMED
LAST-MODIFIED:20250318T100225Z
DESCRIPTION:3ème ligue Seniors Groupe 4\nBegegnungs-Nr: 0\nHeim: Rossens II\nGast: Chexbres II\n\nAdresse: Route du Jordil 14\, 1728 Rossens\n
LOCATION:Route du Jordil 14\, 1728 Rossens
CATEGORIES:Saison 2024/25
END:VEVENT
BEGIN:VEVENT
DTSTAMP:20260424T220535Z
DTSTART;TZID=Europe/Berlin:20250205T200000
DTEND;TZID=Europe/Berlin:20250205T230000
SUMMARY:S L3 Gr 4 Domdidier vs Chexbres II (0)
UID:8eb48b22-cbce-43be-8925-9f98125f9d36
STATUS:CONFIRMED
LAST-MODIFIED:20250207T172255Z
DESCRIPTION:3ème ligue Seniors Groupe 4\nBegegnungs-Nr: 0\nHeim: Domdidier\nGast: Chexbres II\n\nAdresse: Pré-de-la-Cour\, 1564 Domdidier\n
LOCATION:Pré-de-la-Cour\, 1564 Domdidier
CATEGORIES:Saison 2024/25
END:VEVENT
BEGIN:VEVENT
DTSTAMP:20260424T220535Z
DTSTART;TZID=Europe/Berlin:20250107T200000
DTEND;TZID=Europe/Berlin:20250107T230000
SUMMARY:S L3 Gr 4 Romanel IV vs Chexbres II (0)
UID:cec4e561-7f66-420b-baa7-7cf64d38be98
STATUS:CONFIRMED
LAST-MODIFIED:20250108T224707Z
DESCRIPTION:3ème ligue Seniors Groupe 4\nBegegnungs-Nr: 0\nHeim: Romanel IV\nGast: Chexbres II\n\nAdresse: Ch des Epinettes 1\, 1032 Romanel-sur-Lausanne\n
LOCATION:Ch des Epinettes 1\, 1032 Romanel-sur-Lausanne
CATEGORIES:Saison 2024/25
END:VEVENT
BEGIN:VEVENT
DTSTAMP:20260424T220535Z
DTSTART;TZID=Europe/Berlin:20241112T200000
DTEND;TZID=Europe/Berlin:20241112T230000
SUMMARY:S L3 Gr 4 Lausanne IV vs Chexbres II (0)
UID:dd38d6c6-0aab-4f66-a15a-d6cf1bdd5a1f
STATUS:CONFIRMED
LAST-MODIFIED:20241114T121830Z
DESCRIPTION:3ème ligue Seniors Groupe 4\nBegegnungs-Nr: 0\nHeim: Lausanne IV\nGast: Chexbres II\n\nAdresse: Vaudoise Aréna\, Ch. du Viaduc 14\, 1008 Prilly\n
LOCATION:Vaudoise Aréna\, Ch. du Viaduc 14\, 1008 Prilly
CATEGORIES:Saison 2024/25
END:VEVENT
END:VCALENDAR
