BEGIN:VCALENDAR
PRODID:-//nuDatenautomaten//framework iCal4j //DE
VERSION:2.0
CALSCALE:GREGORIAN
BEGIN:VTIMEZONE
TZID:Europe/Berlin
LAST-MODIFIED:20260306T231828Z
TZURL:https://www.tzurl.org/zoneinfo/Europe/Berlin
X-LIC-LOCATION:Europe/Berlin
X-PROLEPTIC-TZNAME:LMT
BEGIN:STANDARD
TZNAME:CET
TZOFFSETFROM:+005328
TZOFFSETTO:+0100
DTSTART:18930401T000000
END:STANDARD
BEGIN:DAYLIGHT
TZNAME:CEST
TZOFFSETFROM:+0100
TZOFFSETTO:+0200
DTSTART:19160430T230000
RDATE:19400401T020000
RDATE:19430329T020000
RDATE:19460414T020000
RDATE:19470406T030000
RDATE:19480418T020000
RDATE:19490410T020000
RDATE:19800406T020000
END:DAYLIGHT
BEGIN:STANDARD
TZNAME:CET
TZOFFSETFROM:+0200
TZOFFSETTO:+0100
DTSTART:19161001T010000
RDATE:19421102T030000
RDATE:19431004T030000
RDATE:19441002T030000
RDATE:19451118T030000
RDATE:19461007T030000
END:STANDARD
BEGIN:DAYLIGHT
TZNAME:CEST
TZOFFSETFROM:+0100
TZOFFSETTO:+0200
DTSTART:19170416T020000
RRULE:FREQ=YEARLY;UNTIL=19180415T010000Z;BYMONTH=4;BYDAY=3MO
END:DAYLIGHT
BEGIN:STANDARD
TZNAME:CET
TZOFFSETFROM:+0200
TZOFFSETTO:+0100
DTSTART:19170917T030000
RRULE:FREQ=YEARLY;UNTIL=19180916T010000Z;BYMONTH=9;BYDAY=3MO
END:STANDARD
BEGIN:DAYLIGHT
TZNAME:CEST
TZOFFSETFROM:+0100
TZOFFSETTO:+0200
DTSTART:19440403T020000
RRULE:FREQ=YEARLY;UNTIL=19450402T010000Z;BYMONTH=4;BYDAY=1MO
END:DAYLIGHT
BEGIN:DAYLIGHT
TZNAME:CEMT
TZOFFSETFROM:+0200
TZOFFSETTO:+0300
DTSTART:19450524T020000
RDATE:19470511T030000
END:DAYLIGHT
BEGIN:DAYLIGHT
TZNAME:CEST
TZOFFSETFROM:+0300
TZOFFSETTO:+0200
DTSTART:19450924T030000
RDATE:19470629T030000
END:DAYLIGHT
BEGIN:STANDARD
TZNAME:CET
TZOFFSETFROM:+0100
TZOFFSETTO:+0100
DTSTART:19460101T000000
RDATE:19800101T000000
END:STANDARD
BEGIN:STANDARD
TZNAME:CET
TZOFFSETFROM:+0200
TZOFFSETTO:+0100
DTSTART:19471005T030000
RRULE:FREQ=YEARLY;UNTIL=19491002T010000Z;BYMONTH=10;BYDAY=1SU
END:STANDARD
BEGIN:STANDARD
TZNAME:CET
TZOFFSETFROM:+0200
TZOFFSETTO:+0100
DTSTART:19800928T030000
RRULE:FREQ=YEARLY;UNTIL=19950924T010000Z;BYMONTH=9;BYDAY=-1SU
END:STANDARD
BEGIN:DAYLIGHT
TZNAME:CEST
TZOFFSETFROM:+0100
TZOFFSETTO:+0200
DTSTART:19810329T020000
RRULE:FREQ=YEARLY;BYMONTH=3;BYDAY=-1SU
END:DAYLIGHT
BEGIN:STANDARD
TZNAME:CET
TZOFFSETFROM:+0200
TZOFFSETTO:+0100
DTSTART:19961027T030000
RRULE:FREQ=YEARLY;BYMONTH=10;BYDAY=-1SU
END:STANDARD
END:VTIMEZONE
BEGIN:VEVENT
DTSTAMP:20260425T005107Z
DTSTART;TZID=Europe/Berlin:20250324T193000
DTEND;TZID=Europe/Berlin:20250324T223000
SUMMARY:HE 4. Liga Gr. 4 Niederhasli IV vs Buchs Zürich II (0)
UID:a9216a03-5490-4f85-96b7-f46937e2e6f6
STATUS:CONFIRMED
LAST-MODIFIED:20250327T133633Z
DESCRIPTION:4. Liga Herren Gruppe 4\nBegegnungs-Nr: 0\nHeim: Niederhasli IV\nGast: Buchs Zürich II\n\nAdresse: Dorfstrasse 22\, 8155 Niederhasli\n
LOCATION:Dorfstrasse 22\, 8155 Niederhasli
CATEGORIES:Saison 2024/25
END:VEVENT
BEGIN:VEVENT
DTSTAMP:20260425T005107Z
DTSTART;TZID=Europe/Berlin:20250310T193000
DTEND;TZID=Europe/Berlin:20250310T223000
SUMMARY:HE 4. Liga Gr. 4 Niederhasli IV vs Pinguin Zürich IV (0)
UID:ba9fb62c-66bc-45b1-a404-bb091161e491
STATUS:CONFIRMED
LAST-MODIFIED:20250311T152153Z
DESCRIPTION:4. Liga Herren Gruppe 4\nBegegnungs-Nr: 0\nHeim: Niederhasli IV\nGast: Pinguin Zürich IV\n\nAdresse: Dorfstrasse 22\, 8155 Niederhasli\n
LOCATION:Dorfstrasse 22\, 8155 Niederhasli
CATEGORIES:Saison 2024/25
END:VEVENT
BEGIN:VEVENT
DTSTAMP:20260425T005107Z
DTSTART;TZID=Europe/Berlin:20250210T193000
DTEND;TZID=Europe/Berlin:20250210T223000
SUMMARY:HE 4. Liga Gr. 4 Niederhasli IV vs Young Stars ZH VIII (0)
UID:9f657725-4a05-4db1-836b-edb90c11065c
STATUS:CONFIRMED
LAST-MODIFIED:20250213T131841Z
DESCRIPTION:4. Liga Herren Gruppe 4\nBegegnungs-Nr: 0\nHeim: Niederhasli IV\nGast: Young Stars ZH VIII\n\nAdresse: Dorfstrasse 22\, 8155 Niederhasli\n
LOCATION:Dorfstrasse 22\, 8155 Niederhasli
CATEGORIES:Saison 2024/25
END:VEVENT
BEGIN:VEVENT
DTSTAMP:20260425T005107Z
DTSTART;TZID=Europe/Berlin:20250305T193000
DTEND;TZID=Europe/Berlin:20250305T223000
SUMMARY:HE 4. Liga Gr. 4 Niederhasli IV vs Thalwil III (0)
UID:5cca15c6-1680-4447-96c5-40565e65fb7b
STATUS:CONFIRMED
LAST-MODIFIED:20250306T142353Z
DESCRIPTION:4. Liga Herren Gruppe 4\nBegegnungs-Nr: 0\nHeim: Niederhasli IV\nGast: Thalwil III\n\nAdresse: Dorfstrasse 22\, 8155 Niederhasli\n
LOCATION:Dorfstrasse 22\, 8155 Niederhasli
CATEGORIES:Saison 2024/25
END:VEVENT
BEGIN:VEVENT
DTSTAMP:20260425T005107Z
DTSTART;TZID=Europe/Berlin:20241104T193000
DTEND;TZID=Europe/Berlin:20241104T223000
SUMMARY:HE 4. Liga Gr. 4 Niederhasli IV vs Dietikon-Weiningen II (0)
UID:0b9054d8-3bc3-4a61-a808-9429b8707c65
STATUS:CONFIRMED
LAST-MODIFIED:20241108T134713Z
DESCRIPTION:4. Liga Herren Gruppe 4\nBegegnungs-Nr: 0\nHeim: Niederhasli IV\nGast: Dietikon-Weiningen II\n\nAdresse: Dorfstrasse 22\, 8155 Niederhasli\n
LOCATION:Dorfstrasse 22\, 8155 Niederhasli
CATEGORIES:Saison 2024/25
END:VEVENT
BEGIN:VEVENT
DTSTAMP:20260425T005107Z
DTSTART;TZID=Europe/Berlin:20240916T193000
DTEND;TZID=Europe/Berlin:20240916T223000
SUMMARY:HE 4. Liga Gr. 4 Niederhasli IV vs Seebach-Kügeliloo (0)
UID:208121b1-2978-44a7-8789-a13e1ab52dc7
STATUS:CONFIRMED
LAST-MODIFIED:20240917T071015Z
DESCRIPTION:4. Liga Herren Gruppe 4\nBegegnungs-Nr: 0\nHeim: Niederhasli IV\nGast: Seebach-Kügeliloo\n\nAdresse: Dorfstrasse 22\, 8155 Niederhasli\n
LOCATION:Dorfstrasse 22\, 8155 Niederhasli
CATEGORIES:Saison 2024/25
END:VEVENT
BEGIN:VEVENT
DTSTAMP:20260425T005107Z
DTSTART;TZID=Europe/Berlin:20240826T193000
DTEND;TZID=Europe/Berlin:20240826T223000
SUMMARY:HE 4. Liga Gr. 4 Niederhasli IV vs Höngg II (0)
UID:97cf7273-2ffd-4ff1-a8e5-ccd3370c0496
STATUS:CONFIRMED
LAST-MODIFIED:20240828T083734Z
DESCRIPTION:4. Liga Herren Gruppe 4\nBegegnungs-Nr: 0\nHeim: Niederhasli IV\nGast: Höngg II\n\nAdresse: Dorfstrasse 22\, 8155 Niederhasli\n
LOCATION:Dorfstrasse 22\, 8155 Niederhasli
CATEGORIES:Saison 2024/25
END:VEVENT
BEGIN:VEVENT
DTSTAMP:20260425T005107Z
DTSTART;TZID=Europe/Berlin:20250307T200000
DTEND;TZID=Europe/Berlin:20250307T230000
SUMMARY:HE 4. Liga Gr. 4 Dietikon-Weiningen II vs Niederhasli IV (0)
UID:8997fe98-0902-4c04-a3e8-9d3ce448180b
STATUS:CONFIRMED
LAST-MODIFIED:20250311T152055Z
DESCRIPTION:4. Liga Herren Gruppe 4\nBegegnungs-Nr: 0\nHeim: Dietikon-Weiningen II\nGast: Niederhasli IV\n\nAdresse: Bohnackerstrasse 5\, 8953 Dietikon\n
LOCATION:Bohnackerstrasse 5\, 8953 Dietikon
CATEGORIES:Saison 2024/25
END:VEVENT
BEGIN:VEVENT
DTSTAMP:20260425T005107Z
DTSTART;TZID=Europe/Berlin:20250129T193000
DTEND;TZID=Europe/Berlin:20250129T223000
SUMMARY:HE 4. Liga Gr. 4 Seebach-Kügeliloo vs Niederhasli IV (0)
UID:32cfccc9-d121-46f0-ab7d-353d468d9c32
STATUS:CONFIRMED
LAST-MODIFIED:20250131T143637Z
DESCRIPTION:4. Liga Herren Gruppe 4\nBegegnungs-Nr: 0\nHeim: Seebach-Kügeliloo\nGast: Niederhasli IV\n\nAdresse: Maienstrasse 9\, 8050 Zürich\n
LOCATION:Maienstrasse 9\, 8050 Zürich
CATEGORIES:Saison 2024/25
END:VEVENT
BEGIN:VEVENT
DTSTAMP:20260425T005107Z
DTSTART;TZID=Europe/Berlin:20250110T200000
DTEND;TZID=Europe/Berlin:20250110T230000
SUMMARY:HE 4. Liga Gr. 4 Höngg II vs Niederhasli IV (0)
UID:f2b30e0d-939f-4447-a61a-2ff9badd0132
STATUS:CONFIRMED
LAST-MODIFIED:20250113T122734Z
DESCRIPTION:4. Liga Herren Gruppe 4\nBegegnungs-Nr: 0\nHeim: Höngg II\nGast: Niederhasli IV\n\nAdresse: Bläsistrasse 2\, 8049 Zürich\n
LOCATION:Bläsistrasse 2\, 8049 Zürich
CATEGORIES:Saison 2024/25
END:VEVENT
BEGIN:VEVENT
DTSTAMP:20260425T005107Z
DTSTART;TZID=Europe/Berlin:20241206T193000
DTEND;TZID=Europe/Berlin:20241206T223000
SUMMARY:HE 4. Liga Gr. 4 Buchs Zürich II vs Niederhasli IV (0)
UID:cad68d19-bfd3-4a85-a3b6-9a6fa3afda25
STATUS:CONFIRMED
LAST-MODIFIED:20241211T090521Z
DESCRIPTION:4. Liga Herren Gruppe 4\nBegegnungs-Nr: 0\nHeim: Buchs Zürich II\nGast: Niederhasli IV\n\nAdresse: Drisglerstrasse 3\, 8107 Buchs ZH\n
LOCATION:Drisglerstrasse 3\, 8107 Buchs ZH
CATEGORIES:Saison 2024/25
END:VEVENT
BEGIN:VEVENT
DTSTAMP:20260425T005107Z
DTSTART;TZID=Europe/Berlin:20241108T193000
DTEND;TZID=Europe/Berlin:20241108T223000
SUMMARY:HE 4. Liga Gr. 4 Pinguin Zürich IV vs Niederhasli IV (0)
UID:be788c70-51bd-4680-80a5-20ba3af9ca7b
STATUS:CONFIRMED
LAST-MODIFIED:20241114T072921Z
DESCRIPTION:4. Liga Herren Gruppe 4\nBegegnungs-Nr: 0\nHeim: Pinguin Zürich IV\nGast: Niederhasli IV\n\nAdresse: Basteiplatz\, 8001 Zürich\n
LOCATION:Basteiplatz\, 8001 Zürich
CATEGORIES:Saison 2024/25
END:VEVENT
BEGIN:VEVENT
DTSTAMP:20260425T005107Z
DTSTART;TZID=Europe/Berlin:20240925T201500
DTEND;TZID=Europe/Berlin:20240925T231500
SUMMARY:HE 4. Liga Gr. 4 Young Stars ZH VIII vs Niederhasli IV (0)
UID:031f1ddb-27a0-41ee-be5a-1ed54a3d615d
STATUS:CONFIRMED
LAST-MODIFIED:20240930T124033Z
DESCRIPTION:4. Liga Herren Gruppe 4\nBegegnungs-Nr: 0\nHeim: Young Stars ZH VIII\nGast: Niederhasli IV\n\nAdresse: Seefeldstrasse 93\, 8008 Zürich\n
LOCATION:Seefeldstrasse 93\, 8008 Zürich
CATEGORIES:Saison 2024/25
END:VEVENT
BEGIN:VEVENT
DTSTAMP:20260425T005107Z
DTSTART;TZID=Europe/Berlin:20240911T201500
DTEND;TZID=Europe/Berlin:20240911T231500
SUMMARY:HE 4. Liga Gr. 4 Thalwil III vs Niederhasli IV (0)
UID:4159f2af-321a-4b45-9efe-1b4cb1537d49
STATUS:CONFIRMED
LAST-MODIFIED:20240912T075617Z
DESCRIPTION:4. Liga Herren Gruppe 4\nBegegnungs-Nr: 0\nHeim: Thalwil III\nGast: Niederhasli IV\n\nAdresse: Bergstrasse 2\, 8800 Thalwil\n
LOCATION:Bergstrasse 2\, 8800 Thalwil
CATEGORIES:Saison 2024/25
END:VEVENT
END:VCALENDAR
