BEGIN:VCALENDAR
PRODID:-//nuDatenautomaten//framework iCal4j //DE
VERSION:2.0
CALSCALE:GREGORIAN
BEGIN:VTIMEZONE
TZID:Europe/Berlin
LAST-MODIFIED:20260306T231828Z
TZURL:https://www.tzurl.org/zoneinfo/Europe/Berlin
X-LIC-LOCATION:Europe/Berlin
X-PROLEPTIC-TZNAME:LMT
BEGIN:STANDARD
TZNAME:CET
TZOFFSETFROM:+005328
TZOFFSETTO:+0100
DTSTART:18930401T000000
END:STANDARD
BEGIN:DAYLIGHT
TZNAME:CEST
TZOFFSETFROM:+0100
TZOFFSETTO:+0200
DTSTART:19160430T230000
RDATE:19400401T020000
RDATE:19430329T020000
RDATE:19460414T020000
RDATE:19470406T030000
RDATE:19480418T020000
RDATE:19490410T020000
RDATE:19800406T020000
END:DAYLIGHT
BEGIN:STANDARD
TZNAME:CET
TZOFFSETFROM:+0200
TZOFFSETTO:+0100
DTSTART:19161001T010000
RDATE:19421102T030000
RDATE:19431004T030000
RDATE:19441002T030000
RDATE:19451118T030000
RDATE:19461007T030000
END:STANDARD
BEGIN:DAYLIGHT
TZNAME:CEST
TZOFFSETFROM:+0100
TZOFFSETTO:+0200
DTSTART:19170416T020000
RRULE:FREQ=YEARLY;UNTIL=19180415T010000Z;BYMONTH=4;BYDAY=3MO
END:DAYLIGHT
BEGIN:STANDARD
TZNAME:CET
TZOFFSETFROM:+0200
TZOFFSETTO:+0100
DTSTART:19170917T030000
RRULE:FREQ=YEARLY;UNTIL=19180916T010000Z;BYMONTH=9;BYDAY=3MO
END:STANDARD
BEGIN:DAYLIGHT
TZNAME:CEST
TZOFFSETFROM:+0100
TZOFFSETTO:+0200
DTSTART:19440403T020000
RRULE:FREQ=YEARLY;UNTIL=19450402T010000Z;BYMONTH=4;BYDAY=1MO
END:DAYLIGHT
BEGIN:DAYLIGHT
TZNAME:CEMT
TZOFFSETFROM:+0200
TZOFFSETTO:+0300
DTSTART:19450524T020000
RDATE:19470511T030000
END:DAYLIGHT
BEGIN:DAYLIGHT
TZNAME:CEST
TZOFFSETFROM:+0300
TZOFFSETTO:+0200
DTSTART:19450924T030000
RDATE:19470629T030000
END:DAYLIGHT
BEGIN:STANDARD
TZNAME:CET
TZOFFSETFROM:+0100
TZOFFSETTO:+0100
DTSTART:19460101T000000
RDATE:19800101T000000
END:STANDARD
BEGIN:STANDARD
TZNAME:CET
TZOFFSETFROM:+0200
TZOFFSETTO:+0100
DTSTART:19471005T030000
RRULE:FREQ=YEARLY;UNTIL=19491002T010000Z;BYMONTH=10;BYDAY=1SU
END:STANDARD
BEGIN:STANDARD
TZNAME:CET
TZOFFSETFROM:+0200
TZOFFSETTO:+0100
DTSTART:19800928T030000
RRULE:FREQ=YEARLY;UNTIL=19950924T010000Z;BYMONTH=9;BYDAY=-1SU
END:STANDARD
BEGIN:DAYLIGHT
TZNAME:CEST
TZOFFSETFROM:+0100
TZOFFSETTO:+0200
DTSTART:19810329T020000
RRULE:FREQ=YEARLY;BYMONTH=3;BYDAY=-1SU
END:DAYLIGHT
BEGIN:STANDARD
TZNAME:CET
TZOFFSETFROM:+0200
TZOFFSETTO:+0100
DTSTART:19961027T030000
RRULE:FREQ=YEARLY;BYMONTH=10;BYDAY=-1SU
END:STANDARD
END:VTIMEZONE
BEGIN:VEVENT
DTSTAMP:20260425T003703Z
DTSTART;TZID=Europe/Berlin:20240911T194500
DTEND;TZID=Europe/Berlin:20240911T224500
SUMMARY:Ligue 3 Gr.3 Ph.A Mandement IV vs UGS-Chênois VIII (1)
UID:51b6dd74-65dd-47db-8ce1-f2c8a3625c57
STATUS:CONFIRMED
LAST-MODIFIED:20240912T083710Z
DESCRIPTION:3ème ligue Hommes Gr.3 Phase A\nBegegnungs-Nr: 1\nHeim: Mandement IV\nGast: UGS-Chênois VIII\n
LOCATION:
CATEGORIES:Saison 2024/25
END:VEVENT
BEGIN:VEVENT
DTSTAMP:20260425T003703Z
DTSTART;TZID=Europe/Berlin:20241016T194500
DTEND;TZID=Europe/Berlin:20241016T224500
SUMMARY:Ligue 3 Gr.3 Ph.A Mandement IV vs Puplinge (13)
UID:28ff8e8e-574e-4762-835a-c5056788ef81
STATUS:CONFIRMED
LAST-MODIFIED:20241017T192300Z
DESCRIPTION:3ème ligue Hommes Gr.3 Phase A\nBegegnungs-Nr: 13\nHeim: Mandement IV\nGast: Puplinge\n
LOCATION:
CATEGORIES:Saison 2024/25
END:VEVENT
BEGIN:VEVENT
DTSTAMP:20260425T003703Z
DTSTART;TZID=Europe/Berlin:20240925T194500
DTEND;TZID=Europe/Berlin:20240925T224500
SUMMARY:Ligue 3 Gr.3 Ph.A Mandement IV vs Veyrier II (7)
UID:588c5497-969f-46e6-ab68-ac047ce7a6e9
STATUS:CONFIRMED
LAST-MODIFIED:20240926T101519Z
DESCRIPTION:3ème ligue Hommes Gr.3 Phase A\nBegegnungs-Nr: 7\nHeim: Mandement IV\nGast: Veyrier II\n
LOCATION:
CATEGORIES:Saison 2024/25
END:VEVENT
BEGIN:VEVENT
DTSTAMP:20260425T003703Z
DTSTART;TZID=Europe/Berlin:20241127T194500
DTEND;TZID=Europe/Berlin:20241127T224500
SUMMARY:Ligue 3 Gr.3 Ph.A Mandement IV vs ZZ-Lancy VII (25)
UID:02f86ba0-5924-4305-9c04-dead9a12186e
STATUS:CONFIRMED
LAST-MODIFIED:20241129T073051Z
DESCRIPTION:3ème ligue Hommes Gr.3 Phase A\nBegegnungs-Nr: 25\nHeim: Mandement IV\nGast: ZZ-Lancy VII\n
LOCATION:
CATEGORIES:Saison 2024/25
END:VEVENT
BEGIN:VEVENT
DTSTAMP:20260425T003703Z
DTSTART;TZID=Europe/Berlin:20241113T194500
DTEND;TZID=Europe/Berlin:20241113T224500
SUMMARY:Ligue 3 Gr.3 Ph.A Mandement IV vs Grand-Saconnex (21)
UID:a917d5a0-a198-4e41-9980-7cd170922fb3
STATUS:CONFIRMED
LAST-MODIFIED:20241114T112049Z
DESCRIPTION:3ème ligue Hommes Gr.3 Phase A\nBegegnungs-Nr: 21\nHeim: Mandement IV\nGast: Grand-Saconnex\n
LOCATION:
CATEGORIES:Saison 2024/25
END:VEVENT
BEGIN:VEVENT
DTSTAMP:20260425T003703Z
DTSTART;TZID=Europe/Berlin:20250528T194500
DTEND;TZID=Europe/Berlin:20250528T224500
SUMMARY:Ligue 3 Titre finale Mandement IV vs ZZ-Lancy V (1)
UID:079e4df1-dd10-4820-b475-1117344353a1
STATUS:CONFIRMED
LAST-MODIFIED:20250529T204238Z
DESCRIPTION:3ème ligue Hommes Titre finale\nBegegnungs-Nr: 1\nHeim: Mandement IV\nGast: ZZ-Lancy V\n
LOCATION:
CATEGORIES:Saison 2024/25
END:VEVENT
BEGIN:VEVENT
DTSTAMP:20260425T003703Z
DTSTART;TZID=Europe/Berlin:20250521T194500
DTEND;TZID=Europe/Berlin:20250521T224500
SUMMARY:Ligue 3 Titre demi Mandement IV vs Châtelaine V (1)
UID:6d5803b0-a3ca-402e-bf59-c11fa234e32d
STATUS:CONFIRMED
LAST-MODIFIED:20250522T070255Z
DESCRIPTION:3ème ligue Hommes Titre demi\nBegegnungs-Nr: 1\nHeim: Mandement IV\nGast: Châtelaine V\n
LOCATION:
CATEGORIES:Saison 2024/25
END:VEVENT
BEGIN:VEVENT
DTSTAMP:20260425T003703Z
DTSTART;TZID=Europe/Berlin:20250415T194500
DTEND;TZID=Europe/Berlin:20250415T224500
SUMMARY:Ligue 2 Gr.2\, Ph.B Mandement IV vs Châtelaine III (28)
UID:22c5e510-1676-47b6-9b20-6b3b8bdd0615
STATUS:CONFIRMED
LAST-MODIFIED:20250416T081656Z
DESCRIPTION:2ème ligue Homme Gr.2 Phase B\nBegegnungs-Nr: 28\nHeim: Mandement IV\nGast: Châtelaine III\n\nAdresse: Route de la Gare de Satigny 27A\, 1242 Satigny\n
LOCATION:Route de la Gare de Satigny 27A\, 1242 Satigny
CATEGORIES:Saison 2024/25
END:VEVENT
BEGIN:VEVENT
DTSTAMP:20260425T003703Z
DTSTART;TZID=Europe/Berlin:20250318T194500
DTEND;TZID=Europe/Berlin:20250318T224500
SUMMARY:Ligue 2 Gr.2\, Ph.B Mandement IV vs ZZ-Lancy VI (20)
UID:6f327d43-e05d-4214-ad6a-fabf58558eb4
STATUS:CONFIRMED
LAST-MODIFIED:20250319T084917Z
DESCRIPTION:2ème ligue Homme Gr.2 Phase B\nBegegnungs-Nr: 20\nHeim: Mandement IV\nGast: ZZ-Lancy VI\n\nAdresse: Route de la Gare de Satigny 27A\, 1242 Satigny\n
LOCATION:Route de la Gare de Satigny 27A\, 1242 Satigny
CATEGORIES:Saison 2024/25
END:VEVENT
BEGIN:VEVENT
DTSTAMP:20260425T003703Z
DTSTART;TZID=Europe/Berlin:20250114T194500
DTEND;TZID=Europe/Berlin:20250114T224500
SUMMARY:Ligue 2 Gr.2\, Ph.B Mandement IV vs UGS-Chênois V (2)
UID:52c1ed96-32b7-433b-9cfb-7ea1813e7978
STATUS:CONFIRMED
LAST-MODIFIED:20250115T085029Z
DESCRIPTION:2ème ligue Homme Gr.2 Phase B\nBegegnungs-Nr: 2\nHeim: Mandement IV\nGast: UGS-Chênois V\n\nAdresse: Route de la Gare de Satigny 27A\, 1242 Satigny\n
LOCATION:Route de la Gare de Satigny 27A\, 1242 Satigny
CATEGORIES:Saison 2024/25
END:VEVENT
BEGIN:VEVENT
DTSTAMP:20260425T003703Z
DTSTART;TZID=Europe/Berlin:20250211T194500
DTEND;TZID=Europe/Berlin:20250211T224500
SUMMARY:Ligue 2 Gr.2\, Ph.B Mandement IV vs Silver Star III (12)
UID:0e97c845-28a0-489e-9e45-fb91742c31d5
STATUS:CONFIRMED
LAST-MODIFIED:20250212T101701Z
DESCRIPTION:2ème ligue Homme Gr.2 Phase B\nBegegnungs-Nr: 12\nHeim: Mandement IV\nGast: Silver Star III\n\nAdresse: Route de la Gare de Satigny 27A\, 1242 Satigny\n
LOCATION:Route de la Gare de Satigny 27A\, 1242 Satigny
CATEGORIES:Saison 2024/25
END:VEVENT
BEGIN:VEVENT
DTSTAMP:20260425T003703Z
DTSTART;TZID=Europe/Berlin:20250128T194500
DTEND;TZID=Europe/Berlin:20250128T224500
SUMMARY:Ligue 2 Gr.2\, Ph.B Mandement IV vs Onex (8)
UID:06acc13f-ae95-40a2-9d75-8930e08d0479
STATUS:CONFIRMED
LAST-MODIFIED:20250129T084301Z
DESCRIPTION:2ème ligue Homme Gr.2 Phase B\nBegegnungs-Nr: 8\nHeim: Mandement IV\nGast: Onex\n\nAdresse: Route de la Gare de Satigny 27A\, 1242 Satigny\n
LOCATION:Route de la Gare de Satigny 27A\, 1242 Satigny
CATEGORIES:Saison 2024/25
END:VEVENT
BEGIN:VEVENT
DTSTAMP:20260425T003703Z
DTSTART;TZID=Europe/Berlin:20241030T194500
DTEND;TZID=Europe/Berlin:20241030T224500
SUMMARY:Ligue 3 Gr.3 Ph.A UGS-Chênois VIII vs Mandement IV (16)
UID:cb078b65-0c44-4e44-8e09-1cb870b5ed4f
STATUS:CONFIRMED
LAST-MODIFIED:20241031T090710Z
DESCRIPTION:3ème ligue Hommes Gr.3 Phase A\nBegegnungs-Nr: 16\nHeim: UGS-Chênois VIII\nGast: Mandement IV\n
LOCATION:
CATEGORIES:Saison 2024/25
END:VEVENT
BEGIN:VEVENT
DTSTAMP:20260425T003703Z
DTSTART;TZID=Europe/Berlin:20241009T201500
DTEND;TZID=Europe/Berlin:20241009T231500
SUMMARY:Ligue 3 Gr.3 Ph.A ZZ-Lancy VII vs Mandement IV (10)
UID:e3eb19e4-fd40-413e-926c-2c8ebfb58cd5
STATUS:CONFIRMED
LAST-MODIFIED:20241010T075333Z
DESCRIPTION:3ème ligue Hommes Gr.3 Phase A\nBegegnungs-Nr: 10\nHeim: ZZ-Lancy VII\nGast: Mandement IV\n
LOCATION:
CATEGORIES:Saison 2024/25
END:VEVENT
BEGIN:VEVENT
DTSTAMP:20260425T003703Z
DTSTART;TZID=Europe/Berlin:20240918T194500
DTEND;TZID=Europe/Berlin:20240918T224500
SUMMARY:Ligue 3 Gr.3 Ph.A Grand-Saconnex vs Mandement IV (6)
UID:07ee8bf2-d34d-475c-b6b1-6d81a7dee317
STATUS:CONFIRMED
LAST-MODIFIED:20240919T091723Z
DESCRIPTION:3ème ligue Hommes Gr.3 Phase A\nBegegnungs-Nr: 6\nHeim: Grand-Saconnex\nGast: Mandement IV\n
LOCATION:
CATEGORIES:Saison 2024/25
END:VEVENT
BEGIN:VEVENT
DTSTAMP:20260425T003703Z
DTSTART;TZID=Europe/Berlin:20241204T194500
DTEND;TZID=Europe/Berlin:20241204T224500
SUMMARY:Ligue 3 Gr.3 Ph.A Puplinge vs Mandement IV (28)
UID:4290855c-3cc3-479d-a187-a6f7386a4cb5
STATUS:CONFIRMED
LAST-MODIFIED:20241205T090106Z
DESCRIPTION:3ème ligue Hommes Gr.3 Phase A\nBegegnungs-Nr: 28\nHeim: Puplinge\nGast: Mandement IV\n\nAdresse: Chemin de la Brenaz\,  15\, 1241 Puplinge\n
LOCATION:Chemin de la Brenaz\,  15\, 1241 Puplinge
CATEGORIES:Saison 2024/25
END:VEVENT
BEGIN:VEVENT
DTSTAMP:20260425T003703Z
DTSTART;TZID=Europe/Berlin:20241120T194500
DTEND;TZID=Europe/Berlin:20241120T224500
SUMMARY:Ligue 3 Gr.3 Ph.A Veyrier II vs Mandement IV (22)
UID:7c0b6a17-d51d-4263-a26a-dee562544cb3
STATUS:CONFIRMED
LAST-MODIFIED:20241123T170903Z
DESCRIPTION:3ème ligue Hommes Gr.3 Phase A\nBegegnungs-Nr: 22\nHeim: Veyrier II\nGast: Mandement IV\n
LOCATION:
CATEGORIES:Saison 2024/25
END:VEVENT
BEGIN:VEVENT
DTSTAMP:20260425T003703Z
DTSTART;TZID=Europe/Berlin:20250408T194500
DTEND;TZID=Europe/Berlin:20250408T224500
SUMMARY:Ligue 2 Gr.2\, Ph.B Silver Star III vs Mandement IV (27)
UID:b36b1359-d902-486a-b4a2-2c0a30b725c0
STATUS:CONFIRMED
LAST-MODIFIED:20250409T071436Z
DESCRIPTION:2ème ligue Homme Gr.2 Phase B\nBegegnungs-Nr: 27\nHeim: Silver Star III\nGast: Mandement IV\n
LOCATION:
CATEGORIES:Saison 2024/25
END:VEVENT
BEGIN:VEVENT
DTSTAMP:20260425T003703Z
DTSTART;TZID=Europe/Berlin:20250401T200000
DTEND;TZID=Europe/Berlin:20250401T230000
SUMMARY:Ligue 2 Gr.2\, Ph.B Onex vs Mandement IV (23)
UID:fa04893b-987f-4a78-87c4-893906c9765c
STATUS:CONFIRMED
LAST-MODIFIED:20250402T071221Z
DESCRIPTION:2ème ligue Homme Gr.2 Phase B\nBegegnungs-Nr: 23\nHeim: Onex\nGast: Mandement IV\n
LOCATION:
CATEGORIES:Saison 2024/25
END:VEVENT
BEGIN:VEVENT
DTSTAMP:20260425T003703Z
DTSTART;TZID=Europe/Berlin:20250311T193000
DTEND;TZID=Europe/Berlin:20250311T223000
SUMMARY:Ligue 2 Gr.2\, Ph.B UGS-Chênois V vs Mandement IV (17)
UID:bbce496d-e533-4f3a-ba92-ed6ebd696fe7
STATUS:CONFIRMED
LAST-MODIFIED:20250312T083500Z
DESCRIPTION:2ème ligue Homme Gr.2 Phase B\nBegegnungs-Nr: 17\nHeim: UGS-Chênois V\nGast: Mandement IV\n
LOCATION:
CATEGORIES:Saison 2024/25
END:VEVENT
BEGIN:VEVENT
DTSTAMP:20260425T003703Z
DTSTART;TZID=Europe/Berlin:20250218T200000
DTEND;TZID=Europe/Berlin:20250218T230000
SUMMARY:Ligue 2 Gr.2\, Ph.B Châtelaine III vs Mandement IV (13)
UID:cff9e6d9-3059-40aa-918e-cbb7a6748c70
STATUS:CONFIRMED
LAST-MODIFIED:20250418T194746Z
DESCRIPTION:2ème ligue Homme Gr.2 Phase B\nBegegnungs-Nr: 13\nHeim: Châtelaine III\nGast: Mandement IV\n
LOCATION:
CATEGORIES:Saison 2024/25
END:VEVENT
BEGIN:VEVENT
DTSTAMP:20260425T003703Z
DTSTART;TZID=Europe/Berlin:20250121T200000
DTEND;TZID=Europe/Berlin:20250121T230000
SUMMARY:Ligue 2 Gr.2\, Ph.B ZZ-Lancy VI vs Mandement IV (5)
UID:dde7a6e4-9420-40f4-b990-49dedf526936
STATUS:CONFIRMED
LAST-MODIFIED:20250123T200015Z
DESCRIPTION:2ème ligue Homme Gr.2 Phase B\nBegegnungs-Nr: 5\nHeim: ZZ-Lancy VI\nGast: Mandement IV\n
LOCATION:
CATEGORIES:Saison 2024/25
END:VEVENT
END:VCALENDAR
