BEGIN:VCALENDAR
PRODID:-//nuDatenautomaten//framework iCal4j //DE
VERSION:2.0
CALSCALE:GREGORIAN
BEGIN:VTIMEZONE
TZID:Europe/Berlin
LAST-MODIFIED:20260306T231828Z
TZURL:https://www.tzurl.org/zoneinfo/Europe/Berlin
X-LIC-LOCATION:Europe/Berlin
X-PROLEPTIC-TZNAME:LMT
BEGIN:STANDARD
TZNAME:CET
TZOFFSETFROM:+005328
TZOFFSETTO:+0100
DTSTART:18930401T000000
END:STANDARD
BEGIN:DAYLIGHT
TZNAME:CEST
TZOFFSETFROM:+0100
TZOFFSETTO:+0200
DTSTART:19160430T230000
RDATE:19400401T020000
RDATE:19430329T020000
RDATE:19460414T020000
RDATE:19470406T030000
RDATE:19480418T020000
RDATE:19490410T020000
RDATE:19800406T020000
END:DAYLIGHT
BEGIN:STANDARD
TZNAME:CET
TZOFFSETFROM:+0200
TZOFFSETTO:+0100
DTSTART:19161001T010000
RDATE:19421102T030000
RDATE:19431004T030000
RDATE:19441002T030000
RDATE:19451118T030000
RDATE:19461007T030000
END:STANDARD
BEGIN:DAYLIGHT
TZNAME:CEST
TZOFFSETFROM:+0100
TZOFFSETTO:+0200
DTSTART:19170416T020000
RRULE:FREQ=YEARLY;UNTIL=19180415T010000Z;BYMONTH=4;BYDAY=3MO
END:DAYLIGHT
BEGIN:STANDARD
TZNAME:CET
TZOFFSETFROM:+0200
TZOFFSETTO:+0100
DTSTART:19170917T030000
RRULE:FREQ=YEARLY;UNTIL=19180916T010000Z;BYMONTH=9;BYDAY=3MO
END:STANDARD
BEGIN:DAYLIGHT
TZNAME:CEST
TZOFFSETFROM:+0100
TZOFFSETTO:+0200
DTSTART:19440403T020000
RRULE:FREQ=YEARLY;UNTIL=19450402T010000Z;BYMONTH=4;BYDAY=1MO
END:DAYLIGHT
BEGIN:DAYLIGHT
TZNAME:CEMT
TZOFFSETFROM:+0200
TZOFFSETTO:+0300
DTSTART:19450524T020000
RDATE:19470511T030000
END:DAYLIGHT
BEGIN:DAYLIGHT
TZNAME:CEST
TZOFFSETFROM:+0300
TZOFFSETTO:+0200
DTSTART:19450924T030000
RDATE:19470629T030000
END:DAYLIGHT
BEGIN:STANDARD
TZNAME:CET
TZOFFSETFROM:+0100
TZOFFSETTO:+0100
DTSTART:19460101T000000
RDATE:19800101T000000
END:STANDARD
BEGIN:STANDARD
TZNAME:CET
TZOFFSETFROM:+0200
TZOFFSETTO:+0100
DTSTART:19471005T030000
RRULE:FREQ=YEARLY;UNTIL=19491002T010000Z;BYMONTH=10;BYDAY=1SU
END:STANDARD
BEGIN:STANDARD
TZNAME:CET
TZOFFSETFROM:+0200
TZOFFSETTO:+0100
DTSTART:19800928T030000
RRULE:FREQ=YEARLY;UNTIL=19950924T010000Z;BYMONTH=9;BYDAY=-1SU
END:STANDARD
BEGIN:DAYLIGHT
TZNAME:CEST
TZOFFSETFROM:+0100
TZOFFSETTO:+0200
DTSTART:19810329T020000
RRULE:FREQ=YEARLY;BYMONTH=3;BYDAY=-1SU
END:DAYLIGHT
BEGIN:STANDARD
TZNAME:CET
TZOFFSETFROM:+0200
TZOFFSETTO:+0100
DTSTART:19961027T030000
RRULE:FREQ=YEARLY;BYMONTH=10;BYDAY=-1SU
END:STANDARD
END:VTIMEZONE
BEGIN:VEVENT
DTSTAMP:20260424T231841Z
DTSTART;TZID=Europe/Berlin:20250201T170000
DTEND;TZID=Europe/Berlin:20250201T200000
SUMMARY:HE NLB Gr. 2 Rapid Luzern vs Rio-Star Muttenz II (7)
UID:c488cdf1-b9f9-4932-a929-99c0f926369f
STATUS:CONFIRMED
LAST-MODIFIED:20250203T092427Z
DESCRIPTION:Herren Nationalliga B Gruppe 2\nBegegnungs-Nr: 7\nHeim: Rapid Luzern\nGast: Rio-Star Muttenz II\n\nAdresse: Kreuzbuchstr. 60\, 6006 Luzern\n
LOCATION:Kreuzbuchstr. 60\, 6006 Luzern
CATEGORIES:Saison 2024/25
END:VEVENT
BEGIN:VEVENT
DTSTAMP:20260424T231841Z
DTSTART;TZID=Europe/Berlin:20250111T163000
DTEND;TZID=Europe/Berlin:20250111T193000
SUMMARY:HE NLB Gr. 2 Rapid Luzern vs ABTT (1)
UID:d753b7ea-a8a3-4357-99ad-96d6981f5257
STATUS:CONFIRMED
LAST-MODIFIED:20250113T084010Z
DESCRIPTION:Herren Nationalliga B Gruppe 2\nBegegnungs-Nr: 1\nHeim: Rapid Luzern\nGast: ABTT\n\nAdresse: Kreuzbuchstr. 60\, 6006 Luzern\n
LOCATION:Kreuzbuchstr. 60\, 6006 Luzern
CATEGORIES:Saison 2024/25
END:VEVENT
BEGIN:VEVENT
DTSTAMP:20260424T231841Z
DTSTART;TZID=Europe/Berlin:20250405T160000
DTEND;TZID=Europe/Berlin:20250405T190000
SUMMARY:HE NLB Gr. 2 Rapid Luzern vs Young Stars ZH II (21)
UID:1a7b9722-b96a-4606-99ab-705324bad3ae
STATUS:CONFIRMED
LAST-MODIFIED:20250408T101943Z
DESCRIPTION:Herren Nationalliga B Gruppe 2\nBegegnungs-Nr: 21\nHeim: Rapid Luzern\nGast: Young Stars ZH II\n\nAdresse: Kreuzbuchstr. 60\, 6006 Luzern\n
LOCATION:Kreuzbuchstr. 60\, 6006 Luzern
CATEGORIES:Saison 2024/25
END:VEVENT
BEGIN:VEVENT
DTSTAMP:20260424T231841Z
DTSTART;TZID=Europe/Berlin:20250406T153000
DTEND;TZID=Europe/Berlin:20250406T183000
SUMMARY:HE NLB Gr. 2 Rapid Luzern vs St. Gallen (27)
UID:7313485c-ecf3-4f3a-aa8c-c2249d939624
STATUS:CONFIRMED
LAST-MODIFIED:20250408T102016Z
DESCRIPTION:Herren Nationalliga B Gruppe 2\nBegegnungs-Nr: 27\nHeim: Rapid Luzern\nGast: St. Gallen\n\nAdresse: Kreuzbuchstr. 60\, 6006 Luzern\n
LOCATION:Kreuzbuchstr. 60\, 6006 Luzern
CATEGORIES:Saison 2024/25
END:VEVENT
BEGIN:VEVENT
DTSTAMP:20260424T231841Z
DTSTART;TZID=Europe/Berlin:20250413T140000
DTEND;TZID=Europe/Berlin:20250413T170000
SUMMARY:HE NLB Play-Off 1/2-Final Rapid Luzern vs Vevey (3)
UID:a2765a45-14d1-4dfb-b533-24e44551ee25
STATUS:CONFIRMED
LAST-MODIFIED:20250619T144128Z
DESCRIPTION:Herren Nationalliga B Play-Off 1/2-Final\nBegegnungs-Nr: 3\nHeim: Rapid Luzern\nGast: Vevey\n\nAdresse: Kreuzbuchstr. 60\, 6006 Luzern\n
LOCATION:Kreuzbuchstr. 60\, 6006 Luzern
CATEGORIES:Saison 2024/25
END:VEVENT
BEGIN:VEVENT
DTSTAMP:20260424T231841Z
DTSTART;TZID=Europe/Berlin:20240921T163000
DTEND;TZID=Europe/Berlin:20240921T193000
SUMMARY:HE NLB Gr. 2 Rapid Luzern vs Rapperswil-Jona II (7)
UID:05e94855-4bc0-4e07-ab82-09db8ddc9a4d
STATUS:CONFIRMED
LAST-MODIFIED:20240926T072437Z
DESCRIPTION:Herren Nationalliga B Gruppe 2\nBegegnungs-Nr: 7\nHeim: Rapid Luzern\nGast: Rapperswil-Jona II\n\nAdresse: Kreuzbuchstr. 60\, 6006 Luzern\n
LOCATION:Kreuzbuchstr. 60\, 6006 Luzern
CATEGORIES:Saison 2024/25
END:VEVENT
BEGIN:VEVENT
DTSTAMP:20260424T231841Z
DTSTART;TZID=Europe/Berlin:20241102T163000
DTEND;TZID=Europe/Berlin:20241102T193000
SUMMARY:HE NLB Gr. 2 Rapid Luzern vs Fribourg (15)
UID:0c0b114b-71a7-4649-b42a-d14dedb1b28c
STATUS:CONFIRMED
LAST-MODIFIED:20241104T090409Z
DESCRIPTION:Herren Nationalliga B Gruppe 2\nBegegnungs-Nr: 15\nHeim: Rapid Luzern\nGast: Fribourg\n\nAdresse: Kreuzbuchstr. 60\, 6006 Luzern\n
LOCATION:Kreuzbuchstr. 60\, 6006 Luzern
CATEGORIES:Saison 2024/25
END:VEVENT
BEGIN:VEVENT
DTSTAMP:20260424T231841Z
DTSTART;TZID=Europe/Berlin:20241116T170000
DTEND;TZID=Europe/Berlin:20241116T200000
SUMMARY:HE NLB Gr. 2 Rapid Luzern vs Bremgarten (18)
UID:a3cace9f-ca24-4eb0-9a99-108ec6921171
STATUS:CONFIRMED
LAST-MODIFIED:20241118T111801Z
DESCRIPTION:Herren Nationalliga B Gruppe 2\nBegegnungs-Nr: 18\nHeim: Rapid Luzern\nGast: Bremgarten\n\nAdresse: Kreuzbuchstr. 60\, 6006 Luzern\n
LOCATION:Kreuzbuchstr. 60\, 6006 Luzern
CATEGORIES:Saison 2024/25
END:VEVENT
BEGIN:VEVENT
DTSTAMP:20260424T231841Z
DTSTART;TZID=Europe/Berlin:20250302T143000
DTEND;TZID=Europe/Berlin:20250302T173000
SUMMARY:HE NLB Gr. 2 Bremgarten vs Rapid Luzern (18)
UID:e778228a-95fc-4385-a264-a03aa2bdc3eb
STATUS:CONFIRMED
LAST-MODIFIED:20250303T064751Z
DESCRIPTION:Herren Nationalliga B Gruppe 2\nBegegnungs-Nr: 18\nHeim: Bremgarten\nGast: Rapid Luzern\n\nAdresse: Badstrasse 3\, 5620 Bremgarten\n
LOCATION:Badstrasse 3\, 5620 Bremgarten
CATEGORIES:Saison 2024/25
END:VEVENT
BEGIN:VEVENT
DTSTAMP:20260424T231841Z
DTSTART;TZID=Europe/Berlin:20250208T150000
DTEND;TZID=Europe/Berlin:20250208T180000
SUMMARY:HE NLB Gr. 2 Fribourg vs Rapid Luzern (11)
UID:71e34017-dc76-4fa8-b360-4da556dad9b3
STATUS:CONFIRMED
LAST-MODIFIED:20250210T074333Z
DESCRIPTION:Herren Nationalliga B Gruppe 2\nBegegnungs-Nr: 11\nHeim: Fribourg\nGast: Rapid Luzern\n\nAdresse: Avenue Général Guisan 61\, 1700 Fribourg\n
LOCATION:Avenue Général Guisan 61\, 1700 Fribourg
CATEGORIES:Saison 2024/25
END:VEVENT
BEGIN:VEVENT
DTSTAMP:20260424T231841Z
DTSTART;TZID=Europe/Berlin:20250301T123000
DTEND;TZID=Europe/Berlin:20250301T153000
SUMMARY:HE NLB Gr. 2 Rapperswil-Jona II vs Rapid Luzern (15)
UID:6ff14cef-6a6e-49ca-a310-0f38937aac92
STATUS:CONFIRMED
LAST-MODIFIED:20250312T171326Z
DESCRIPTION:Herren Nationalliga B Gruppe 2\nBegegnungs-Nr: 15\nHeim: Rapperswil-Jona II\nGast: Rapid Luzern\n\nAdresse: Kreuzstrasse 43\, 8640 Rapperswil\n
LOCATION:Kreuzstrasse 43\, 8640 Rapperswil
CATEGORIES:Saison 2024/25
END:VEVENT
BEGIN:VEVENT
DTSTAMP:20260424T231841Z
DTSTART;TZID=Europe/Berlin:20250412T150000
DTEND;TZID=Europe/Berlin:20250412T180000
SUMMARY:HE NLB Play-Off 1/2-Final Vevey vs Rapid Luzern (1)
UID:d00d5a5e-f23e-48e1-b1b5-234bef0eca95
STATUS:CONFIRMED
LAST-MODIFIED:20250619T144029Z
DESCRIPTION:Herren Nationalliga B Play-Off 1/2-Final\nBegegnungs-Nr: 1\nHeim: Vevey\nGast: Rapid Luzern\n\nAdresse: Rue Louis-Meyer\, 1800 Vevey\n
LOCATION:Rue Louis-Meyer\, 1800 Vevey
CATEGORIES:Saison 2024/25
END:VEVENT
BEGIN:VEVENT
DTSTAMP:20260424T231841Z
DTSTART;TZID=Europe/Berlin:20241207T173000
DTEND;TZID=Europe/Berlin:20241207T203000
SUMMARY:HE NLB Gr. 2 Young Stars ZH II vs Rapid Luzern (21)
UID:072e343f-ee66-4ddd-a8b0-83061580787a
STATUS:CONFIRMED
LAST-MODIFIED:20241211T124712Z
DESCRIPTION:Herren Nationalliga B Gruppe 2\nBegegnungs-Nr: 21\nHeim: Young Stars ZH II\nGast: Rapid Luzern\n\nAdresse: Seefeldstrasse 93\, 8008 Zürich\n
LOCATION:Seefeldstrasse 93\, 8008 Zürich
CATEGORIES:Saison 2024/25
END:VEVENT
BEGIN:VEVENT
DTSTAMP:20260424T231841Z
DTSTART;TZID=Europe/Berlin:20241027T140000
DTEND;TZID=Europe/Berlin:20241027T170000
SUMMARY:HE NLB Gr. 2 ABTT vs Rapid Luzern (9)
UID:40c8d144-5bc7-4d79-a150-10b5efd59c1a
STATUS:CONFIRMED
LAST-MODIFIED:20241031T083043Z
DESCRIPTION:Herren Nationalliga B Gruppe 2\nBegegnungs-Nr: 9\nHeim: ABTT\nGast: Rapid Luzern\n\nAdresse: Francesco Chiesa 2a\, 6500 Bellinzona\n
LOCATION:Francesco Chiesa 2a\, 6500 Bellinzona
CATEGORIES:Saison 2024/25
END:VEVENT
BEGIN:VEVENT
DTSTAMP:20260424T231841Z
DTSTART;TZID=Europe/Berlin:20240907T150000
DTEND;TZID=Europe/Berlin:20240907T180000
SUMMARY:HE NLB Gr. 2 Rio-Star Muttenz II vs Rapid Luzern (3)
UID:e08e7cbe-a5bf-46ee-8c58-f4a771951b64
STATUS:CONFIRMED
LAST-MODIFIED:20240910T075459Z
DESCRIPTION:Herren Nationalliga B Gruppe 2\nBegegnungs-Nr: 3\nHeim: Rio-Star Muttenz II\nGast: Rapid Luzern\n\nAdresse: Gründenstrasse 32\, 4132 Muttenz\n
LOCATION:Gründenstrasse 32\, 4132 Muttenz
CATEGORIES:Saison 2024/25
END:VEVENT
BEGIN:VEVENT
DTSTAMP:20260424T231841Z
DTSTART;TZID=Europe/Berlin:20241208T150000
DTEND;TZID=Europe/Berlin:20241208T180000
SUMMARY:HE NLB Gr. 2 St. Gallen vs Rapid Luzern (27)
UID:c7ba6fdf-76e4-471b-a104-e25f452ed63f
STATUS:CONFIRMED
LAST-MODIFIED:20241211T124816Z
DESCRIPTION:Herren Nationalliga B Gruppe 2\nBegegnungs-Nr: 27\nHeim: St. Gallen\nGast: Rapid Luzern\n\nAdresse: Zilstrasse 61\, 9016 St.Gallen\n
LOCATION:Zilstrasse 61\, 9016 St.Gallen
CATEGORIES:Saison 2024/25
END:VEVENT
END:VCALENDAR
