BEGIN:VCALENDAR
PRODID:-//nuDatenautomaten//framework iCal4j //DE
VERSION:2.0
CALSCALE:GREGORIAN
BEGIN:VTIMEZONE
TZID:Europe/Berlin
LAST-MODIFIED:20260306T231828Z
TZURL:https://www.tzurl.org/zoneinfo/Europe/Berlin
X-LIC-LOCATION:Europe/Berlin
X-PROLEPTIC-TZNAME:LMT
BEGIN:STANDARD
TZNAME:CET
TZOFFSETFROM:+005328
TZOFFSETTO:+0100
DTSTART:18930401T000000
END:STANDARD
BEGIN:DAYLIGHT
TZNAME:CEST
TZOFFSETFROM:+0100
TZOFFSETTO:+0200
DTSTART:19160430T230000
RDATE:19400401T020000
RDATE:19430329T020000
RDATE:19460414T020000
RDATE:19470406T030000
RDATE:19480418T020000
RDATE:19490410T020000
RDATE:19800406T020000
END:DAYLIGHT
BEGIN:STANDARD
TZNAME:CET
TZOFFSETFROM:+0200
TZOFFSETTO:+0100
DTSTART:19161001T010000
RDATE:19421102T030000
RDATE:19431004T030000
RDATE:19441002T030000
RDATE:19451118T030000
RDATE:19461007T030000
END:STANDARD
BEGIN:DAYLIGHT
TZNAME:CEST
TZOFFSETFROM:+0100
TZOFFSETTO:+0200
DTSTART:19170416T020000
RRULE:FREQ=YEARLY;UNTIL=19180415T010000Z;BYMONTH=4;BYDAY=3MO
END:DAYLIGHT
BEGIN:STANDARD
TZNAME:CET
TZOFFSETFROM:+0200
TZOFFSETTO:+0100
DTSTART:19170917T030000
RRULE:FREQ=YEARLY;UNTIL=19180916T010000Z;BYMONTH=9;BYDAY=3MO
END:STANDARD
BEGIN:DAYLIGHT
TZNAME:CEST
TZOFFSETFROM:+0100
TZOFFSETTO:+0200
DTSTART:19440403T020000
RRULE:FREQ=YEARLY;UNTIL=19450402T010000Z;BYMONTH=4;BYDAY=1MO
END:DAYLIGHT
BEGIN:DAYLIGHT
TZNAME:CEMT
TZOFFSETFROM:+0200
TZOFFSETTO:+0300
DTSTART:19450524T020000
RDATE:19470511T030000
END:DAYLIGHT
BEGIN:DAYLIGHT
TZNAME:CEST
TZOFFSETFROM:+0300
TZOFFSETTO:+0200
DTSTART:19450924T030000
RDATE:19470629T030000
END:DAYLIGHT
BEGIN:STANDARD
TZNAME:CET
TZOFFSETFROM:+0100
TZOFFSETTO:+0100
DTSTART:19460101T000000
RDATE:19800101T000000
END:STANDARD
BEGIN:STANDARD
TZNAME:CET
TZOFFSETFROM:+0200
TZOFFSETTO:+0100
DTSTART:19471005T030000
RRULE:FREQ=YEARLY;UNTIL=19491002T010000Z;BYMONTH=10;BYDAY=1SU
END:STANDARD
BEGIN:STANDARD
TZNAME:CET
TZOFFSETFROM:+0200
TZOFFSETTO:+0100
DTSTART:19800928T030000
RRULE:FREQ=YEARLY;UNTIL=19950924T010000Z;BYMONTH=9;BYDAY=-1SU
END:STANDARD
BEGIN:DAYLIGHT
TZNAME:CEST
TZOFFSETFROM:+0100
TZOFFSETTO:+0200
DTSTART:19810329T020000
RRULE:FREQ=YEARLY;BYMONTH=3;BYDAY=-1SU
END:DAYLIGHT
BEGIN:STANDARD
TZNAME:CET
TZOFFSETFROM:+0200
TZOFFSETTO:+0100
DTSTART:19961027T030000
RRULE:FREQ=YEARLY;BYMONTH=10;BYDAY=-1SU
END:STANDARD
END:VTIMEZONE
BEGIN:VEVENT
DTSTAMP:20260425T005108Z
DTSTART;TZID=Europe/Berlin:20241221T153000
DTEND;TZID=Europe/Berlin:20241221T183000
SUMMARY:HE 3. Liga Gr. 3 Rapperswil-Jona V vs Winterthur II (0)
UID:01d9b3af-69f1-47f5-8a90-28f147326f3d
STATUS:CONFIRMED
LAST-MODIFIED:20241223T080933Z
DESCRIPTION:3. Liga Herren Gruppe 3\nBegegnungs-Nr: 0\nHeim: Rapperswil-Jona V\nGast: Winterthur II\n\nAdresse: Kreuzstrasse 43\, 8640 Rapperswil\n
LOCATION:Kreuzstrasse 43\, 8640 Rapperswil
CATEGORIES:Saison 2024/25
END:VEVENT
BEGIN:VEVENT
DTSTAMP:20260425T005108Z
DTSTART;TZID=Europe/Berlin:20241109T163000
DTEND;TZID=Europe/Berlin:20241109T193000
SUMMARY:HE 3. Liga Gr. 3 Rapperswil-Jona V vs Uster II (0)
UID:3c72e846-4e48-4656-b054-cf3df70eed70
STATUS:CONFIRMED
LAST-MODIFIED:20241114T070828Z
DESCRIPTION:3. Liga Herren Gruppe 3\nBegegnungs-Nr: 0\nHeim: Rapperswil-Jona V\nGast: Uster II\n\nAdresse: Kreuzstrasse 43\, 8640 Rapperswil\n
LOCATION:Kreuzstrasse 43\, 8640 Rapperswil
CATEGORIES:Saison 2024/25
END:VEVENT
BEGIN:VEVENT
DTSTAMP:20260425T005108Z
DTSTART;TZID=Europe/Berlin:20240921T163000
DTEND;TZID=Europe/Berlin:20240921T193000
SUMMARY:HE 3. Liga Gr. 3 Rapperswil-Jona V vs Young Stars ZH VI (0)
UID:5fb00563-3016-4221-b26c-1eb8bb5e2596
STATUS:CONFIRMED
LAST-MODIFIED:20240926T113554Z
DESCRIPTION:3. Liga Herren Gruppe 3\nBegegnungs-Nr: 0\nHeim: Rapperswil-Jona V\nGast: Young Stars ZH VI\n\nAdresse: Kreuzstrasse 43\, 8640 Rapperswil\n
LOCATION:Kreuzstrasse 43\, 8640 Rapperswil
CATEGORIES:Saison 2024/25
END:VEVENT
BEGIN:VEVENT
DTSTAMP:20260425T005108Z
DTSTART;TZID=Europe/Berlin:20240907T153000
DTEND;TZID=Europe/Berlin:20240907T183000
SUMMARY:HE 3. Liga Gr. 3 Rapperswil-Jona V vs Dübendorf-Volketswil (0)
UID:74945a9b-e6cf-49b0-ab29-a0c66f04c1e4
STATUS:CONFIRMED
LAST-MODIFIED:20240912T074449Z
DESCRIPTION:3. Liga Herren Gruppe 3\nBegegnungs-Nr: 0\nHeim: Rapperswil-Jona V\nGast: Dübendorf-Volketswil\n\nAdresse: Kreuzstrasse 43\, 8640 Rapperswil\n
LOCATION:Kreuzstrasse 43\, 8640 Rapperswil
CATEGORIES:Saison 2024/25
END:VEVENT
BEGIN:VEVENT
DTSTAMP:20260425T005108Z
DTSTART;TZID=Europe/Berlin:20250308T140000
DTEND;TZID=Europe/Berlin:20250308T170000
SUMMARY:HE 3. Liga Gr. 3 Rapperswil-Jona V vs Wetzikon VI (0)
UID:3d604f14-2f6e-4ade-9c51-db9434682a52
STATUS:CONFIRMED
LAST-MODIFIED:20250311T145029Z
DESCRIPTION:3. Liga Herren Gruppe 3\nBegegnungs-Nr: 0\nHeim: Rapperswil-Jona V\nGast: Wetzikon VI\n\nAdresse: Kreuzstrasse 43\, 8640 Rapperswil\n
LOCATION:Kreuzstrasse 43\, 8640 Rapperswil
CATEGORIES:Saison 2024/25
END:VEVENT
BEGIN:VEVENT
DTSTAMP:20260425T005108Z
DTSTART;TZID=Europe/Berlin:20250215T140000
DTEND;TZID=Europe/Berlin:20250215T170000
SUMMARY:HE 3. Liga Gr. 3 Rapperswil-Jona V vs Embrachertal (0)
UID:7430b467-1688-4961-8a92-76c4c71b7657
STATUS:CONFIRMED
LAST-MODIFIED:20250219T112755Z
DESCRIPTION:3. Liga Herren Gruppe 3\nBegegnungs-Nr: 0\nHeim: Rapperswil-Jona V\nGast: Embrachertal\n\nAdresse: Kreuzstrasse 43\, 8640 Rapperswil\n
LOCATION:Kreuzstrasse 43\, 8640 Rapperswil
CATEGORIES:Saison 2024/25
END:VEVENT
BEGIN:VEVENT
DTSTAMP:20260425T005108Z
DTSTART;TZID=Europe/Berlin:20241221T130000
DTEND;TZID=Europe/Berlin:20241221T160000
SUMMARY:HE 3. Liga Gr. 3 Rapperswil-Jona V vs Wallenwil (0)
UID:caa85a29-f6e1-4a0f-b4c1-914195fe83e1
STATUS:CONFIRMED
LAST-MODIFIED:20241223T080918Z
DESCRIPTION:3. Liga Herren Gruppe 3\nBegegnungs-Nr: 0\nHeim: Rapperswil-Jona V\nGast: Wallenwil\n\nAdresse: Kreuzstrasse 43\, 8640 Rapperswil\n
LOCATION:Kreuzstrasse 43\, 8640 Rapperswil
CATEGORIES:Saison 2024/25
END:VEVENT
BEGIN:VEVENT
DTSTAMP:20260425T005108Z
DTSTART;TZID=Europe/Berlin:20241101T194500
DTEND;TZID=Europe/Berlin:20241101T224500
SUMMARY:HE 3. Liga Gr. 3 Wetzikon VI vs Rapperswil-Jona V (0)
UID:8433417e-8643-47ec-97c1-ba5b5eb004c1
STATUS:CONFIRMED
LAST-MODIFIED:20241107T154108Z
DESCRIPTION:3. Liga Herren Gruppe 3\nBegegnungs-Nr: 0\nHeim: Wetzikon VI\nGast: Rapperswil-Jona V\n\nAdresse: Usterstrasse 37\, 8620 Wetzikon\n
LOCATION:Usterstrasse 37\, 8620 Wetzikon
CATEGORIES:Saison 2024/25
END:VEVENT
BEGIN:VEVENT
DTSTAMP:20260425T005108Z
DTSTART;TZID=Europe/Berlin:20240926T200000
DTEND;TZID=Europe/Berlin:20240926T230000
SUMMARY:HE 3. Liga Gr. 3 Embrachertal vs Rapperswil-Jona V (0)
UID:73e73bea-b92a-42c7-a378-32cb9c2099ff
STATUS:CONFIRMED
LAST-MODIFIED:20240930T124426Z
DESCRIPTION:3. Liga Herren Gruppe 3\nBegegnungs-Nr: 0\nHeim: Embrachertal\nGast: Rapperswil-Jona V\n\nAdresse: Schützenhausstrasse 20\, 8424 Embrach\n
LOCATION:Schützenhausstrasse 20\, 8424 Embrach
CATEGORIES:Saison 2024/25
END:VEVENT
BEGIN:VEVENT
DTSTAMP:20260425T005108Z
DTSTART;TZID=Europe/Berlin:20240905T201500
DTEND;TZID=Europe/Berlin:20240905T231500
SUMMARY:HE 3. Liga Gr. 3 Wallenwil vs Rapperswil-Jona V (0)
UID:efd50633-e8ab-487e-9f00-7efcbc5dd170
STATUS:CONFIRMED
LAST-MODIFIED:20240906T095641Z
DESCRIPTION:3. Liga Herren Gruppe 3\nBegegnungs-Nr: 0\nHeim: Wallenwil\nGast: Rapperswil-Jona V\n\nAdresse: Stationsstrasse 29\, 8360 Wallenwil\n
LOCATION:Stationsstrasse 29\, 8360 Wallenwil
CATEGORIES:Saison 2024/25
END:VEVENT
BEGIN:VEVENT
DTSTAMP:20260425T005108Z
DTSTART;TZID=Europe/Berlin:20250327T200000
DTEND;TZID=Europe/Berlin:20250327T230000
SUMMARY:HE 3. Liga Gr. 3 Winterthur II vs Rapperswil-Jona V (0)
UID:f2b49d9d-c965-4d4d-b0c0-c465906575dd
STATUS:CONFIRMED
LAST-MODIFIED:20250402T102016Z
DESCRIPTION:3. Liga Herren Gruppe 3\nBegegnungs-Nr: 0\nHeim: Winterthur II\nGast: Rapperswil-Jona V\n\nAdresse: Buchackerstrasse 54\, 8400 Winterthur\n
LOCATION:Buchackerstrasse 54\, 8400 Winterthur
CATEGORIES:Saison 2024/25
END:VEVENT
BEGIN:VEVENT
DTSTAMP:20260425T005108Z
DTSTART;TZID=Europe/Berlin:20250311T201500
DTEND;TZID=Europe/Berlin:20250311T231500
SUMMARY:HE 3. Liga Gr. 3 Uster II vs Rapperswil-Jona V (0)
UID:0b9482e7-e53a-48c2-826a-52532a184de6
STATUS:CONFIRMED
LAST-MODIFIED:20250312T145422Z
DESCRIPTION:3. Liga Herren Gruppe 3\nBegegnungs-Nr: 0\nHeim: Uster II\nGast: Rapperswil-Jona V\n\nAdresse: Wilstrasse 30 / Zürcherstrasse\, 8610 Uster\n
LOCATION:Wilstrasse 30 / Zürcherstrasse\, 8610 Uster
CATEGORIES:Saison 2024/25
END:VEVENT
BEGIN:VEVENT
DTSTAMP:20260425T005108Z
DTSTART;TZID=Europe/Berlin:20250319T201500
DTEND;TZID=Europe/Berlin:20250319T231500
SUMMARY:HE 3. Liga Gr. 3 Young Stars ZH VI vs Rapperswil-Jona V (0)
UID:b89368a1-9b0a-41f6-8020-2fb8572e6a5e
STATUS:CONFIRMED
LAST-MODIFIED:20250320T075525Z
DESCRIPTION:3. Liga Herren Gruppe 3\nBegegnungs-Nr: 0\nHeim: Young Stars ZH VI\nGast: Rapperswil-Jona V\n\nAdresse: Seefeldstrasse 93\, 8008 Zürich\n
LOCATION:Seefeldstrasse 93\, 8008 Zürich
CATEGORIES:Saison 2024/25
END:VEVENT
BEGIN:VEVENT
DTSTAMP:20260425T005108Z
DTSTART;TZID=Europe/Berlin:20250107T201500
DTEND;TZID=Europe/Berlin:20250107T231500
SUMMARY:HE 3. Liga Gr. 3 Dübendorf-Volketswil vs Rapperswil-Jona V (0)
UID:7523b980-6d35-47ec-b2ca-df159b772cce
STATUS:CONFIRMED
LAST-MODIFIED:20250110T150657Z
DESCRIPTION:3. Liga Herren Gruppe 3\nBegegnungs-Nr: 0\nHeim: Dübendorf-Volketswil\nGast: Rapperswil-Jona V\n\nAdresse: Dübendorfstrasse 46\, 8602 Wangen ZH\n
LOCATION:Dübendorfstrasse 46\, 8602 Wangen ZH
CATEGORIES:Saison 2024/25
END:VEVENT
END:VCALENDAR
