BEGIN:VCALENDAR
PRODID:-//nuDatenautomaten//framework iCal4j //DE
VERSION:2.0
CALSCALE:GREGORIAN
BEGIN:VTIMEZONE
TZID:Europe/Berlin
LAST-MODIFIED:20260306T231828Z
TZURL:https://www.tzurl.org/zoneinfo/Europe/Berlin
X-LIC-LOCATION:Europe/Berlin
X-PROLEPTIC-TZNAME:LMT
BEGIN:STANDARD
TZNAME:CET
TZOFFSETFROM:+005328
TZOFFSETTO:+0100
DTSTART:18930401T000000
END:STANDARD
BEGIN:DAYLIGHT
TZNAME:CEST
TZOFFSETFROM:+0100
TZOFFSETTO:+0200
DTSTART:19160430T230000
RDATE:19400401T020000
RDATE:19430329T020000
RDATE:19460414T020000
RDATE:19470406T030000
RDATE:19480418T020000
RDATE:19490410T020000
RDATE:19800406T020000
END:DAYLIGHT
BEGIN:STANDARD
TZNAME:CET
TZOFFSETFROM:+0200
TZOFFSETTO:+0100
DTSTART:19161001T010000
RDATE:19421102T030000
RDATE:19431004T030000
RDATE:19441002T030000
RDATE:19451118T030000
RDATE:19461007T030000
END:STANDARD
BEGIN:DAYLIGHT
TZNAME:CEST
TZOFFSETFROM:+0100
TZOFFSETTO:+0200
DTSTART:19170416T020000
RRULE:FREQ=YEARLY;UNTIL=19180415T010000Z;BYMONTH=4;BYDAY=3MO
END:DAYLIGHT
BEGIN:STANDARD
TZNAME:CET
TZOFFSETFROM:+0200
TZOFFSETTO:+0100
DTSTART:19170917T030000
RRULE:FREQ=YEARLY;UNTIL=19180916T010000Z;BYMONTH=9;BYDAY=3MO
END:STANDARD
BEGIN:DAYLIGHT
TZNAME:CEST
TZOFFSETFROM:+0100
TZOFFSETTO:+0200
DTSTART:19440403T020000
RRULE:FREQ=YEARLY;UNTIL=19450402T010000Z;BYMONTH=4;BYDAY=1MO
END:DAYLIGHT
BEGIN:DAYLIGHT
TZNAME:CEMT
TZOFFSETFROM:+0200
TZOFFSETTO:+0300
DTSTART:19450524T020000
RDATE:19470511T030000
END:DAYLIGHT
BEGIN:DAYLIGHT
TZNAME:CEST
TZOFFSETFROM:+0300
TZOFFSETTO:+0200
DTSTART:19450924T030000
RDATE:19470629T030000
END:DAYLIGHT
BEGIN:STANDARD
TZNAME:CET
TZOFFSETFROM:+0100
TZOFFSETTO:+0100
DTSTART:19460101T000000
RDATE:19800101T000000
END:STANDARD
BEGIN:STANDARD
TZNAME:CET
TZOFFSETFROM:+0200
TZOFFSETTO:+0100
DTSTART:19471005T030000
RRULE:FREQ=YEARLY;UNTIL=19491002T010000Z;BYMONTH=10;BYDAY=1SU
END:STANDARD
BEGIN:STANDARD
TZNAME:CET
TZOFFSETFROM:+0200
TZOFFSETTO:+0100
DTSTART:19800928T030000
RRULE:FREQ=YEARLY;UNTIL=19950924T010000Z;BYMONTH=9;BYDAY=-1SU
END:STANDARD
BEGIN:DAYLIGHT
TZNAME:CEST
TZOFFSETFROM:+0100
TZOFFSETTO:+0200
DTSTART:19810329T020000
RRULE:FREQ=YEARLY;BYMONTH=3;BYDAY=-1SU
END:DAYLIGHT
BEGIN:STANDARD
TZNAME:CET
TZOFFSETFROM:+0200
TZOFFSETTO:+0100
DTSTART:19961027T030000
RRULE:FREQ=YEARLY;BYMONTH=10;BYDAY=-1SU
END:STANDARD
END:VTIMEZONE
BEGIN:VEVENT
DTSTAMP:20260425T004255Z
DTSTART;TZID=Europe/Berlin:20240919T194500
DTEND;TZID=Europe/Berlin:20240919T224500
SUMMARY:Ligue 4 Gr.4 Ph.A Rapid-Genève III vs Meyrin V (4)
UID:accae551-485c-4b68-b0a0-36615d03ccf3
STATUS:CONFIRMED
LAST-MODIFIED:20240920T083558Z
DESCRIPTION:4ème ligue Hommes Gr.4 Phase A\nBegegnungs-Nr: 4\nHeim: Rapid-Genève III\nGast: Meyrin V\n
LOCATION:
CATEGORIES:Saison 2024/25
END:VEVENT
BEGIN:VEVENT
DTSTAMP:20260425T004255Z
DTSTART;TZID=Europe/Berlin:20241128T194500
DTEND;TZID=Europe/Berlin:20241128T224500
SUMMARY:Ligue 4 Gr.4 Ph.A Rapid-Genève III vs ZZ-Lancy IX (26)
UID:7fbb6946-f212-4d61-96e9-f23e304217e1
STATUS:CONFIRMED
LAST-MODIFIED:20241129T072857Z
DESCRIPTION:4ème ligue Hommes Gr.4 Phase A\nBegegnungs-Nr: 26\nHeim: Rapid-Genève III\nGast: ZZ-Lancy IX\n
LOCATION:
CATEGORIES:Saison 2024/25
END:VEVENT
BEGIN:VEVENT
DTSTAMP:20260425T004255Z
DTSTART;TZID=Europe/Berlin:20241031T194500
DTEND;TZID=Europe/Berlin:20241031T224500
SUMMARY:Ligue 4 Gr.4 Ph.A Rapid-Genève III vs Châtelaine V (17)
UID:17164f65-577c-4311-9f20-59e4df4fff00
STATUS:CONFIRMED
LAST-MODIFIED:20241101T180208Z
DESCRIPTION:4ème ligue Hommes Gr.4 Phase A\nBegegnungs-Nr: 17\nHeim: Rapid-Genève III\nGast: Châtelaine V\n
LOCATION:
CATEGORIES:Saison 2024/25
END:VEVENT
BEGIN:VEVENT
DTSTAMP:20260425T004255Z
DTSTART;TZID=Europe/Berlin:20241017T194500
DTEND;TZID=Europe/Berlin:20241017T224500
SUMMARY:Ligue 4 Gr.4 Ph.A Rapid-Genève III vs UGS-Chênois IX (15)
UID:b57d4e2a-7fec-458b-8873-93ff81c45aea
STATUS:CONFIRMED
LAST-MODIFIED:20241018T100933Z
DESCRIPTION:4ème ligue Hommes Gr.4 Phase A\nBegegnungs-Nr: 15\nHeim: Rapid-Genève III\nGast: UGS-Chênois IX\n
LOCATION:
CATEGORIES:Saison 2024/25
END:VEVENT
BEGIN:VEVENT
DTSTAMP:20260425T004255Z
DTSTART;TZID=Europe/Berlin:20241121T194500
DTEND;TZID=Europe/Berlin:20241121T224500
SUMMARY:Ligue 4 Gr.4 Ph.A Rapid-Genève III vs Carouge VI (22)
UID:f456b7e5-494f-4552-a098-48de2fefbcb5
STATUS:CONFIRMED
LAST-MODIFIED:20241122T103801Z
DESCRIPTION:4ème ligue Hommes Gr.4 Phase A\nBegegnungs-Nr: 22\nHeim: Rapid-Genève III\nGast: Carouge VI\n
LOCATION:
CATEGORIES:Saison 2024/25
END:VEVENT
BEGIN:VEVENT
DTSTAMP:20260425T004255Z
DTSTART;TZID=Europe/Berlin:20250120T194500
DTEND;TZID=Europe/Berlin:20250120T224500
SUMMARY:Ligue 5 Gr.1 Ph.B Rapid-Genève III vs UGS-Chênois X (4)
UID:91df5c62-68c6-4ba1-af43-f3b7dbbbdbf4
STATUS:CONFIRMED
LAST-MODIFIED:20250121T081223Z
DESCRIPTION:5ème ligue Hommes Gr.1 Phase B\nBegegnungs-Nr: 4\nHeim: Rapid-Genève III\nGast: UGS-Chênois X\n
LOCATION:
CATEGORIES:Saison 2024/25
END:VEVENT
BEGIN:VEVENT
DTSTAMP:20260425T004255Z
DTSTART;TZID=Europe/Berlin:20250414T194500
DTEND;TZID=Europe/Berlin:20250414T224500
SUMMARY:Ligue 5 Gr.1 Ph.B Rapid-Genève III vs Grand-Saconnex V (20)
UID:2da9d8ec-d38d-4ae5-a43b-16ba977eb629
STATUS:CONFIRMED
LAST-MODIFIED:20250415T071918Z
DESCRIPTION:5ème ligue Hommes Gr.1 Phase B\nBegegnungs-Nr: 20\nHeim: Rapid-Genève III\nGast: Grand-Saconnex V\n
LOCATION:
CATEGORIES:Saison 2024/25
END:VEVENT
BEGIN:VEVENT
DTSTAMP:20260425T004255Z
DTSTART;TZID=Europe/Berlin:20250310T194500
DTEND;TZID=Europe/Berlin:20250310T224500
SUMMARY:Ligue 5 Gr.1 Ph.B Rapid-Genève III vs Châtelaine VIII (11)
UID:7b27bc39-788f-4724-a045-01b3cfa3e6d1
STATUS:CONFIRMED
LAST-MODIFIED:20250311T082907Z
DESCRIPTION:5ème ligue Hommes Gr.1 Phase B\nBegegnungs-Nr: 11\nHeim: Rapid-Genève III\nGast: Châtelaine VIII\n
LOCATION:
CATEGORIES:Saison 2024/25
END:VEVENT
BEGIN:VEVENT
DTSTAMP:20260425T004255Z
DTSTART;TZID=Europe/Berlin:20250210T194500
DTEND;TZID=Europe/Berlin:20250210T224500
SUMMARY:Ligue 5 Gr.1 Ph.B Rapid-Genève III vs Veyrier V (8)
UID:4fbd5480-0407-429d-8939-91a80d341567
STATUS:CONFIRMED
LAST-MODIFIED:20250211T085621Z
DESCRIPTION:5ème ligue Hommes Gr.1 Phase B\nBegegnungs-Nr: 8\nHeim: Rapid-Genève III\nGast: Veyrier V\n
LOCATION:
CATEGORIES:Saison 2024/25
END:VEVENT
BEGIN:VEVENT
DTSTAMP:20260425T004255Z
DTSTART;TZID=Europe/Berlin:20241212T194500
DTEND;TZID=Europe/Berlin:20241212T224500
SUMMARY:Barrage relég. Ph.A Veyrier III vs Rapid-Genève III (1)
UID:ab0a3f76-5d64-45f2-b986-225a19206264
STATUS:CONFIRMED
LAST-MODIFIED:20241213T072642Z
DESCRIPTION:Barrage relegation Phase A\nBegegnungs-Nr: 1\nHeim: Veyrier III\nGast: Rapid-Genève III\n
LOCATION:
CATEGORIES:Saison 2024/25
END:VEVENT
BEGIN:VEVENT
DTSTAMP:20260425T004255Z
DTSTART;TZID=Europe/Berlin:20241205T194500
DTEND;TZID=Europe/Berlin:20241205T224500
SUMMARY:Ligue 4 Gr.4 Ph.A UGS-Chênois IX vs Rapid-Genève III (30)
UID:61003c43-cff6-42c9-b1bb-0a2193e3176b
STATUS:CONFIRMED
LAST-MODIFIED:20241207T122001Z
DESCRIPTION:4ème ligue Hommes Gr.4 Phase A\nBegegnungs-Nr: 30\nHeim: UGS-Chênois IX\nGast: Rapid-Genève III\n
LOCATION:
CATEGORIES:Saison 2024/25
END:VEVENT
BEGIN:VEVENT
DTSTAMP:20260425T004255Z
DTSTART;TZID=Europe/Berlin:20241114T194500
DTEND;TZID=Europe/Berlin:20241114T224500
SUMMARY:Ligue 4 Gr.4 Ph.A Meyrin V vs Rapid-Genève III (19)
UID:023d2e19-b735-42f6-84fc-e0b1dc733816
STATUS:CONFIRMED
LAST-MODIFIED:20241115T103006Z
DESCRIPTION:4ème ligue Hommes Gr.4 Phase A\nBegegnungs-Nr: 19\nHeim: Meyrin V\nGast: Rapid-Genève III\n
LOCATION:
CATEGORIES:Saison 2024/25
END:VEVENT
BEGIN:VEVENT
DTSTAMP:20260425T004255Z
DTSTART;TZID=Europe/Berlin:20240912T200000
DTEND;TZID=Europe/Berlin:20240912T230000
SUMMARY:Ligue 4 Gr.4 Ph.A Châtelaine V vs Rapid-Genève III (2)
UID:63025c26-631e-4865-9d39-cdc453e0e54f
STATUS:CONFIRMED
LAST-MODIFIED:20240913T063437Z
DESCRIPTION:4ème ligue Hommes Gr.4 Phase A\nBegegnungs-Nr: 2\nHeim: Châtelaine V\nGast: Rapid-Genève III\n
LOCATION:
CATEGORIES:Saison 2024/25
END:VEVENT
BEGIN:VEVENT
DTSTAMP:20260425T004255Z
DTSTART;TZID=Europe/Berlin:20241010T200000
DTEND;TZID=Europe/Berlin:20241010T230000
SUMMARY:Ligue 4 Gr.4 Ph.A ZZ-Lancy IX vs Rapid-Genève III (11)
UID:44b48c43-4582-4cf7-a1ff-7533f21a116c
STATUS:CONFIRMED
LAST-MODIFIED:20241011T072350Z
DESCRIPTION:4ème ligue Hommes Gr.4 Phase A\nBegegnungs-Nr: 11\nHeim: ZZ-Lancy IX\nGast: Rapid-Genève III\n
LOCATION:
CATEGORIES:Saison 2024/25
END:VEVENT
BEGIN:VEVENT
DTSTAMP:20260425T004255Z
DTSTART;TZID=Europe/Berlin:20240926T194500
DTEND;TZID=Europe/Berlin:20240926T224500
SUMMARY:Ligue 4 Gr.4 Ph.A Carouge VI vs Rapid-Genève III (7)
UID:f4cedbb1-a5a7-4412-b5ff-8615c4297a69
STATUS:CONFIRMED
LAST-MODIFIED:20240927T103405Z
DESCRIPTION:4ème ligue Hommes Gr.4 Phase A\nBegegnungs-Nr: 7\nHeim: Carouge VI\nGast: Rapid-Genève III\n
LOCATION:
CATEGORIES:Saison 2024/25
END:VEVENT
BEGIN:VEVENT
DTSTAMP:20260425T004255Z
DTSTART;TZID=Europe/Berlin:20250407T194500
DTEND;TZID=Europe/Berlin:20250407T224500
SUMMARY:Ligue 5 Gr.1 Ph.B Veyrier V vs Rapid-Genève III (18)
UID:d5b97f92-3a80-447c-baae-acdc87e9a821
STATUS:CONFIRMED
LAST-MODIFIED:20250408T071927Z
DESCRIPTION:5ème ligue Hommes Gr.1 Phase B\nBegegnungs-Nr: 18\nHeim: Veyrier V\nGast: Rapid-Genève III\n\nAdresse: -\, 1255 Veyrier\n
LOCATION:-\, 1255 Veyrier
CATEGORIES:Saison 2024/25
END:VEVENT
BEGIN:VEVENT
DTSTAMP:20260425T004255Z
DTSTART;TZID=Europe/Berlin:20250319T194500
DTEND;TZID=Europe/Berlin:20250319T224500
SUMMARY:Ligue 5 Gr.1 Ph.B UGS-Chênois X vs Rapid-Genève III (14)
UID:c3779c0e-643b-4365-94b4-bef7715b3dbc
STATUS:CONFIRMED
LAST-MODIFIED:20250320T074734Z
DESCRIPTION:5ème ligue Hommes Gr.1 Phase B\nBegegnungs-Nr: 14\nHeim: UGS-Chênois X\nGast: Rapid-Genève III\n
LOCATION:
CATEGORIES:Saison 2024/25
END:VEVENT
BEGIN:VEVENT
DTSTAMP:20260425T004255Z
DTSTART;TZID=Europe/Berlin:20250115T194500
DTEND;TZID=Europe/Berlin:20250115T224500
SUMMARY:Ligue 5 Gr.1 Ph.B Châtelaine VIII vs Rapid-Genève III (1)
UID:44932205-6d45-4b10-9387-0f955762478f
STATUS:CONFIRMED
LAST-MODIFIED:20250116T090726Z
DESCRIPTION:5ème ligue Hommes Gr.1 Phase B\nBegegnungs-Nr: 1\nHeim: Châtelaine VIII\nGast: Rapid-Genève III\n
LOCATION:
CATEGORIES:Saison 2024/25
END:VEVENT
BEGIN:VEVENT
DTSTAMP:20260425T004255Z
DTSTART;TZID=Europe/Berlin:20250217T194500
DTEND;TZID=Europe/Berlin:20250217T224500
SUMMARY:Ligue 5 Gr.1 Ph.B Grand-Saconnex V vs Rapid-Genève III (10)
UID:f2a3b580-0668-4d6c-82f6-f892e0574224
STATUS:CONFIRMED
LAST-MODIFIED:20250218T090903Z
DESCRIPTION:5ème ligue Hommes Gr.1 Phase B\nBegegnungs-Nr: 10\nHeim: Grand-Saconnex V\nGast: Rapid-Genève III\n
LOCATION:
CATEGORIES:Saison 2024/25
END:VEVENT
END:VCALENDAR
