BEGIN:VCALENDAR
PRODID:-//nuDatenautomaten//framework iCal4j //DE
VERSION:2.0
CALSCALE:GREGORIAN
BEGIN:VTIMEZONE
TZID:Europe/Berlin
LAST-MODIFIED:20260306T231828Z
TZURL:https://www.tzurl.org/zoneinfo/Europe/Berlin
X-LIC-LOCATION:Europe/Berlin
X-PROLEPTIC-TZNAME:LMT
BEGIN:STANDARD
TZNAME:CET
TZOFFSETFROM:+005328
TZOFFSETTO:+0100
DTSTART:18930401T000000
END:STANDARD
BEGIN:DAYLIGHT
TZNAME:CEST
TZOFFSETFROM:+0100
TZOFFSETTO:+0200
DTSTART:19160430T230000
RDATE:19400401T020000
RDATE:19430329T020000
RDATE:19460414T020000
RDATE:19470406T030000
RDATE:19480418T020000
RDATE:19490410T020000
RDATE:19800406T020000
END:DAYLIGHT
BEGIN:STANDARD
TZNAME:CET
TZOFFSETFROM:+0200
TZOFFSETTO:+0100
DTSTART:19161001T010000
RDATE:19421102T030000
RDATE:19431004T030000
RDATE:19441002T030000
RDATE:19451118T030000
RDATE:19461007T030000
END:STANDARD
BEGIN:DAYLIGHT
TZNAME:CEST
TZOFFSETFROM:+0100
TZOFFSETTO:+0200
DTSTART:19170416T020000
RRULE:FREQ=YEARLY;UNTIL=19180415T010000Z;BYMONTH=4;BYDAY=3MO
END:DAYLIGHT
BEGIN:STANDARD
TZNAME:CET
TZOFFSETFROM:+0200
TZOFFSETTO:+0100
DTSTART:19170917T030000
RRULE:FREQ=YEARLY;UNTIL=19180916T010000Z;BYMONTH=9;BYDAY=3MO
END:STANDARD
BEGIN:DAYLIGHT
TZNAME:CEST
TZOFFSETFROM:+0100
TZOFFSETTO:+0200
DTSTART:19440403T020000
RRULE:FREQ=YEARLY;UNTIL=19450402T010000Z;BYMONTH=4;BYDAY=1MO
END:DAYLIGHT
BEGIN:DAYLIGHT
TZNAME:CEMT
TZOFFSETFROM:+0200
TZOFFSETTO:+0300
DTSTART:19450524T020000
RDATE:19470511T030000
END:DAYLIGHT
BEGIN:DAYLIGHT
TZNAME:CEST
TZOFFSETFROM:+0300
TZOFFSETTO:+0200
DTSTART:19450924T030000
RDATE:19470629T030000
END:DAYLIGHT
BEGIN:STANDARD
TZNAME:CET
TZOFFSETFROM:+0100
TZOFFSETTO:+0100
DTSTART:19460101T000000
RDATE:19800101T000000
END:STANDARD
BEGIN:STANDARD
TZNAME:CET
TZOFFSETFROM:+0200
TZOFFSETTO:+0100
DTSTART:19471005T030000
RRULE:FREQ=YEARLY;UNTIL=19491002T010000Z;BYMONTH=10;BYDAY=1SU
END:STANDARD
BEGIN:STANDARD
TZNAME:CET
TZOFFSETFROM:+0200
TZOFFSETTO:+0100
DTSTART:19800928T030000
RRULE:FREQ=YEARLY;UNTIL=19950924T010000Z;BYMONTH=9;BYDAY=-1SU
END:STANDARD
BEGIN:DAYLIGHT
TZNAME:CEST
TZOFFSETFROM:+0100
TZOFFSETTO:+0200
DTSTART:19810329T020000
RRULE:FREQ=YEARLY;BYMONTH=3;BYDAY=-1SU
END:DAYLIGHT
BEGIN:STANDARD
TZNAME:CET
TZOFFSETFROM:+0200
TZOFFSETTO:+0100
DTSTART:19961027T030000
RRULE:FREQ=YEARLY;BYMONTH=10;BYDAY=-1SU
END:STANDARD
END:VTIMEZONE
BEGIN:VEVENT
DTSTAMP:20260425T005110Z
DTSTART;TZID=Europe/Berlin:20250508T200000
DTEND;TZID=Europe/Berlin:20250508T230000
SUMMARY:HE 5.Liga Abstieg Steckborn-Homburg V vs Buchs Zürich IV (552)
UID:1fdcc709-78c9-42e5-a42d-e840cd2de9d2
STATUS:CONFIRMED
LAST-MODIFIED:20250514T095041Z
DESCRIPTION:5. Liga Herren Abstieg.\nBegegnungs-Nr: 552\nHeim: Steckborn-Homburg V\nGast: Buchs Zürich IV\n
LOCATION:
CATEGORIES:Saison 2024/25
END:VEVENT
BEGIN:VEVENT
DTSTAMP:20260425T005110Z
DTSTART;TZID=Europe/Berlin:20240905T201500
DTEND;TZID=Europe/Berlin:20240905T231500
SUMMARY:HE 5. Liga Gr. 3 Steckborn-Homburg V vs Winterthur V (0)
UID:7bb7ba4f-a863-4d34-9f61-c401c28d1477
STATUS:CONFIRMED
LAST-MODIFIED:20240906T095947Z
DESCRIPTION:5. Liga Herren Gruppe 3\nBegegnungs-Nr: 0\nHeim: Steckborn-Homburg V\nGast: Winterthur V\n\nAdresse: Feldbach\, 8266 Steckborn\n
LOCATION:Feldbach\, 8266 Steckborn
CATEGORIES:Saison 2024/25
END:VEVENT
BEGIN:VEVENT
DTSTAMP:20260425T005110Z
DTSTART;TZID=Europe/Berlin:20250327T201500
DTEND;TZID=Europe/Berlin:20250327T231500
SUMMARY:HE 5. Liga Gr. 3 Steckborn-Homburg V vs Bülach IV (0)
UID:21c0b371-d902-470c-abf1-48393ab40fc1
STATUS:CONFIRMED
LAST-MODIFIED:20250404T083234Z
DESCRIPTION:5. Liga Herren Gruppe 3\nBegegnungs-Nr: 0\nHeim: Steckborn-Homburg V\nGast: Bülach IV\n\nAdresse: Feldbach\, 8266 Steckborn\n
LOCATION:Feldbach\, 8266 Steckborn
CATEGORIES:Saison 2024/25
END:VEVENT
BEGIN:VEVENT
DTSTAMP:20260425T005110Z
DTSTART;TZID=Europe/Berlin:20250313T201500
DTEND;TZID=Europe/Berlin:20250313T231500
SUMMARY:HE 5. Liga Gr. 3 Steckborn-Homburg V vs Imperial Winterthur II (0)
UID:01c5594d-6322-4515-9492-582cf6e7f7ee
STATUS:CONFIRMED
LAST-MODIFIED:20250314T124225Z
DESCRIPTION:5. Liga Herren Gruppe 3\nBegegnungs-Nr: 0\nHeim: Steckborn-Homburg V\nGast: Imperial Winterthur II\n\nAdresse: Feldbach\, 8266 Steckborn\n
LOCATION:Feldbach\, 8266 Steckborn
CATEGORIES:Saison 2024/25
END:VEVENT
BEGIN:VEVENT
DTSTAMP:20260425T005110Z
DTSTART;TZID=Europe/Berlin:20250213T201500
DTEND;TZID=Europe/Berlin:20250213T231500
SUMMARY:HE 5. Liga Gr. 3 Steckborn-Homburg V vs Neuhausen VI (0)
UID:83ec98d8-e189-47d9-b656-24c517898293
STATUS:CONFIRMED
LAST-MODIFIED:20250219T132916Z
DESCRIPTION:5. Liga Herren Gruppe 3\nBegegnungs-Nr: 0\nHeim: Steckborn-Homburg V\nGast: Neuhausen VI\n\nAdresse: Feldbach\, 8266 Steckborn\n
LOCATION:Feldbach\, 8266 Steckborn
CATEGORIES:Saison 2024/25
END:VEVENT
BEGIN:VEVENT
DTSTAMP:20260425T005110Z
DTSTART;TZID=Europe/Berlin:20250109T201500
DTEND;TZID=Europe/Berlin:20250109T231500
SUMMARY:HE 5. Liga Gr. 3 Steckborn-Homburg V vs Embrachertal IV (0)
UID:5e0388ce-6814-48cf-a94f-aa55e7ad3058
STATUS:CONFIRMED
LAST-MODIFIED:20250110T151428Z
DESCRIPTION:5. Liga Herren Gruppe 3\nBegegnungs-Nr: 0\nHeim: Steckborn-Homburg V\nGast: Embrachertal IV\n\nAdresse: Feldbach\, 8266 Steckborn\n
LOCATION:Feldbach\, 8266 Steckborn
CATEGORIES:Saison 2024/25
END:VEVENT
BEGIN:VEVENT
DTSTAMP:20260425T005110Z
DTSTART;TZID=Europe/Berlin:20241031T201500
DTEND;TZID=Europe/Berlin:20241031T231500
SUMMARY:HE 5. Liga Gr. 3 Steckborn-Homburg V vs Neuhausen VII (0)
UID:dc994a9f-6d6a-40a8-9eaa-aafd920b137d
STATUS:CONFIRMED
LAST-MODIFIED:20241108T140858Z
DESCRIPTION:5. Liga Herren Gruppe 3\nBegegnungs-Nr: 0\nHeim: Steckborn-Homburg V\nGast: Neuhausen VII\n\nAdresse: Feldbach\, 8266 Steckborn\n
LOCATION:Feldbach\, 8266 Steckborn
CATEGORIES:Saison 2024/25
END:VEVENT
BEGIN:VEVENT
DTSTAMP:20260425T005110Z
DTSTART;TZID=Europe/Berlin:20240926T201500
DTEND;TZID=Europe/Berlin:20240926T231500
SUMMARY:HE 5. Liga Gr. 3 Steckborn-Homburg V vs Schaffhausen (0)
UID:01d88b6d-f27c-4492-aa16-78050d1f0cad
STATUS:CONFIRMED
LAST-MODIFIED:20240930T125019Z
DESCRIPTION:5. Liga Herren Gruppe 3\nBegegnungs-Nr: 0\nHeim: Steckborn-Homburg V\nGast: Schaffhausen\n\nAdresse: Feldbach\, 8266 Steckborn\n
LOCATION:Feldbach\, 8266 Steckborn
CATEGORIES:Saison 2024/25
END:VEVENT
BEGIN:VEVENT
DTSTAMP:20260425T005110Z
DTSTART;TZID=Europe/Berlin:20240918T200000
DTEND;TZID=Europe/Berlin:20240918T230000
SUMMARY:HE 5. Liga Gr. 3 Neuhausen VI vs Steckborn-Homburg V (0)
UID:5019956e-560c-4d1a-a40d-8135fac202e4
STATUS:CONFIRMED
LAST-MODIFIED:20240919T151645Z
DESCRIPTION:5. Liga Herren Gruppe 3\nBegegnungs-Nr: 0\nHeim: Neuhausen VI\nGast: Steckborn-Homburg V\n\nAdresse: Ebnatstrasse 35\, 8200 Schaffhausen\n
LOCATION:Ebnatstrasse 35\, 8200 Schaffhausen
CATEGORIES:Saison 2024/25
END:VEVENT
BEGIN:VEVENT
DTSTAMP:20260425T005110Z
DTSTART;TZID=Europe/Berlin:20240827T193000
DTEND;TZID=Europe/Berlin:20240827T223000
SUMMARY:HE 5. Liga Gr. 3 Embrachertal IV vs Steckborn-Homburg V (0)
UID:39b23831-f1a3-4ec5-88f0-78547f2f44a3
STATUS:CONFIRMED
LAST-MODIFIED:20240828T083938Z
DESCRIPTION:5. Liga Herren Gruppe 3\nBegegnungs-Nr: 0\nHeim: Embrachertal IV\nGast: Steckborn-Homburg V\n\nAdresse: Hintermarchlenstrasse 31 + 33\, 8426 Lufingen\n
LOCATION:Hintermarchlenstrasse 31 + 33\, 8426 Lufingen
CATEGORIES:Saison 2024/25
END:VEVENT
BEGIN:VEVENT
DTSTAMP:20260425T005110Z
DTSTART;TZID=Europe/Berlin:20250305T200000
DTEND;TZID=Europe/Berlin:20250305T230000
SUMMARY:HE 5. Liga Gr. 3 Neuhausen VII vs Steckborn-Homburg V (0)
UID:1fc9426a-af61-4163-b883-306e8934b825
STATUS:CONFIRMED
LAST-MODIFIED:20250306T142632Z
DESCRIPTION:5. Liga Herren Gruppe 3\nBegegnungs-Nr: 0\nHeim: Neuhausen VII\nGast: Steckborn-Homburg V\n\nAdresse: Ebnatstrasse 35\, 8200 Schaffhausen\n
LOCATION:Ebnatstrasse 35\, 8200 Schaffhausen
CATEGORIES:Saison 2024/25
END:VEVENT
BEGIN:VEVENT
DTSTAMP:20260425T005110Z
DTSTART;TZID=Europe/Berlin:20250210T193000
DTEND;TZID=Europe/Berlin:20250210T223000
SUMMARY:HE 5. Liga Gr. 3 Schaffhausen vs Steckborn-Homburg V (0)
UID:4d01bce3-d1bf-423e-ac55-d522c7f9fcef
STATUS:CONFIRMED
LAST-MODIFIED:20250213T132158Z
DESCRIPTION:5. Liga Herren Gruppe 3\nBegegnungs-Nr: 0\nHeim: Schaffhausen\nGast: Steckborn-Homburg V\n\nAdresse: Grünaustieg 30\, 8200 Schaffhausen\n
LOCATION:Grünaustieg 30\, 8200 Schaffhausen
CATEGORIES:Saison 2024/25
END:VEVENT
BEGIN:VEVENT
DTSTAMP:20260425T005110Z
DTSTART;TZID=Europe/Berlin:20250117T201500
DTEND;TZID=Europe/Berlin:20250117T231500
SUMMARY:HE 5. Liga Gr. 3 Winterthur V vs Steckborn-Homburg V (0)
UID:55500b19-1269-4d0d-a161-d0c4048bb88b
STATUS:CONFIRMED
LAST-MODIFIED:20250123T083017Z
DESCRIPTION:5. Liga Herren Gruppe 3\nBegegnungs-Nr: 0\nHeim: Winterthur V\nGast: Steckborn-Homburg V\n\nAdresse: Buchackerstrasse 54\, 8400 Winterthur\n
LOCATION:Buchackerstrasse 54\, 8400 Winterthur
CATEGORIES:Saison 2024/25
END:VEVENT
BEGIN:VEVENT
DTSTAMP:20260425T005110Z
DTSTART;TZID=Europe/Berlin:20241206T193000
DTEND;TZID=Europe/Berlin:20241206T223000
SUMMARY:HE 5. Liga Gr. 3 Bülach IV vs Steckborn-Homburg V (0)
UID:6b8e8caa-8f5c-4099-8e64-c5a6108984d5
STATUS:CONFIRMED
LAST-MODIFIED:20241211T093617Z
DESCRIPTION:5. Liga Herren Gruppe 3\nBegegnungs-Nr: 0\nHeim: Bülach IV\nGast: Steckborn-Homburg V\n\nAdresse: Schwerzgruebstrasse 28\, 8180 Bülach\n
LOCATION:Schwerzgruebstrasse 28\, 8180 Bülach
CATEGORIES:Saison 2024/25
END:VEVENT
BEGIN:VEVENT
DTSTAMP:20260425T005110Z
DTSTART;TZID=Europe/Berlin:20241107T200000
DTEND;TZID=Europe/Berlin:20241107T230000
SUMMARY:HE 5. Liga Gr. 3 Imperial Winterthur II vs Steckborn-Homburg V (0)
UID:ca555610-7e78-41df-8466-16d65b48a374
STATUS:CONFIRMED
LAST-MODIFIED:20241108T141658Z
DESCRIPTION:5. Liga Herren Gruppe 3\nBegegnungs-Nr: 0\nHeim: Imperial Winterthur II\nGast: Steckborn-Homburg V\n\nAdresse: Büelhofstrasse 25a\, 8405 Winterthur\n
LOCATION:Büelhofstrasse 25a\, 8405 Winterthur
CATEGORIES:Saison 2024/25
END:VEVENT
END:VCALENDAR
