BEGIN:VCALENDAR
PRODID:-//nuDatenautomaten//framework iCal4j //DE
VERSION:2.0
CALSCALE:GREGORIAN
BEGIN:VTIMEZONE
TZID:Europe/Berlin
LAST-MODIFIED:20260306T231828Z
TZURL:https://www.tzurl.org/zoneinfo/Europe/Berlin
X-LIC-LOCATION:Europe/Berlin
X-PROLEPTIC-TZNAME:LMT
BEGIN:STANDARD
TZNAME:CET
TZOFFSETFROM:+005328
TZOFFSETTO:+0100
DTSTART:18930401T000000
END:STANDARD
BEGIN:DAYLIGHT
TZNAME:CEST
TZOFFSETFROM:+0100
TZOFFSETTO:+0200
DTSTART:19160430T230000
RDATE:19400401T020000
RDATE:19430329T020000
RDATE:19460414T020000
RDATE:19470406T030000
RDATE:19480418T020000
RDATE:19490410T020000
RDATE:19800406T020000
END:DAYLIGHT
BEGIN:STANDARD
TZNAME:CET
TZOFFSETFROM:+0200
TZOFFSETTO:+0100
DTSTART:19161001T010000
RDATE:19421102T030000
RDATE:19431004T030000
RDATE:19441002T030000
RDATE:19451118T030000
RDATE:19461007T030000
END:STANDARD
BEGIN:DAYLIGHT
TZNAME:CEST
TZOFFSETFROM:+0100
TZOFFSETTO:+0200
DTSTART:19170416T020000
RRULE:FREQ=YEARLY;UNTIL=19180415T010000Z;BYMONTH=4;BYDAY=3MO
END:DAYLIGHT
BEGIN:STANDARD
TZNAME:CET
TZOFFSETFROM:+0200
TZOFFSETTO:+0100
DTSTART:19170917T030000
RRULE:FREQ=YEARLY;UNTIL=19180916T010000Z;BYMONTH=9;BYDAY=3MO
END:STANDARD
BEGIN:DAYLIGHT
TZNAME:CEST
TZOFFSETFROM:+0100
TZOFFSETTO:+0200
DTSTART:19440403T020000
RRULE:FREQ=YEARLY;UNTIL=19450402T010000Z;BYMONTH=4;BYDAY=1MO
END:DAYLIGHT
BEGIN:DAYLIGHT
TZNAME:CEMT
TZOFFSETFROM:+0200
TZOFFSETTO:+0300
DTSTART:19450524T020000
RDATE:19470511T030000
END:DAYLIGHT
BEGIN:DAYLIGHT
TZNAME:CEST
TZOFFSETFROM:+0300
TZOFFSETTO:+0200
DTSTART:19450924T030000
RDATE:19470629T030000
END:DAYLIGHT
BEGIN:STANDARD
TZNAME:CET
TZOFFSETFROM:+0100
TZOFFSETTO:+0100
DTSTART:19460101T000000
RDATE:19800101T000000
END:STANDARD
BEGIN:STANDARD
TZNAME:CET
TZOFFSETFROM:+0200
TZOFFSETTO:+0100
DTSTART:19471005T030000
RRULE:FREQ=YEARLY;UNTIL=19491002T010000Z;BYMONTH=10;BYDAY=1SU
END:STANDARD
BEGIN:STANDARD
TZNAME:CET
TZOFFSETFROM:+0200
TZOFFSETTO:+0100
DTSTART:19800928T030000
RRULE:FREQ=YEARLY;UNTIL=19950924T010000Z;BYMONTH=9;BYDAY=-1SU
END:STANDARD
BEGIN:DAYLIGHT
TZNAME:CEST
TZOFFSETFROM:+0100
TZOFFSETTO:+0200
DTSTART:19810329T020000
RRULE:FREQ=YEARLY;BYMONTH=3;BYDAY=-1SU
END:DAYLIGHT
BEGIN:STANDARD
TZNAME:CET
TZOFFSETFROM:+0200
TZOFFSETTO:+0100
DTSTART:19961027T030000
RRULE:FREQ=YEARLY;BYMONTH=10;BYDAY=-1SU
END:STANDARD
END:VTIMEZONE
BEGIN:VEVENT
DTSTAMP:20260425T003724Z
DTSTART;TZID=Europe/Berlin:20250108T194500
DTEND;TZID=Europe/Berlin:20250108T224500
SUMMARY:Ligue 3 Gr.2 Puplinge II vs UGS-Chênois III (16)
UID:c2186dc8-6888-480b-8a00-cbda7aa60a64
STATUS:CONFIRMED
LAST-MODIFIED:20250109T092326Z
DESCRIPTION:3ème ligue O40 2ème Groupe\nBegegnungs-Nr: 16\nHeim: Puplinge II\nGast: UGS-Chênois III\n\nAdresse: Chemin de la Brenaz\,  15\, 1241 Puplinge\n
LOCATION:Chemin de la Brenaz\,  15\, 1241 Puplinge
CATEGORIES:Saison 2024/25
END:VEVENT
BEGIN:VEVENT
DTSTAMP:20260425T003724Z
DTSTART;TZID=Europe/Berlin:20241211T194500
DTEND;TZID=Europe/Berlin:20241211T224500
SUMMARY:Ligue 3 Gr.2 Puplinge II vs Grand-Saconnex II (11)
UID:9073e745-33c6-4082-a4b6-cffbe28ea3e2
STATUS:CONFIRMED
LAST-MODIFIED:20241212T102527Z
DESCRIPTION:3ème ligue O40 2ème Groupe\nBegegnungs-Nr: 11\nHeim: Puplinge II\nGast: Grand-Saconnex II\n\nAdresse: Chemin de la Brenaz\,  15\, 1241 Puplinge\n
LOCATION:Chemin de la Brenaz\,  15\, 1241 Puplinge
CATEGORIES:Saison 2024/25
END:VEVENT
BEGIN:VEVENT
DTSTAMP:20260425T003724Z
DTSTART;TZID=Europe/Berlin:20241002T194500
DTEND;TZID=Europe/Berlin:20241002T224500
SUMMARY:Ligue 3 Gr.2 Puplinge II vs Châtelaine III (5)
UID:96df195d-281b-441e-bb7d-3459772186ca
STATUS:CONFIRMED
LAST-MODIFIED:20241003T101643Z
DESCRIPTION:3ème ligue O40 2ème Groupe\nBegegnungs-Nr: 5\nHeim: Puplinge II\nGast: Châtelaine III\n\nAdresse: Chemin de la Brenaz\,  15\, 1241 Puplinge\n
LOCATION:Chemin de la Brenaz\,  15\, 1241 Puplinge
CATEGORIES:Saison 2024/25
END:VEVENT
BEGIN:VEVENT
DTSTAMP:20260425T003724Z
DTSTART;TZID=Europe/Berlin:20250507T194500
DTEND;TZID=Europe/Berlin:20250507T224500
SUMMARY:Ligue 3 Gr.2 Puplinge II vs Meyrin II (29)
UID:524d82c1-39f7-4cd7-bcfe-ab3d3afbd7a1
STATUS:CONFIRMED
LAST-MODIFIED:20250508T100410Z
DESCRIPTION:3ème ligue O40 2ème Groupe\nBegegnungs-Nr: 29\nHeim: Puplinge II\nGast: Meyrin II\n\nAdresse: Chemin de la Brenaz\,  15\, 1241 Puplinge\n
LOCATION:Chemin de la Brenaz\,  15\, 1241 Puplinge
CATEGORIES:Saison 2024/25
END:VEVENT
BEGIN:VEVENT
DTSTAMP:20260425T003724Z
DTSTART;TZID=Europe/Berlin:20250326T194500
DTEND;TZID=Europe/Berlin:20250326T224500
SUMMARY:Ligue 3 Gr.2 Grand-Saconnex II vs Puplinge II (26)
UID:bad3b0f7-7dbb-42ad-a6a8-44ef4eba9506
STATUS:CONFIRMED
LAST-MODIFIED:20250327T115622Z
DESCRIPTION:3ème ligue O40 2ème Groupe\nBegegnungs-Nr: 26\nHeim: Grand-Saconnex II\nGast: Puplinge II\n
LOCATION:
CATEGORIES:Saison 2024/25
END:VEVENT
BEGIN:VEVENT
DTSTAMP:20260425T003724Z
DTSTART;TZID=Europe/Berlin:20250205T194500
DTEND;TZID=Europe/Berlin:20250205T224500
SUMMARY:Ligue 3 Gr.2 Châtelaine III vs Puplinge II (20)
UID:5ca5995a-65e6-4219-b9ca-391384e51834
STATUS:CONFIRMED
LAST-MODIFIED:20250206T085534Z
DESCRIPTION:3ème ligue O40 2ème Groupe\nBegegnungs-Nr: 20\nHeim: Châtelaine III\nGast: Puplinge II\n
LOCATION:
CATEGORIES:Saison 2024/25
END:VEVENT
BEGIN:VEVENT
DTSTAMP:20260425T003724Z
DTSTART;TZID=Europe/Berlin:20240904T194500
DTEND;TZID=Europe/Berlin:20240904T224500
SUMMARY:Ligue 3 Gr.2 UGS-Chênois III vs Puplinge II (1)
UID:8eee4dad-5dd2-4343-8226-4178807b2fe6
STATUS:CONFIRMED
LAST-MODIFIED:20240905T122428Z
DESCRIPTION:3ème ligue O40 2ème Groupe\nBegegnungs-Nr: 1\nHeim: UGS-Chênois III\nGast: Puplinge II\n
LOCATION:
CATEGORIES:Saison 2024/25
END:VEVENT
BEGIN:VEVENT
DTSTAMP:20260425T003724Z
DTSTART;TZID=Europe/Berlin:20241218T194500
DTEND;TZID=Europe/Berlin:20241218T224500
SUMMARY:Ligue 3 Gr.2 Meyrin II vs Puplinge II (14)
UID:cbc09c52-4165-4f87-a140-6928a2d7991a
STATUS:CONFIRMED
LAST-MODIFIED:20241219T152844Z
DESCRIPTION:3ème ligue O40 2ème Groupe\nBegegnungs-Nr: 14\nHeim: Meyrin II\nGast: Puplinge II\n
LOCATION:
CATEGORIES:Saison 2024/25
END:VEVENT
END:VCALENDAR
